Back to Multiple platform build/check report for BioC 3.19:   simplified   long
ABCDEFGHIJKLMNO[P]QRSTUVWXYZ

This page was generated on 2024-06-14 14:38 -0400 (Fri, 14 Jun 2024).

HostnameOSArch (*)R versionInstalled pkgs
nebbiolo1Linux (Ubuntu 22.04.3 LTS)x86_644.4.0 (2024-04-24) -- "Puppy Cup" 4757
palomino3Windows Server 2022 Datacenterx644.4.0 (2024-04-24 ucrt) -- "Puppy Cup" 4491
Click on any hostname to see more info about the system (e.g. compilers)      (*) as reported by 'uname -p', except on Windows and Mac OS X

Package 1534/2300HostnameOS / ArchINSTALLBUILDCHECKBUILD BIN
pdInfoBuilder 1.68.0  (landing page)
Benilton Carvalho
Snapshot Date: 2024-06-12 14:00 -0400 (Wed, 12 Jun 2024)
git_url: https://git.bioconductor.org/packages/pdInfoBuilder
git_branch: RELEASE_3_19
git_last_commit: 5fb57f8
git_last_commit_date: 2024-04-30 10:16:19 -0400 (Tue, 30 Apr 2024)
nebbiolo1Linux (Ubuntu 22.04.3 LTS) / x86_64  OK    OK    OK  UNNEEDED, same version is already published
palomino3Windows Server 2022 Datacenter / x64  OK    OK    OK    OK  UNNEEDED, same version is already published


BUILD BIN results for pdInfoBuilder on palomino3

To the developers/maintainers of the pdInfoBuilder package:
- Allow up to 24 hours (and sometimes 48 hours) for your latest push to git@git.bioconductor.org:packages/pdInfoBuilder.git to reflect on this report. See Troubleshooting Build Report for more information.
- Use the following Renviron settings to reproduce errors and warnings.
- If 'R CMD check' started to fail recently on the Linux builder(s) over a missing dependency, add the missing dependency to 'Suggests:' in your DESCRIPTION file. See Renviron.bioc for more information.

raw results


Summary

Package: pdInfoBuilder
Version: 1.68.0
Command: rm -rf pdInfoBuilder.buildbin-libdir && mkdir pdInfoBuilder.buildbin-libdir && F:\biocbuild\bbs-3.19-bioc\R\bin\R.exe CMD INSTALL --build --library=pdInfoBuilder.buildbin-libdir pdInfoBuilder_1.68.0.tar.gz
StartedAt: 2024-06-13 16:40:09 -0400 (Thu, 13 Jun 2024)
EndedAt: 2024-06-13 16:42:27 -0400 (Thu, 13 Jun 2024)
EllapsedTime: 137.9 seconds
RetCode: 0
Status:   OK  
PackageFile: pdInfoBuilder_1.68.0.zip
PackageFileSize: 835.6 KiB

Command output

##############################################################################
##############################################################################
###
### Running command:
###
###   rm -rf pdInfoBuilder.buildbin-libdir && mkdir pdInfoBuilder.buildbin-libdir && F:\biocbuild\bbs-3.19-bioc\R\bin\R.exe CMD INSTALL --build --library=pdInfoBuilder.buildbin-libdir pdInfoBuilder_1.68.0.tar.gz
###
##############################################################################
##############################################################################


* installing *source* package 'pdInfoBuilder' ...
** using staged installation
** libs
using C compiler: 'gcc.exe (GCC) 13.2.0'
gcc  -I"F:/biocbuild/bbs-3.19-bioc/R/include" -DNDEBUG     -I"C:/rtools44/x86_64-w64-mingw32.static.posix/include"     -O2 -Wall  -mfpmath=sse -msse2 -mstackrealign  -c pdInfoBuilder.c -o pdInfoBuilder.o
gcc -shared -s -static-libgcc -o pdInfoBuilder.dll tmp.def pdInfoBuilder.o -LC:/rtools44/x86_64-w64-mingw32.static.posix/lib/x64 -LC:/rtools44/x86_64-w64-mingw32.static.posix/lib -LF:/biocbuild/bbs-3.19-bioc/R/bin/x64 -lR
installing to F:/biocbuild/bbs-3.19-bioc/meat/pdInfoBuilder.buildbin-libdir/00LOCK-pdInfoBuilder/00new/pdInfoBuilder/libs/x64
** R
** inst
** byte-compile and prepare package for lazy loading
No methods found in package 'RSQLite' for request: 'dbGetQuery' when loading 'pdInfoBuilder'
** help
*** installing help indices
** building package indices
** installing vignettes
** testing if installed package can be loaded from temporary location
No methods found in package 'RSQLite' for request: 'dbGetQuery' when loading 'pdInfoBuilder'
** testing if installed package can be loaded from final location
No methods found in package 'RSQLite' for request: 'dbGetQuery' when loading 'pdInfoBuilder'
** testing if installed package keeps a record of temporary installation path
* MD5 sums
packaged installation of 'pdInfoBuilder' as pdInfoBuilder_1.68.0.zip
* DONE (pdInfoBuilder)