Back to Multiple platform build/check report for BioC 3.18:   simplified   long
ABCDEFGHIJKLMN[O]PQRSTUVWXYZ

This page was generated on 2024-02-29 11:38:03 -0500 (Thu, 29 Feb 2024).

HostnameOSArch (*)R versionInstalled pkgs
nebbiolo2Linux (Ubuntu 22.04.3 LTS)x86_644.3.2 Patched (2023-11-13 r85521) -- "Eye Holes" 4692
palomino4Windows Server 2022 Datacenterx644.3.2 (2023-10-31 ucrt) -- "Eye Holes" 4445
lconwaymacOS 12.7.1 Montereyx86_644.3.2 Patched (2023-11-01 r85457) -- "Eye Holes" 4466
Click on any hostname to see more info about the system (e.g. compilers)      (*) as reported by 'uname -p', except on Windows and Mac OS X

Package 1437/2266HostnameOS / ArchINSTALLBUILDCHECKBUILD BIN
oligo 1.66.0  (landing page)
Benilton Carvalho
Snapshot Date: 2024-02-28 14:05:05 -0500 (Wed, 28 Feb 2024)
git_url: https://git.bioconductor.org/packages/oligo
git_branch: RELEASE_3_18
git_last_commit: e6e7283
git_last_commit_date: 2023-10-24 09:35:20 -0500 (Tue, 24 Oct 2023)
nebbiolo2Linux (Ubuntu 22.04.3 LTS) / x86_64  OK    OK    WARNINGS  UNNEEDED, same version is already published
palomino4Windows Server 2022 Datacenter / x64  OK    OK    WARNINGS    OK  UNNEEDED, same version is already published
lconwaymacOS 12.7.1 Monterey / x86_64  OK    OK    WARNINGS    OK  UNNEEDED, same version is already published
kjohnson1macOS 13.6.1 Ventura / arm64see weekly results here

INSTALL results for oligo on lconway


To the developers/maintainers of the oligo package:
- Allow up to 24 hours (and sometimes 48 hours) for your latest push to git@git.bioconductor.org:packages/oligo.git to reflect on this report. See Troubleshooting Build Report for more information.
- Use the following Renviron settings to reproduce errors and warnings.
- If 'R CMD check' started to fail recently on the Linux builder(s) over a missing dependency, add the missing dependency to 'Suggests:' in your DESCRIPTION file. See Renviron.bioc for more information.

raw results


Summary

Package: oligo
Version: 1.66.0
Command: /Library/Frameworks/R.framework/Resources/bin/R CMD INSTALL oligo
StartedAt: 2024-02-28 15:11:37 -0500 (Wed, 28 Feb 2024)
EndedAt: 2024-02-28 15:12:25 -0500 (Wed, 28 Feb 2024)
EllapsedTime: 48.5 seconds
RetCode: 0
Status:   OK  

Command output

##############################################################################
##############################################################################
###
### Running command:
###
###   /Library/Frameworks/R.framework/Resources/bin/R CMD INSTALL oligo
###
##############################################################################
##############################################################################


* installing to library ‘/Library/Frameworks/R.framework/Versions/4.3-x86_64/Resources/library’
* installing *source* package ‘oligo’ ...
** using staged installation
** libs
using C compiler: ‘Apple clang version 14.0.0 (clang-1400.0.29.202)’
using SDK: ‘MacOSX11.3.sdk’
clang -arch x86_64 -I"/Library/Frameworks/R.framework/Resources/include" -DNDEBUG  -I'/Library/Frameworks/R.framework/Versions/4.3-x86_64/Resources/library/preprocessCore/include' -I/opt/R/x86_64/include    -fPIC  -falign-functions=64 -Wall -g -O2  -c DABG.c -o DABG.o
clang -arch x86_64 -I"/Library/Frameworks/R.framework/Resources/include" -DNDEBUG  -I'/Library/Frameworks/R.framework/Versions/4.3-x86_64/Resources/library/preprocessCore/include' -I/opt/R/x86_64/include    -fPIC  -falign-functions=64 -Wall -g -O2  -c ParserGzXYS.c -o ParserGzXYS.o
ParserGzXYS.c:18:17: warning: incompatible pointer types passing 'gzFile *' (aka 'struct gzFile_s **') to parameter of type 'gzFile' (aka 'struct gzFile_s *'); dereference with * [-Wincompatible-pointer-types]
  while (!gzeof(file)){
                ^~~~
                *
/Library/Developer/CommandLineTools/SDKs/MacOSX11.sdk/usr/include/zlib.h:1608:38: note: passing argument to parameter 'file' here
ZEXTERN int ZEXPORT gzeof OF((gzFile file));
                                     ^
ParserGzXYS.c:19:12: warning: incompatible pointer types passing 'gzFile *' (aka 'struct gzFile_s **') to parameter of type 'gzFile' (aka 'struct gzFile_s *'); dereference with * [-Wincompatible-pointer-types]
    gzgets(file, buffer, 1000);
           ^~~~
           *
/Library/Developer/CommandLineTools/SDKs/MacOSX11.sdk/usr/include/zlib.h:1505:42: note: passing argument to parameter 'file' here
ZEXTERN char * ZEXPORT gzgets OF((gzFile file, char *buf, int len));
                                         ^
ParserGzXYS.c:46:6: warning: incompatible pointer types assigning to 'gzFile *' (aka 'struct gzFile_s **') from 'gzFile' (aka 'struct gzFile_s *') [-Wincompatible-pointer-types]
  fp = gzopen(currentFile, "rb");
     ^ ~~~~~~~~~~~~~~~~~~~~~~~~~
ParserGzXYS.c:50:10: warning: incompatible pointer types passing 'gzFile *' (aka 'struct gzFile_s **') to parameter of type 'gzFile' (aka 'struct gzFile_s *'); dereference with * [-Wincompatible-pointer-types]
  gzgets(fp, buffer, LINEMAX);
         ^~
         *
/Library/Developer/CommandLineTools/SDKs/MacOSX11.sdk/usr/include/zlib.h:1505:42: note: passing argument to parameter 'file' here
ZEXTERN char * ZEXPORT gzgets OF((gzFile file, char *buf, int len));
                                         ^
ParserGzXYS.c:51:11: warning: incompatible pointer types passing 'gzFile *' (aka 'struct gzFile_s **') to parameter of type 'gzFile' (aka 'struct gzFile_s *'); dereference with * [-Wincompatible-pointer-types]
  gzclose(fp);
          ^~
          *
/Library/Developer/CommandLineTools/SDKs/MacOSX11.sdk/usr/include/zlib.h:1644:43: note: passing argument to parameter 'file' here
ZEXTERN int ZEXPORT    gzclose OF((gzFile file));
                                          ^
ParserGzXYS.c:134:6: warning: incompatible pointer types assigning to 'gzFile *' (aka 'struct gzFile_s **') from 'gzFile' (aka 'struct gzFile_s *') [-Wincompatible-pointer-types]
  fp = gzopen(CHAR(STRING_ELT(filenames, 0)), "rb");
     ^ ~~~~~~~~~~~~~~~~~~~~~~~~~~~~~~~~~~~~~~~~~~~~
ParserGzXYS.c:138:11: warning: incompatible pointer types passing 'gzFile *' (aka 'struct gzFile_s **') to parameter of type 'gzFile' (aka 'struct gzFile_s *'); dereference with * [-Wincompatible-pointer-types]
  gzclose(fp);
          ^~
          *
/Library/Developer/CommandLineTools/SDKs/MacOSX11.sdk/usr/include/zlib.h:1644:43: note: passing argument to parameter 'file' here
ZEXTERN int ZEXPORT    gzclose OF((gzFile file));
                                          ^
7 warnings generated.
clang -arch x86_64 -I"/Library/Frameworks/R.framework/Resources/include" -DNDEBUG  -I'/Library/Frameworks/R.framework/Versions/4.3-x86_64/Resources/library/preprocessCore/include' -I/opt/R/x86_64/include    -fPIC  -falign-functions=64 -Wall -g -O2  -c ParserXYS.c -o ParserXYS.o
clang -arch x86_64 -I"/Library/Frameworks/R.framework/Resources/include" -DNDEBUG  -I'/Library/Frameworks/R.framework/Versions/4.3-x86_64/Resources/library/preprocessCore/include' -I/opt/R/x86_64/include    -fPIC  -falign-functions=64 -Wall -g -O2  -c baseProfile.c -o baseProfile.o
clang -arch x86_64 -I"/Library/Frameworks/R.framework/Resources/include" -DNDEBUG  -I'/Library/Frameworks/R.framework/Versions/4.3-x86_64/Resources/library/preprocessCore/include' -I/opt/R/x86_64/include    -fPIC  -falign-functions=64 -Wall -g -O2  -c basecontent.c -o basecontent.o
clang -arch x86_64 -I"/Library/Frameworks/R.framework/Resources/include" -DNDEBUG  -I'/Library/Frameworks/R.framework/Versions/4.3-x86_64/Resources/library/preprocessCore/include' -I/opt/R/x86_64/include    -fPIC  -falign-functions=64 -Wall -g -O2  -c chipbackground.c -o chipbackground.o
clang -arch x86_64 -I"/Library/Frameworks/R.framework/Resources/include" -DNDEBUG  -I'/Library/Frameworks/R.framework/Versions/4.3-x86_64/Resources/library/preprocessCore/include' -I/opt/R/x86_64/include    -fPIC  -falign-functions=64 -Wall -g -O2  -c mas5calls.c -o mas5calls.o
clang -arch x86_64 -I"/Library/Frameworks/R.framework/Resources/include" -DNDEBUG  -I'/Library/Frameworks/R.framework/Versions/4.3-x86_64/Resources/library/preprocessCore/include' -I/opt/R/x86_64/include    -fPIC  -falign-functions=64 -Wall -g -O2  -c rma2.c -o rma2.o
clang -arch x86_64 -I"/Library/Frameworks/R.framework/Resources/include" -DNDEBUG  -I'/Library/Frameworks/R.framework/Versions/4.3-x86_64/Resources/library/preprocessCore/include' -I/opt/R/x86_64/include    -fPIC  -falign-functions=64 -Wall -g -O2  -c rma_common.c -o rma_common.o
clang -arch x86_64 -I"/Library/Frameworks/R.framework/Resources/include" -DNDEBUG  -I'/Library/Frameworks/R.framework/Versions/4.3-x86_64/Resources/library/preprocessCore/include' -I/opt/R/x86_64/include    -fPIC  -falign-functions=64 -Wall -g -O2  -c trimmed.c -o trimmed.o
clang -arch x86_64 -dynamiclib -Wl,-headerpad_max_install_names -undefined dynamic_lookup -L/Library/Frameworks/R.framework/Resources/lib -L/opt/R/x86_64/lib -o oligo.so DABG.o ParserGzXYS.o ParserXYS.o baseProfile.o basecontent.o chipbackground.o mas5calls.o rma2.o rma_common.o trimmed.o -lz -L/opt/gfortran/lib/gcc/x86_64-apple-darwin20.0/12.2.0 -L/opt/gfortran/lib -lgfortran -lquadmath -L/Library/Frameworks/R.framework/Resources/lib -lRlapack -L/Library/Frameworks/R.framework/Resources/lib -lRblas -F/Library/Frameworks/R.framework/.. -framework R -Wl,-framework -Wl,CoreFoundation
installing to /Library/Frameworks/R.framework/Versions/4.3-x86_64/Resources/library/00LOCK-oligo/00new/oligo/libs
** R
** inst
** byte-compile and prepare package for lazy loading
Note: in method for ‘pm<-’ with signature
‘object="TilingFeatureSet",subset="ANY",target="ANY",value="array"’:
expanding the signature to include omitted arguments in definition:
subset = "missing", target = "missing"
Note: in method for ‘mm<-’ with signature
‘object="TilingFeatureSet",subset="ANY",target="ANY",value="array"’:
expanding the signature to include omitted arguments in definition:
subset = "missing", target = "missing"
** help
*** installing help indices
** building package indices
** installing vignettes
** testing if installed package can be loaded from temporary location
** checking absolute paths in shared objects and dynamic libraries
** testing if installed package can be loaded from final location
** testing if installed package keeps a record of temporary installation path
* DONE (oligo)