Back to Multiple platform build/check report for BioC 3.11
ABCDEFGHIJKLMN[O]PQRSTUVWXYZ

Multiple platform build/check report for BioC 3.11

Results for oligo

This page was generated on 2020-07-06 13:36:00 -0400 (Mon, 06 Jul 2020).

Package 1215/1905HostnameOS / ArchINSTALLBUILDCHECKBUILD BIN
oligo 1.52.0
Benilton Carvalho
Snapshot Date: 2020-07-05 15:50:20 -0400 (Sun, 05 Jul 2020)
URL: https://git.bioconductor.org/packages/oligo
Branch: RELEASE_3_11
Last Commit: 14fee5c
Last Changed Date: 2020-04-27 14:11:38 -0400 (Mon, 27 Apr 2020)
malbec2 Linux (Ubuntu 18.04.4 LTS) / x86_64  OK  OK  WARNINGS UNNEEDED, same version exists in internal repository
tokay2 Windows Server 2012 R2 Standard / x64  OK  OK  WARNINGS  OK UNNEEDED, same version exists in internal repository
machv2 macOS 10.14.6 Mojave / x86_64  OK  OK  WARNINGS  OK UNNEEDED, same version exists in internal repository