Back to Multiple platform build/check report for BioC 3.19:   simplified   long
ABCDEFGHIJKLM[N]OPQRSTUVWXYZ

This page was generated on 2024-06-14 14:38 -0400 (Fri, 14 Jun 2024).

HostnameOSArch (*)R versionInstalled pkgs
nebbiolo1Linux (Ubuntu 22.04.3 LTS)x86_644.4.0 (2024-04-24) -- "Puppy Cup" 4757
palomino3Windows Server 2022 Datacenterx644.4.0 (2024-04-24 ucrt) -- "Puppy Cup" 4491
Click on any hostname to see more info about the system (e.g. compilers)      (*) as reported by 'uname -p', except on Windows and Mac OS X

Package 1441/2300HostnameOS / ArchINSTALLBUILDCHECKBUILD BIN
npGSEA 1.40.0  (landing page)
Jessica Larson
Snapshot Date: 2024-06-12 14:00 -0400 (Wed, 12 Jun 2024)
git_url: https://git.bioconductor.org/packages/npGSEA
git_branch: RELEASE_3_19
git_last_commit: 8ecf0d2
git_last_commit_date: 2024-04-30 10:36:12 -0400 (Tue, 30 Apr 2024)
nebbiolo1Linux (Ubuntu 22.04.3 LTS) / x86_64  OK    OK    OK  UNNEEDED, same version is already published
palomino3Windows Server 2022 Datacenter / x64  OK    OK    OK    OK  UNNEEDED, same version is already published


BUILD BIN results for npGSEA on palomino3

To the developers/maintainers of the npGSEA package:
- Allow up to 24 hours (and sometimes 48 hours) for your latest push to git@git.bioconductor.org:packages/npGSEA.git to reflect on this report. See Troubleshooting Build Report for more information.
- Use the following Renviron settings to reproduce errors and warnings.
- If 'R CMD check' started to fail recently on the Linux builder(s) over a missing dependency, add the missing dependency to 'Suggests:' in your DESCRIPTION file. See Renviron.bioc for more information.

raw results


Summary

Package: npGSEA
Version: 1.40.0
Command: rm -rf npGSEA.buildbin-libdir && mkdir npGSEA.buildbin-libdir && F:\biocbuild\bbs-3.19-bioc\R\bin\R.exe CMD INSTALL --build --library=npGSEA.buildbin-libdir npGSEA_1.40.0.tar.gz
StartedAt: 2024-06-13 16:32:27 -0400 (Thu, 13 Jun 2024)
EndedAt: 2024-06-13 16:34:10 -0400 (Thu, 13 Jun 2024)
EllapsedTime: 102.9 seconds
RetCode: 0
Status:   OK  
PackageFile: npGSEA_1.40.0.zip
PackageFileSize: 636.2 KiB

Command output

##############################################################################
##############################################################################
###
### Running command:
###
###   rm -rf npGSEA.buildbin-libdir && mkdir npGSEA.buildbin-libdir && F:\biocbuild\bbs-3.19-bioc\R\bin\R.exe CMD INSTALL --build --library=npGSEA.buildbin-libdir npGSEA_1.40.0.tar.gz
###
##############################################################################
##############################################################################


* installing *source* package 'npGSEA' ...
** using staged installation
** R
** inst
** byte-compile and prepare package for lazy loading
No methods found in package 'BiocGenerics' for request: 'unlist' when loading 'npGSEA'
** help
*** installing help indices
** building package indices
** installing vignettes
** testing if installed package can be loaded from temporary location
No methods found in package 'BiocGenerics' for request: 'unlist' when loading 'npGSEA'
** testing if installed package can be loaded from final location
No methods found in package 'BiocGenerics' for request: 'unlist' when loading 'npGSEA'
** testing if installed package keeps a record of temporary installation path
* MD5 sums
packaged installation of 'npGSEA' as npGSEA_1.40.0.zip
* DONE (npGSEA)