Back to Multiple platform build/check report for BioC 3.12
ABCDEFGHIJK[L]MNOPQRSTUVWXYZ

Multiple platform build/check report for BioC 3.12

Results for lpsymphony

This page was generated on 2020-11-24 11:52:37 -0500 (Tue, 24 Nov 2020).

Package 976/1974HostnameOS / ArchINSTALLBUILDCHECKBUILD BIN
lpsymphony 1.18.0
Vladislav Kim
Snapshot Date: 2020-11-23 14:42:42 -0500 (Mon, 23 Nov 2020)
URL: https://git.bioconductor.org/packages/lpsymphony
Branch: RELEASE_3_12
Last Commit: e36fafe
Last Changed Date: 2020-10-27 11:10:03 -0500 (Tue, 27 Oct 2020)
malbec1 Linux (Ubuntu 18.04.4 LTS) / x86_64  OK  OK  OK UNNEEDED, same version exists in internal repository
nebbiolo1 Linux (Ubuntu 20.04.1 LTS) / x86_64  OK  OK  OK 
tokay1 Windows Server 2012 R2 Standard / x64  OK  OK  OK  OK UNNEEDED, same version exists in internal repository
merida1 macOS 10.14.6 Mojave / x86_64  OK  OK  OK  OK UNNEEDED, same version exists in internal repository