Back to Multiple platform build/check report for BioC 3.12
ABCDEFGHIJK[L]MNOPQRSTUVWXYZ

BUILD report for lpsymphony on merida1

This page was generated on 2021-01-19 11:57:43 -0500 (Tue, 19 Jan 2021).

TO THE DEVELOPERS/MAINTAINERS OF THE lpsymphony PACKAGE: Please make sure to use the following settings in order to reproduce any error or warning you see on this page.
Package 976/1974HostnameOS / ArchINSTALLBUILDCHECKBUILD BIN
lpsymphony 1.18.0
Vladislav Kim
Snapshot Date: 2021-01-18 14:42:24 -0500 (Mon, 18 Jan 2021)
URL: https://git.bioconductor.org/packages/lpsymphony
Branch: RELEASE_3_12
Last Commit: e36fafe
Last Changed Date: 2020-10-27 11:10:03 -0500 (Tue, 27 Oct 2020)
malbec1 Linux (Ubuntu 18.04.5 LTS) / x86_64  OK  OK  OK UNNEEDED, same version exists in internal repository
nebbiolo1 Linux (Ubuntu 20.04.1 LTS) / x86_64  OK  OK  OK 
tokay1 Windows Server 2012 R2 Standard / x64  OK  OK  OK  OK UNNEEDED, same version exists in internal repository
merida1 macOS 10.14.6 Mojave / x86_64  OK [ OK ] OK  OK UNNEEDED, same version exists in internal repository

Summary

Package: lpsymphony
Version: 1.18.0
Command: /Library/Frameworks/R.framework/Versions/Current/Resources/bin/R CMD build --keep-empty-dirs --no-resave-data lpsymphony
StartedAt: 2021-01-18 20:29:27 -0500 (Mon, 18 Jan 2021)
EndedAt: 2021-01-18 20:39:45 -0500 (Mon, 18 Jan 2021)
EllapsedTime: 617.6 seconds
RetCode: 0
Status:  OK 
PackageFile: lpsymphony_1.18.0.tar.gz
PackageFileSize: 14.99 MiB

Command output

##############################################################################
##############################################################################
###
### Running command:
###
###   /Library/Frameworks/R.framework/Versions/Current/Resources/bin/R CMD build --keep-empty-dirs --no-resave-data lpsymphony
###
##############################################################################
##############################################################################


* checking for file ‘lpsymphony/DESCRIPTION’ ... OK
* preparing ‘lpsymphony’:
* checking DESCRIPTION meta-information ... OK
* cleaning src
* running ‘cleanup’
* installing the package to build vignettes
* creating vignettes ... OK
* cleaning src
* running ‘cleanup’
* checking for LF line-endings in source and make files and shell scripts
* checking for empty or unneeded directories
* building ‘lpsymphony_1.18.0.tar.gz’