Back to Multiple platform build/check report for BioC 3.18:   simplified   long
ABCDE[F]GHIJKLMNOPQRSTUVWXYZ

This page was generated on 2024-03-02 11:37:26 -0500 (Sat, 02 Mar 2024).

HostnameOSArch (*)R versionInstalled pkgs
nebbiolo2Linux (Ubuntu 22.04.3 LTS)x86_644.3.2 Patched (2023-11-13 r85521) -- "Eye Holes" 4692
palomino4Windows Server 2022 Datacenterx644.3.2 (2023-10-31 ucrt) -- "Eye Holes" 4445
lconwaymacOS 12.7.1 Montereyx86_644.3.2 Patched (2023-11-01 r85457) -- "Eye Holes" 4466
Click on any hostname to see more info about the system (e.g. compilers)      (*) as reported by 'uname -p', except on Windows and Mac OS X

Package 745/2266HostnameOS / ArchINSTALLBUILDCHECKBUILD BIN
flowWorkspace 4.14.2  (landing page)
Greg Finak , Mike Jiang
Snapshot Date: 2024-03-01 14:05:09 -0500 (Fri, 01 Mar 2024)
git_url: https://git.bioconductor.org/packages/flowWorkspace
git_branch: RELEASE_3_18
git_last_commit: f47039b
git_last_commit_date: 2024-01-17 20:11:38 -0500 (Wed, 17 Jan 2024)
nebbiolo2Linux (Ubuntu 22.04.3 LTS) / x86_64  OK    ERROR  skipped
palomino4Windows Server 2022 Datacenter / x64  OK    ERROR  skippedskipped
lconwaymacOS 12.7.1 Monterey / x86_64  OK    ERROR  skippedskipped
kjohnson1macOS 13.6.1 Ventura / arm64see weekly results here

INSTALL results for flowWorkspace on lconway


To the developers/maintainers of the flowWorkspace package:
- Allow up to 24 hours (and sometimes 48 hours) for your latest push to git@git.bioconductor.org:packages/flowWorkspace.git to reflect on this report. See Troubleshooting Build Report for more information.
- Use the following Renviron settings to reproduce errors and warnings.
- If 'R CMD check' started to fail recently on the Linux builder(s) over a missing dependency, add the missing dependency to 'Suggests:' in your DESCRIPTION file. See Renviron.bioc for more information.

raw results


Summary

Package: flowWorkspace
Version: 4.14.2
Command: /Library/Frameworks/R.framework/Resources/bin/R CMD INSTALL flowWorkspace
StartedAt: 2024-03-01 15:16:32 -0500 (Fri, 01 Mar 2024)
EndedAt: 2024-03-01 15:19:05 -0500 (Fri, 01 Mar 2024)
EllapsedTime: 153.6 seconds
RetCode: 0
Status:   OK  

Command output

##############################################################################
##############################################################################
###
### Running command:
###
###   /Library/Frameworks/R.framework/Resources/bin/R CMD INSTALL flowWorkspace
###
##############################################################################
##############################################################################


* installing to library ‘/Library/Frameworks/R.framework/Versions/4.3-x86_64/Resources/library’
* installing *source* package ‘flowWorkspace’ ...
** using staged installation
** libs
using C++ compiler: ‘Apple clang version 14.0.0 (clang-1400.0.29.202)’
using C++17
using SDK: ‘MacOSX11.3.sdk’
clang++ -arch x86_64 -std=gnu++17 -I"/Library/Frameworks/R.framework/Resources/include" -DNDEBUG -DROUT -I../inst/include -DBOOST_NO_AUTO_PTR -Wno-pedantic  -w -Wfatal-errors -I'/Library/Frameworks/R.framework/Versions/4.3-x86_64/Resources/library/cpp11/include' -I'/Library/Frameworks/R.framework/Versions/4.3-x86_64/Resources/library/BH/include' -I'/Library/Frameworks/R.framework/Versions/4.3-x86_64/Resources/library/RProtoBufLib/include' -I'/Library/Frameworks/R.framework/Versions/4.3-x86_64/Resources/library/cytolib/include' -I'/Library/Frameworks/R.framework/Versions/4.3-x86_64/Resources/library/Rhdf5lib/include' -I/opt/R/x86_64/include    -fPIC  -falign-functions=64 -Wall -g -O2  -c R_API.cpp -o R_API.o
clang++ -arch x86_64 -std=gnu++17 -I"/Library/Frameworks/R.framework/Resources/include" -DNDEBUG -DROUT -I../inst/include -DBOOST_NO_AUTO_PTR -Wno-pedantic  -w -Wfatal-errors -I'/Library/Frameworks/R.framework/Versions/4.3-x86_64/Resources/library/cpp11/include' -I'/Library/Frameworks/R.framework/Versions/4.3-x86_64/Resources/library/BH/include' -I'/Library/Frameworks/R.framework/Versions/4.3-x86_64/Resources/library/RProtoBufLib/include' -I'/Library/Frameworks/R.framework/Versions/4.3-x86_64/Resources/library/cytolib/include' -I'/Library/Frameworks/R.framework/Versions/4.3-x86_64/Resources/library/Rhdf5lib/include' -I/opt/R/x86_64/include    -fPIC  -falign-functions=64 -Wall -g -O2  -c R_GatingHierarchy.cpp -o R_GatingHierarchy.o
clang++ -arch x86_64 -std=gnu++17 -I"/Library/Frameworks/R.framework/Resources/include" -DNDEBUG -DROUT -I../inst/include -DBOOST_NO_AUTO_PTR -Wno-pedantic  -w -Wfatal-errors -I'/Library/Frameworks/R.framework/Versions/4.3-x86_64/Resources/library/cpp11/include' -I'/Library/Frameworks/R.framework/Versions/4.3-x86_64/Resources/library/BH/include' -I'/Library/Frameworks/R.framework/Versions/4.3-x86_64/Resources/library/RProtoBufLib/include' -I'/Library/Frameworks/R.framework/Versions/4.3-x86_64/Resources/library/cytolib/include' -I'/Library/Frameworks/R.framework/Versions/4.3-x86_64/Resources/library/Rhdf5lib/include' -I/opt/R/x86_64/include    -fPIC  -falign-functions=64 -Wall -g -O2  -c R_GatingSet.cpp -o R_GatingSet.o
clang++ -arch x86_64 -std=gnu++17 -I"/Library/Frameworks/R.framework/Resources/include" -DNDEBUG -DROUT -I../inst/include -DBOOST_NO_AUTO_PTR -Wno-pedantic  -w -Wfatal-errors -I'/Library/Frameworks/R.framework/Versions/4.3-x86_64/Resources/library/cpp11/include' -I'/Library/Frameworks/R.framework/Versions/4.3-x86_64/Resources/library/BH/include' -I'/Library/Frameworks/R.framework/Versions/4.3-x86_64/Resources/library/RProtoBufLib/include' -I'/Library/Frameworks/R.framework/Versions/4.3-x86_64/Resources/library/cytolib/include' -I'/Library/Frameworks/R.framework/Versions/4.3-x86_64/Resources/library/Rhdf5lib/include' -I/opt/R/x86_64/include    -fPIC  -falign-functions=64 -Wall -g -O2  -c cpp11.cpp -o cpp11.o
clang++ -arch x86_64 -std=gnu++17 -I"/Library/Frameworks/R.framework/Resources/include" -DNDEBUG -DROUT -I../inst/include -DBOOST_NO_AUTO_PTR -Wno-pedantic  -w -Wfatal-errors -I'/Library/Frameworks/R.framework/Versions/4.3-x86_64/Resources/library/cpp11/include' -I'/Library/Frameworks/R.framework/Versions/4.3-x86_64/Resources/library/BH/include' -I'/Library/Frameworks/R.framework/Versions/4.3-x86_64/Resources/library/RProtoBufLib/include' -I'/Library/Frameworks/R.framework/Versions/4.3-x86_64/Resources/library/cytolib/include' -I'/Library/Frameworks/R.framework/Versions/4.3-x86_64/Resources/library/Rhdf5lib/include' -I/opt/R/x86_64/include    -fPIC  -falign-functions=64 -Wall -g -O2  -c cytoframeAPI.cpp -o cytoframeAPI.o
clang++ -arch x86_64 -std=gnu++17 -I"/Library/Frameworks/R.framework/Resources/include" -DNDEBUG -DROUT -I../inst/include -DBOOST_NO_AUTO_PTR -Wno-pedantic  -w -Wfatal-errors -I'/Library/Frameworks/R.framework/Versions/4.3-x86_64/Resources/library/cpp11/include' -I'/Library/Frameworks/R.framework/Versions/4.3-x86_64/Resources/library/BH/include' -I'/Library/Frameworks/R.framework/Versions/4.3-x86_64/Resources/library/RProtoBufLib/include' -I'/Library/Frameworks/R.framework/Versions/4.3-x86_64/Resources/library/cytolib/include' -I'/Library/Frameworks/R.framework/Versions/4.3-x86_64/Resources/library/Rhdf5lib/include' -I/opt/R/x86_64/include    -fPIC  -falign-functions=64 -Wall -g -O2  -c cytosetAPI.cpp -o cytosetAPI.o
clang++ -arch x86_64 -std=gnu++17 -I"/Library/Frameworks/R.framework/Resources/include" -DNDEBUG -DROUT -I../inst/include -DBOOST_NO_AUTO_PTR -Wno-pedantic  -w -Wfatal-errors -I'/Library/Frameworks/R.framework/Versions/4.3-x86_64/Resources/library/cpp11/include' -I'/Library/Frameworks/R.framework/Versions/4.3-x86_64/Resources/library/BH/include' -I'/Library/Frameworks/R.framework/Versions/4.3-x86_64/Resources/library/RProtoBufLib/include' -I'/Library/Frameworks/R.framework/Versions/4.3-x86_64/Resources/library/cytolib/include' -I'/Library/Frameworks/R.framework/Versions/4.3-x86_64/Resources/library/Rhdf5lib/include' -I/opt/R/x86_64/include    -fPIC  -falign-functions=64 -Wall -g -O2  -c getDescendants.cpp -o getDescendants.o
clang++ -arch x86_64 -std=gnu++17 -I"/Library/Frameworks/R.framework/Resources/include" -DNDEBUG -DROUT -I../inst/include -DBOOST_NO_AUTO_PTR -Wno-pedantic  -w -Wfatal-errors -I'/Library/Frameworks/R.framework/Versions/4.3-x86_64/Resources/library/cpp11/include' -I'/Library/Frameworks/R.framework/Versions/4.3-x86_64/Resources/library/BH/include' -I'/Library/Frameworks/R.framework/Versions/4.3-x86_64/Resources/library/RProtoBufLib/include' -I'/Library/Frameworks/R.framework/Versions/4.3-x86_64/Resources/library/cytolib/include' -I'/Library/Frameworks/R.framework/Versions/4.3-x86_64/Resources/library/Rhdf5lib/include' -I/opt/R/x86_64/include    -fPIC  -falign-functions=64 -Wall -g -O2  -c getPopStats.cpp -o getPopStats.o
clang++ -arch x86_64 -std=gnu++17 -I"/Library/Frameworks/R.framework/Resources/include" -DNDEBUG -DROUT -I../inst/include -DBOOST_NO_AUTO_PTR -Wno-pedantic  -w -Wfatal-errors -I'/Library/Frameworks/R.framework/Versions/4.3-x86_64/Resources/library/cpp11/include' -I'/Library/Frameworks/R.framework/Versions/4.3-x86_64/Resources/library/BH/include' -I'/Library/Frameworks/R.framework/Versions/4.3-x86_64/Resources/library/RProtoBufLib/include' -I'/Library/Frameworks/R.framework/Versions/4.3-x86_64/Resources/library/cytolib/include' -I'/Library/Frameworks/R.framework/Versions/4.3-x86_64/Resources/library/Rhdf5lib/include' -I/opt/R/x86_64/include    -fPIC  -falign-functions=64 -Wall -g -O2  -c getSingleCellExpression.cpp -o getSingleCellExpression.o
clang++ -arch x86_64 -std=gnu++17 -I"/Library/Frameworks/R.framework/Resources/include" -DNDEBUG -DROUT -I../inst/include -DBOOST_NO_AUTO_PTR -Wno-pedantic  -w -Wfatal-errors -I'/Library/Frameworks/R.framework/Versions/4.3-x86_64/Resources/library/cpp11/include' -I'/Library/Frameworks/R.framework/Versions/4.3-x86_64/Resources/library/BH/include' -I'/Library/Frameworks/R.framework/Versions/4.3-x86_64/Resources/library/RProtoBufLib/include' -I'/Library/Frameworks/R.framework/Versions/4.3-x86_64/Resources/library/cytolib/include' -I'/Library/Frameworks/R.framework/Versions/4.3-x86_64/Resources/library/Rhdf5lib/include' -I/opt/R/x86_64/include    -fPIC  -falign-functions=64 -Wall -g -O2  -c h5_error_r_handler.cpp -o h5_error_r_handler.o
clang++ -arch x86_64 -std=gnu++17 -I"/Library/Frameworks/R.framework/Resources/include" -DNDEBUG -DROUT -I../inst/include -DBOOST_NO_AUTO_PTR -Wno-pedantic  -w -Wfatal-errors -I'/Library/Frameworks/R.framework/Versions/4.3-x86_64/Resources/library/cpp11/include' -I'/Library/Frameworks/R.framework/Versions/4.3-x86_64/Resources/library/BH/include' -I'/Library/Frameworks/R.framework/Versions/4.3-x86_64/Resources/library/RProtoBufLib/include' -I'/Library/Frameworks/R.framework/Versions/4.3-x86_64/Resources/library/cytolib/include' -I'/Library/Frameworks/R.framework/Versions/4.3-x86_64/Resources/library/Rhdf5lib/include' -I/opt/R/x86_64/include    -fPIC  -falign-functions=64 -Wall -g -O2  -c setCounts.cpp -o setCounts.o
clang++ -arch x86_64 -std=gnu++17 -dynamiclib -Wl,-headerpad_max_install_names -undefined dynamic_lookup -L/Library/Frameworks/R.framework/Resources/lib -L/opt/R/x86_64/lib -o flowWorkspace.so R_API.o R_GatingHierarchy.o R_GatingSet.o cpp11.o cytoframeAPI.o cytosetAPI.o getDescendants.o getPopStats.o getSingleCellExpression.o h5_error_r_handler.o setCounts.o /Library/Frameworks/R.framework/Versions/4.3-x86_64/Resources/library/cytolib/lib/libcytolib.a /Library/Frameworks/R.framework/Versions/4.3-x86_64/Resources/library/Rhdf5lib/lib/libhdf5_cpp.a /Library/Frameworks/R.framework/Versions/4.3-x86_64/Resources/library/Rhdf5lib/lib/libhdf5.a -L/Library/Frameworks/R.framework/Versions/4.3-x86_64/Resources/library/Rhdf5lib/lib -lcrypto -lcurl -lsz -laec -lz -ldl -lm -L/Library/Frameworks/R.framework/Resources/lib -lRlapack -L/Library/Frameworks/R.framework/Resources/lib -lRblas -F/Library/Frameworks/R.framework/.. -framework R -Wl,-framework -Wl,CoreFoundation
installing to /Library/Frameworks/R.framework/Versions/4.3-x86_64/Resources/library/00LOCK-flowWorkspace/00new/flowWorkspace/libs
** R
** inst
** byte-compile and prepare package for lazy loading
** help
*** installing help indices
** building package indices
** installing vignettes
** testing if installed package can be loaded from temporary location
** checking absolute paths in shared objects and dynamic libraries
** testing if installed package can be loaded from final location
** testing if installed package keeps a record of temporary installation path
* DONE (flowWorkspace)