Index of /checkResults/release/bioc-LATEST/flowCore/raw-results
Name
Last modified
Size
Description
Parent Directory
-
info.dcf
26-May-2022 01:07
264
merida1/
26-May-2022 01:07
-
nebbiolo1/
26-May-2022 01:05
-
palomino3/
26-May-2022 01:06
-
riesling1/
19-Mar-2022 00:07
-