Back to Multiple platform build/check report for BioC 3.12
ABCDE[F]GHIJKLMNOPQRSTUVWXYZ

Multiple platform build/check report for BioC 3.12

Results for flowCore

This page was generated on 2020-11-27 11:51:53 -0500 (Fri, 27 Nov 2020).

Package 617/1974HostnameOS / ArchINSTALLBUILDCHECKBUILD BIN
flowCore 2.2.0
Mike Jiang , Jake Wagner
Snapshot Date: 2020-11-26 14:42:42 -0500 (Thu, 26 Nov 2020)
URL: https://git.bioconductor.org/packages/flowCore
Branch: RELEASE_3_12
Last Commit: 86a9aca
Last Changed Date: 2020-10-27 10:29:46 -0500 (Tue, 27 Oct 2020)
malbec1 Linux (Ubuntu 18.04.4 LTS) / x86_64  OK  OK  OK UNNEEDED, same version exists in internal repository
nebbiolo1 Linux (Ubuntu 20.04.1 LTS) / x86_64  OK  OK  OK 
tokay1 Windows Server 2012 R2 Standard / x64  OK  OK  WARNINGS  OK UNNEEDED, same version exists in internal repository
merida1 macOS 10.14.6 Mojave / x86_64  OK  OK  OK  OK UNNEEDED, same version exists in internal repository