![]() | Name | Last modified | Size | Description |
---|---|---|---|---|
![]() | Parent Directory | - | ||
![]() | buildsrc-out.txt | 25-Mar-2023 00:05 | 1.2K | |
![]() | buildsrc-summary.dcf | 25-Mar-2023 00:05 | 420 | |
![]() | checksrc-out.txt | 25-Mar-2023 00:05 | 5.5K | |
![]() | checksrc-summary.dcf | 25-Mar-2023 00:05 | 424 | |
![]() | install-out.txt | 25-Mar-2023 00:05 | 16K | |
![]() | install-summary.dcf | 25-Mar-2023 00:05 | 261 | |