Index of /checkResults/release/bioc-LATEST/flowCore/raw-results/merida1

[ICO]NameLast modifiedSizeDescription

[DIR]Parent Directory  -  
[TXT]buildbin-out.txt02-Jul-2022 01:07 12K 
[   ]buildbin-summary.dcf02-Jul-2022 01:07 533  
[TXT]buildsrc-out.txt02-Jul-2022 01:07 1.2K 
[   ]buildsrc-summary.dcf02-Jul-2022 01:07 429  
[TXT]checksrc-out.txt02-Jul-2022 01:07 5.0K 
[   ]checksrc-summary.dcf02-Jul-2022 01:07 446  
[TXT]install-out.txt02-Jul-2022 01:07 11K 
[   ]install-summary.dcf02-Jul-2022 01:07 271