Back to Multiple platform build/check report for BioC 3.19:   simplified   long
ABCD[E]FGHIJKLMNOPQRSTUVWXYZ

This page was generated on 2024-06-21 17:39 -0400 (Fri, 21 Jun 2024).

HostnameOSArch (*)R versionInstalled pkgs
nebbiolo1Linux (Ubuntu 22.04.3 LTS)x86_644.4.0 (2024-04-24) -- "Puppy Cup" 4758
palomino3Windows Server 2022 Datacenterx644.4.0 (2024-04-24 ucrt) -- "Puppy Cup" 4492
merida1macOS 12.7.4 Montereyx86_644.4.0 (2024-04-24) -- "Puppy Cup" 4506
kjohnson1macOS 13.6.6 Venturaarm644.4.0 (2024-04-24) -- "Puppy Cup" 4464
Click on any hostname to see more info about the system (e.g. compilers)      (*) as reported by 'uname -p', except on Windows and Mac OS X

Package 666/2300HostnameOS / ArchINSTALLBUILDCHECKBUILD BIN
epiregulon 1.0.1  (landing page)
Xiaosai Yao
Snapshot Date: 2024-06-19 14:00 -0400 (Wed, 19 Jun 2024)
git_url: https://git.bioconductor.org/packages/epiregulon
git_branch: RELEASE_3_19
git_last_commit: a281375
git_last_commit_date: 2024-06-06 17:05:24 -0400 (Thu, 06 Jun 2024)
nebbiolo1Linux (Ubuntu 22.04.3 LTS) / x86_64  OK    OK    OK  UNNEEDED, same version is already published
palomino3Windows Server 2022 Datacenter / x64  OK    OK    OK    OK  UNNEEDED, same version is already published
merida1macOS 12.7.4 Monterey / x86_64  OK    OK    OK    OK  UNNEEDED, same version is already published
kjohnson1macOS 13.6.6 Ventura / arm64  OK    OK    OK    OK  NO, package depends on 'motifmatchr' which is only available as a source package that needs compilation


INSTALL results for epiregulon on palomino3

To the developers/maintainers of the epiregulon package:
- Allow up to 24 hours (and sometimes 48 hours) for your latest push to git@git.bioconductor.org:packages/epiregulon.git to reflect on this report. See Troubleshooting Build Report for more information.
- Use the following Renviron settings to reproduce errors and warnings.
- If 'R CMD check' started to fail recently on the Linux builder(s) over a missing dependency, add the missing dependency to 'Suggests:' in your DESCRIPTION file. See Renviron.bioc for more information.

raw results


Summary

Package: epiregulon
Version: 1.0.1
Command: F:\biocbuild\bbs-3.19-bioc\R\bin\R.exe CMD INSTALL epiregulon
StartedAt: 2024-06-19 16:52:18 -0400 (Wed, 19 Jun 2024)
EndedAt: 2024-06-19 16:53:29 -0400 (Wed, 19 Jun 2024)
EllapsedTime: 70.8 seconds
RetCode: 0
Status:   OK  

Command output

##############################################################################
##############################################################################
###
### Running command:
###
###   F:\biocbuild\bbs-3.19-bioc\R\bin\R.exe CMD INSTALL epiregulon
###
##############################################################################
##############################################################################


* installing to library 'F:/biocbuild/bbs-3.19-bioc/R/library'
* installing *source* package 'epiregulon' ...
** using staged installation
** libs
using C compiler: 'gcc.exe (GCC) 13.2.0'
using C++ compiler: 'G__~1.EXE (GCC) 13.2.0'
g++ -std=gnu++17  -I"F:/biocbuild/bbs-3.19-bioc/R/include" -DNDEBUG  -I'F:/biocbuild/bbs-3.19-bioc/R/library/Rcpp/include' -I'F:/biocbuild/bbs-3.19-bioc/R/library/beachmat/include'   -I"C:/rtools44/x86_64-w64-mingw32.static.posix/include"     -O2 -Wall  -mfpmath=sse -msse2 -mstackrealign  -c RcppExports.cpp -o RcppExports.o
g++ -std=gnu++17  -I"F:/biocbuild/bbs-3.19-bioc/R/include" -DNDEBUG  -I'F:/biocbuild/bbs-3.19-bioc/R/library/Rcpp/include' -I'F:/biocbuild/bbs-3.19-bioc/R/library/beachmat/include'   -I"C:/rtools44/x86_64-w64-mingw32.static.posix/include"     -O2 -Wall  -mfpmath=sse -msse2 -mstackrealign  -c aggregate_across_cells.cpp -o aggregate_across_cells.o
aggregate_across_cells.cpp: In function 'SEXPREC* aggregate_across_cells(SEXP, Rcpp::List, int)':
aggregate_across_cells.cpp:19:26: warning: comparison of integer expressions of different signedness: 'R_xlen_t' {aka 'long long int'} and 'size_t' {aka 'long long unsigned int'} [-Wsign-compare]
   19 |     if (groups[g].size() != NC) {
      |         ~~~~~~~~~~~~~~~~~^~~~~
In file included from aggregate_across_cells.cpp:2:
AggregateAcrossCells.h: In instantiation of 'void scran::AggregateAcrossCells::compute_row(Index_, Index_, const Contents_&, const Factor_*, std::vector<InputIndex_>&, std::vector<Sum_*>&, std::vector<Detected_>&, std::vector<Detected_*>&) [with bool sparse_ = true; Index_ = int; Contents_ = tatami::SparseRange<double, int>; Factor_ = int; Sum_ = double; Detected_ = int]':
AggregateAcrossCells.h:150:30:   required from 'void scran::AggregateAcrossCells::compute(const tatami::Matrix<Value_, Index_>*, const Factor_*, std::vector<Detected_*>&, std::vector<Detected_*>&) [with bool row_ = true; bool sparse_ = true; Data_ = double; Index_ = int; Factor_ = int; Sum_ = double; Detected_ = int]'
AggregateAcrossCells.h:210:28:   required from 'void scran::AggregateAcrossCells::run(const tatami::Matrix<Value_, Index_>*, const Factor*, std::vector<Sum*>, std::vector<Sum_*>) [with Data = double; Index = int; Factor = int; Sum = double; Detected = int]'
aggregate_across_cells.cpp:52:13:   required from here
AggregateAcrossCells.h:109:28: warning: comparison of integer expressions of different signedness: 'int' and 'std::vector<double>::size_type' {aka 'long long unsigned int'} [-Wsign-compare]
  109 |       for (Index_ l = 0; l < tmp_sums.size(); ++l) {
      |                          ~~^~~~~~~~~~~~~~~~~
AggregateAcrossCells.h:127:28: warning: comparison of integer expressions of different signedness: 'int' and 'std::vector<int>::size_type' {aka 'long long unsigned int'} [-Wsign-compare]
  127 |       for (Index_ l = 0; l < tmp_detected.size(); ++l) {
      |                          ~~^~~~~~~~~~~~~~~~~~~~~
AggregateAcrossCells.h: In instantiation of 'void scran::AggregateAcrossCells::compute_row(Index_, Index_, const Contents_&, const Factor_*, std::vector<InputIndex_>&, std::vector<Sum_*>&, std::vector<Detected_>&, std::vector<Detected_*>&) [with bool sparse_ = false; Index_ = int; Contents_ = const double*; Factor_ = int; Sum_ = double; Detected_ = int]':
AggregateAcrossCells.h:152:31:   required from 'void scran::AggregateAcrossCells::compute(const tatami::Matrix<Value_, Index_>*, const Factor_*, std::vector<Detected_*>&, std::vector<Detected_*>&) [with bool row_ = true; bool sparse_ = false; Data_ = double; Index_ = int; Factor_ = int; Sum_ = double; Detected_ = int]'
AggregateAcrossCells.h:212:29:   required from 'void scran::AggregateAcrossCells::run(const tatami::Matrix<Value_, Index_>*, const Factor*, std::vector<Sum*>, std::vector<Sum_*>) [with Data = double; Index = int; Factor = int; Sum = double; Detected = int]'
aggregate_across_cells.cpp:52:13:   required from here
AggregateAcrossCells.h:109:28: warning: comparison of integer expressions of different signedness: 'int' and 'std::vector<double>::size_type' {aka 'long long unsigned int'} [-Wsign-compare]
  109 |       for (Index_ l = 0; l < tmp_sums.size(); ++l) {
      |                          ~~^~~~~~~~~~~~~~~~~
AggregateAcrossCells.h:127:28: warning: comparison of integer expressions of different signedness: 'int' and 'std::vector<int>::size_type' {aka 'long long unsigned int'} [-Wsign-compare]
  127 |       for (Index_ l = 0; l < tmp_detected.size(); ++l) {
      |                          ~~^~~~~~~~~~~~~~~~~~~~~
gcc  -I"F:/biocbuild/bbs-3.19-bioc/R/include" -DNDEBUG  -I'F:/biocbuild/bbs-3.19-bioc/R/library/Rcpp/include' -I'F:/biocbuild/bbs-3.19-bioc/R/library/beachmat/include'   -I"C:/rtools44/x86_64-w64-mingw32.static.posix/include"     -O2 -Wall  -mfpmath=sse -msse2 -mstackrealign  -c binom.c -o binom.o
g++ -std=gnu++17  -I"F:/biocbuild/bbs-3.19-bioc/R/include" -DNDEBUG  -I'F:/biocbuild/bbs-3.19-bioc/R/library/Rcpp/include' -I'F:/biocbuild/bbs-3.19-bioc/R/library/beachmat/include'   -I"C:/rtools44/x86_64-w64-mingw32.static.posix/include"     -O2 -Wall  -mfpmath=sse -msse2 -mstackrealign  -c fast_chisq.cpp -o fast_chisq.o
fast_chisq.cpp: In function 'Rcpp::List fast_chisq(Rcpp::IntegerVector, Rcpp::IntegerVector, Rcpp::IntegerVector, Rcpp::IntegerVector, int, Rcpp::NumericVector, Rcpp::IntegerVector, Rcpp::IntegerVector, Rcpp::NumericMatrix, int, Rcpp::NumericVector, Rcpp::IntegerVector, Rcpp::IntegerVector, Rcpp::NumericMatrix, int, Rcpp::IntegerVector)':
fast_chisq.cpp:27:15: warning: comparison of integer expressions of different signedness: 'size_t' {aka 'long long unsigned int'} and 'R_xlen_t' {aka 'long long int'} [-Wsign-compare]
   27 |     if (nrows != tf_by_peak.size()) {
      |         ~~~~~~^~~~~~~~~~~~~~~~~~~~
fast_chisq.cpp:30:15: warning: comparison of integer expressions of different signedness: 'size_t' {aka 'long long unsigned int'} and 'R_xlen_t' {aka 'long long int'} [-Wsign-compare]
   30 |     if (nrows != target_by_peak.size()) {
      |         ~~~~~~^~~~~~~~~~~~~~~~~~~~~~~~
fast_chisq.cpp:33:15: warning: comparison of integer expressions of different signedness: 'size_t' {aka 'long long unsigned int'} and 'R_xlen_t' {aka 'long long int'} [-Wsign-compare]
   33 |     if (nrows != target_ordered.size()) {
      |         ~~~~~~^~~~~~~~~~~~~~~~~~~~~~~~
g++ -std=gnu++17  -I"F:/biocbuild/bbs-3.19-bioc/R/include" -DNDEBUG  -I'F:/biocbuild/bbs-3.19-bioc/R/library/Rcpp/include' -I'F:/biocbuild/bbs-3.19-bioc/R/library/beachmat/include'   -I"C:/rtools44/x86_64-w64-mingw32.static.posix/include"     -O2 -Wall  -mfpmath=sse -msse2 -mstackrealign  -c fast_wilcox.cpp -o fast_wilcox.o
g++ -std=gnu++17 -shared -s -static-libgcc -o epiregulon.dll tmp.def RcppExports.o aggregate_across_cells.o binom.o fast_chisq.o fast_wilcox.o -LC:/rtools44/x86_64-w64-mingw32.static.posix/lib/x64 -LC:/rtools44/x86_64-w64-mingw32.static.posix/lib -LF:/biocbuild/bbs-3.19-bioc/R/bin/x64 -lR
installing to F:/biocbuild/bbs-3.19-bioc/R/library/00LOCK-epiregulon/00new/epiregulon/libs/x64
** R
** inst
** byte-compile and prepare package for lazy loading
** help
*** installing help indices
** building package indices
** installing vignettes
** testing if installed package can be loaded from temporary location
** testing if installed package can be loaded from final location
** testing if installed package keeps a record of temporary installation path
* DONE (epiregulon)