Back to Multiple platform build/check report for BioC 3.16
AB[C]DEFGHIJKLMNOPQRSTUVWXYZ

This page was generated on 2022-12-05 11:05:00 -0500 (Mon, 05 Dec 2022).

HostnameOSArch (*)R versionInstalled pkgs
nebbiolo2Linux (Ubuntu 20.04.5 LTS)x86_644.2.2 (2022-10-31) -- "Innocent and Trusting" 4506
palomino4Windows Server 2022 Datacenterx644.2.2 (2022-10-31 ucrt) -- "Innocent and Trusting" 4283
lconwaymacOS 12.5.1 Montereyx86_644.2.2 (2022-10-31) -- "Innocent and Trusting" 4312
Click on any hostname to see more info about the system (e.g. compilers)      (*) as reported by 'uname -p', except on Windows and Mac OS X

BUILD results for chipseq on nebbiolo2


To the developers/maintainers of the chipseq package:
- Please allow up to 24 hours (and sometimes 48 hours) for your latest push to git@git.bioconductor.org:packages/chipseq.git to
reflect on this report. See How and When does the builder pull? When will my changes propagate? for more information.
- Make sure to use the following settings in order to reproduce any error or warning you see on this page.

raw results

Package 316/2183HostnameOS / ArchINSTALLBUILDCHECKBUILD BIN
chipseq 1.48.0  (landing page)
Bioconductor Package Maintainer
Snapshot Date: 2022-12-04 14:00:05 -0500 (Sun, 04 Dec 2022)
git_url: https://git.bioconductor.org/packages/chipseq
git_branch: RELEASE_3_16
git_last_commit: 9c78296
git_last_commit_date: 2022-11-01 11:04:29 -0500 (Tue, 01 Nov 2022)
nebbiolo2Linux (Ubuntu 20.04.5 LTS) / x86_64  OK    OK    WARNINGS  UNNEEDED, same version is already published
palomino4Windows Server 2022 Datacenter / x64  OK    OK    WARNINGS    OK  UNNEEDED, same version is already published
lconwaymacOS 12.5.1 Monterey / x86_64  OK    OK    WARNINGS    OK  UNNEEDED, same version is already published

Summary

Package: chipseq
Version: 1.48.0
Command: /home/biocbuild/bbs-3.16-bioc/R/bin/R CMD build --keep-empty-dirs --no-resave-data chipseq
StartedAt: 2022-12-04 16:09:37 -0500 (Sun, 04 Dec 2022)
EndedAt: 2022-12-04 16:12:29 -0500 (Sun, 04 Dec 2022)
EllapsedTime: 171.8 seconds
RetCode: 0
Status:   OK  
PackageFile: chipseq_1.48.0.tar.gz
PackageFileSize: 2.112 MiB

Command output

##############################################################################
##############################################################################
###
### Running command:
###
###   /home/biocbuild/bbs-3.16-bioc/R/bin/R CMD build --keep-empty-dirs --no-resave-data chipseq
###
##############################################################################
##############################################################################


* checking for file ‘chipseq/DESCRIPTION’ ... OK
* preparing ‘chipseq’:
* checking DESCRIPTION meta-information ... OK
* cleaning src
* installing the package to build vignettes
* creating vignettes ... OK
* cleaning src
* checking for LF line-endings in source and make files and shell scripts
* checking for empty or unneeded directories
WARNING: directory ‘chipseq/inst/Scripts/figs’ is empty
* looking to see if a ‘data/datalist’ file should be added
  NB: this package now depends on R (>= 3.5.0)
  WARNING: Added dependency on R >= 3.5.0 because serialized objects in
  serialize/load version 3 cannot be read in older versions of R.
  File(s) containing such objects:
    ‘chipseq/data/cstest.rda’
* building ‘chipseq_1.48.0.tar.gz’