Index of /checkResults/release/bioc-LATEST/chipseq/raw-results

[ICO]NameLast modifiedSizeDescription

[DIR]Parent Directory  -  
[   ]info.dcf06-Dec-2022 01:07 297  
[DIR]kjohnson/12-Jul-2022 00:06 -  
[DIR]lconway/06-Dec-2022 01:07 -  
[DIR]nebbiolo2/06-Dec-2022 01:05 -  
[DIR]palomino4/06-Dec-2022 01:06 -