Back to Multiple platform build/check report for BioC 3.16:   simplified   long
A[B]CDEFGHIJKLMNOPQRSTUVWXYZ

This page was generated on 2023-03-24 11:06:27 -0400 (Fri, 24 Mar 2023).

HostnameOSArch (*)R versionInstalled pkgs
nebbiolo2Linux (Ubuntu 20.04.5 LTS)x86_644.2.3 (2023-03-15) -- "Shortstop Beagle" 4286
palomino4Windows Server 2022 Datacenterx644.2.3 (2023-03-15 ucrt) -- "Shortstop Beagle" 4276
lconwaymacOS 12.5.1 Montereyx86_644.2.3 (2023-03-15) -- "Shortstop Beagle" 4303
Click on any hostname to see more info about the system (e.g. compilers)      (*) as reported by 'uname -p', except on Windows and Mac OS X

BUILD results for batchelor on lconway


To the developers/maintainers of the batchelor package:
- Please allow up to 24 hours (and sometimes 48 hours) for your latest push to git@git.bioconductor.org:packages/batchelor.git to
reflect on this report. See How and When does the builder pull? When will my changes propagate? for more information.
- Make sure to use the following settings in order to reproduce any error or warning you see on this page.

raw results

Package 123/2183HostnameOS / ArchINSTALLBUILDCHECKBUILD BIN
batchelor 1.14.1  (landing page)
Aaron Lun
Snapshot Date: 2023-03-22 14:00:04 -0400 (Wed, 22 Mar 2023)
git_url: https://git.bioconductor.org/packages/batchelor
git_branch: RELEASE_3_16
git_last_commit: a1f3e84
git_last_commit_date: 2023-01-02 20:16:37 -0400 (Mon, 02 Jan 2023)
nebbiolo2Linux (Ubuntu 20.04.5 LTS) / x86_64  OK    OK    OK  UNNEEDED, same version is already published
palomino4Windows Server 2022 Datacenter / x64  OK    OK    OK    OK  UNNEEDED, same version is already published
lconwaymacOS 12.5.1 Monterey / x86_64  OK    OK    OK    OK  UNNEEDED, same version is already published

Summary

Package: batchelor
Version: 1.14.1
Command: /Library/Frameworks/R.framework/Resources/bin/R CMD build --keep-empty-dirs --no-resave-data batchelor
StartedAt: 2023-03-22 15:54:18 -0400 (Wed, 22 Mar 2023)
EndedAt: 2023-03-22 15:58:50 -0400 (Wed, 22 Mar 2023)
EllapsedTime: 272.0 seconds
RetCode: 0
Status:   OK  
PackageFile: batchelor_1.14.1.tar.gz
PackageFileSize: 1.892 MiB

Command output

##############################################################################
##############################################################################
###
### Running command:
###
###   /Library/Frameworks/R.framework/Resources/bin/R CMD build --keep-empty-dirs --no-resave-data batchelor
###
##############################################################################
##############################################################################


* checking for file ‘batchelor/DESCRIPTION’ ... OK
* preparing ‘batchelor’:
* checking DESCRIPTION meta-information ... OK
* cleaning src
* installing the package to build vignettes
* creating vignettes ... OK
* cleaning src
* checking for LF line-endings in source and make files and shell scripts
* checking for empty or unneeded directories
* building ‘batchelor_1.14.1.tar.gz’