Back to Multiple platform build/check report for BioC 3.19:   simplified   long
[A]BCDEFGHIJKLMNOPQRSTUVWXYZ

This page was generated on 2024-06-21 17:39 -0400 (Fri, 21 Jun 2024).

HostnameOSArch (*)R versionInstalled pkgs
nebbiolo1Linux (Ubuntu 22.04.3 LTS)x86_644.4.0 (2024-04-24) -- "Puppy Cup" 4758
palomino3Windows Server 2022 Datacenterx644.4.0 (2024-04-24 ucrt) -- "Puppy Cup" 4492
merida1macOS 12.7.4 Montereyx86_644.4.0 (2024-04-24) -- "Puppy Cup" 4506
kjohnson1macOS 13.6.6 Venturaarm644.4.0 (2024-04-24) -- "Puppy Cup" 4464
Click on any hostname to see more info about the system (e.g. compilers)      (*) as reported by 'uname -p', except on Windows and Mac OS X

Package 44/2300HostnameOS / ArchINSTALLBUILDCHECKBUILD BIN
alabaster.matrix 1.4.1  (landing page)
Aaron Lun
Snapshot Date: 2024-06-19 14:00 -0400 (Wed, 19 Jun 2024)
git_url: https://git.bioconductor.org/packages/alabaster.matrix
git_branch: RELEASE_3_19
git_last_commit: 08827d9
git_last_commit_date: 2024-06-07 11:52:07 -0400 (Fri, 07 Jun 2024)
nebbiolo1Linux (Ubuntu 22.04.3 LTS) / x86_64  OK    OK    OK  UNNEEDED, same version is already published
palomino3Windows Server 2022 Datacenter / x64  OK    OK    OK    OK  UNNEEDED, same version is already published
merida1macOS 12.7.4 Monterey / x86_64  OK    OK    OK    OK  UNNEEDED, same version is already published
kjohnson1macOS 13.6.6 Ventura / arm64  OK    OK    OK    OK  UNNEEDED, same version is already published


BUILD BIN results for alabaster.matrix on palomino3

To the developers/maintainers of the alabaster.matrix package:
- Allow up to 24 hours (and sometimes 48 hours) for your latest push to git@git.bioconductor.org:packages/alabaster.matrix.git to reflect on this report. See Troubleshooting Build Report for more information.
- Use the following Renviron settings to reproduce errors and warnings.
- If 'R CMD check' started to fail recently on the Linux builder(s) over a missing dependency, add the missing dependency to 'Suggests:' in your DESCRIPTION file. See Renviron.bioc for more information.

raw results


Summary

Package: alabaster.matrix
Version: 1.4.1
Command: rm -rf alabaster.matrix.buildbin-libdir && mkdir alabaster.matrix.buildbin-libdir && F:\biocbuild\bbs-3.19-bioc\R\bin\R.exe CMD INSTALL --build --library=alabaster.matrix.buildbin-libdir alabaster.matrix_1.4.1.tar.gz
StartedAt: 2024-06-20 15:46:00 -0400 (Thu, 20 Jun 2024)
EndedAt: 2024-06-20 15:47:38 -0400 (Thu, 20 Jun 2024)
EllapsedTime: 97.5 seconds
RetCode: 0
Status:   OK  
PackageFile: alabaster.matrix_1.4.1.zip
PackageFileSize: 1.008 MiB

Command output

##############################################################################
##############################################################################
###
### Running command:
###
###   rm -rf alabaster.matrix.buildbin-libdir && mkdir alabaster.matrix.buildbin-libdir && F:\biocbuild\bbs-3.19-bioc\R\bin\R.exe CMD INSTALL --build --library=alabaster.matrix.buildbin-libdir alabaster.matrix_1.4.1.tar.gz
###
##############################################################################
##############################################################################


* installing *source* package 'alabaster.matrix' ...
** using staged installation
** libs
using C++ compiler: 'G__~1.EXE (GCC) 13.2.0'
g++ -std=gnu++17  -I"F:/biocbuild/bbs-3.19-bioc/R/include" -DNDEBUG  -I'F:/biocbuild/bbs-3.19-bioc/R/library/Rcpp/include'   -I"C:/rtools44/x86_64-w64-mingw32.static.posix/include"     -O2 -Wall  -mfpmath=sse -msse2 -mstackrealign  -c RcppExports.cpp -o RcppExports.o
g++ -std=gnu++17  -I"F:/biocbuild/bbs-3.19-bioc/R/include" -DNDEBUG  -I'F:/biocbuild/bbs-3.19-bioc/R/library/Rcpp/include'   -I"C:/rtools44/x86_64-w64-mingw32.static.posix/include"     -O2 -Wall  -mfpmath=sse -msse2 -mstackrealign  -c collect_attributes.cpp -o collect_attributes.o
g++ -std=gnu++17 -shared -s -static-libgcc -o alabaster.matrix.dll tmp.def RcppExports.o collect_attributes.o -LC:/rtools44/x86_64-w64-mingw32.static.posix/lib/x64 -LC:/rtools44/x86_64-w64-mingw32.static.posix/lib -LF:/biocbuild/bbs-3.19-bioc/R/bin/x64 -lR
installing to F:/biocbuild/bbs-3.19-bioc/meat/alabaster.matrix.buildbin-libdir/00LOCK-alabaster.matrix/00new/alabaster.matrix/libs/x64
** R
** inst
** byte-compile and prepare package for lazy loading
** help
*** installing help indices
** building package indices
** installing vignettes
** testing if installed package can be loaded from temporary location
** testing if installed package can be loaded from final location
** testing if installed package keeps a record of temporary installation path
* MD5 sums
packaged installation of 'alabaster.matrix' as alabaster.matrix_1.4.1.zip
* DONE (alabaster.matrix)