Back to Multiple platform build/check report for BioC 3.12
ABCDEFGHIJKLMNOPQR[S]TUVWXYZ

CHECK report for SBMLR on nebbiolo1

This page was generated on 2021-02-22 12:35:50 -0500 (Mon, 22 Feb 2021).

To the developers/maintainers of the SBMLR package:
Please make sure to use the following settings in order to reproduce any error or warning you see on this page.
Package 1622/1974HostnameOS / ArchINSTALLBUILDCHECKBUILD BIN
SBMLR 1.86.0
Tomas Radivoyevitch
Snapshot Date: 2021-02-21 14:52:07 -0500 (Sun, 21 Feb 2021)
URL: https://git.bioconductor.org/packages/SBMLR
Branch: RELEASE_3_12
Last Commit: 1b53a3b
Last Changed Date: 2020-10-27 10:25:02 -0500 (Tue, 27 Oct 2020)
malbec1Linux (Ubuntu 18.04.5 LTS) / x86_64  OK    OK    OK  UNNEEDED, same version exists in internal repository
nebbiolo1Linux (Ubuntu 20.04.2 LTS) / x86_64  OK    OK    OK  
tokay1Windows Server 2012 R2 Standard / x64  OK    OK    OK    OK  UNNEEDED, same version exists in internal repository
merida1macOS 10.14.6 Mojave / x86_64  OK    OK    ERROR    OK  

Summary

Package: SBMLR
Version: 1.86.0
Command: /home/biocbuild/bbs-3.12-bioc/R/bin/R CMD check --install=check:SBMLR.install-out.txt --library=/home/biocbuild/bbs-3.12-bioc/R/library --no-vignettes --timings SBMLR_1.86.0.tar.gz
StartedAt: 2021-02-21 22:40:37 -0500 (Sun, 21 Feb 2021)
EndedAt: 2021-02-21 22:41:33 -0500 (Sun, 21 Feb 2021)
EllapsedTime: 55.8 seconds
RetCode: 0
Status:   OK  
CheckDir: SBMLR.Rcheck
Warnings: 0

Command output

##############################################################################
##############################################################################
###
### Running command:
###
###   /home/biocbuild/bbs-3.12-bioc/R/bin/R CMD check --install=check:SBMLR.install-out.txt --library=/home/biocbuild/bbs-3.12-bioc/R/library --no-vignettes --timings SBMLR_1.86.0.tar.gz
###
##############################################################################
##############################################################################


* using log directory ‘/home/biocbuild/bbs-3.12-bioc/meat/SBMLR.Rcheck’
* using R version 4.0.3 (2020-10-10)
* using platform: x86_64-pc-linux-gnu (64-bit)
* using session charset: UTF-8
* using option ‘--no-vignettes’
* checking for file ‘SBMLR/DESCRIPTION’ ... OK
* this is package ‘SBMLR’ version ‘1.86.0’
* checking package namespace information ... OK
* checking package dependencies ... OK
* checking if this is a source package ... OK
* checking if there is a namespace ... OK
* checking for hidden files and directories ... NOTE
Found the following hidden files and directories:
  .BBSoptions
These were most likely included in error. See section ‘Package
structure’ in the ‘Writing R Extensions’ manual.
* checking for portable file names ... OK
* checking for sufficient/correct file permissions ... OK
* checking whether package ‘SBMLR’ can be installed ... OK
* checking installed package size ... OK
* checking package directory ... OK
* checking ‘build’ directory ... OK
* checking DESCRIPTION meta-information ... OK
* checking top-level files ... OK
* checking for left-over files ... OK
* checking index information ... OK
* checking package subdirectories ... OK
* checking R files for non-ASCII characters ... OK
* checking R files for syntax errors ... OK
* checking whether the package can be loaded ... OK
* checking whether the package can be loaded with stated dependencies ... OK
* checking whether the package can be unloaded cleanly ... OK
* checking whether the namespace can be loaded with stated dependencies ... OK
* checking whether the namespace can be unloaded cleanly ... OK
* checking dependencies in R code ... NOTE
'library' or 'require' call to ‘XML’ which was already attached by Depends.
  Please remove these calls from your code.
'library' or 'require' call to ‘rsbml’ in package code.
  Please use :: or requireNamespace() instead.
  See section 'Suggested packages' in the 'Writing R Extensions' manual.
Packages in Depends field not imported from:
  ‘XML’ ‘deSolve’
  These packages need to be imported from (in the NAMESPACE file)
  for when this namespace is loaded but not attached.
There are ::: calls to the package's namespace in its code. A package
  almost never needs to use ::: for its own objects:
  ‘R2MathML’ ‘getRuleLeaves’ ‘makeLaw’
* checking S3 generic/method consistency ... OK
* checking replacement functions ... OK
* checking foreign function calls ... OK
* checking R code for possible problems ... NOTE
R2MathML: no visible global function definition for ‘xmlOutputDOM’
S4toS3: no visible global function definition for ‘model’
S4toS3: no visible global function definition for ‘id’
S4toS3: no visible global function definition for ‘size’
S4toS3: no visible global function definition for
  ‘initialConcentration’
S4toS3: no visible global function definition for ‘compartment’
S4toS3: no visible global function definition for ‘boundaryCondition’
S4toS3: no visible binding for global variable ‘value’
S4toS3: no visible binding for global variable ‘id’
S4toS3: no visible global function definition for ‘math’
S4toS3: no visible global function definition for ‘variable’
S4toS3: no visible global function definition for ‘kineticLaw’
S4toS3: no visible global function definition for ‘reactants’
S4toS3: no visible global function definition for ‘modifiers’
S4toS3: no visible global function definition for ‘products’
S4toS3: no visible global function definition for ‘reversible’
S4toS3: no visible global function definition for ‘notes’
getRuleLeaves: no visible global function definition for ‘xmlName’
getRuleLeaves: no visible global function definition for ‘xmlValue’
readSBML : mathml2R.XMLNode: no visible global function definition for
  ‘xmlName’
readSBML: no visible global function definition for ‘xmlEventParse’
readSBML: no visible global function definition for ‘xmlTreeParse’
readSBMLR: no visible global function definition for ‘xmlOutputDOM’
readSBMLR: no visible global function definition for ‘xmlTextNode’
saveSBML: no visible global function definition for ‘saveXML’
sim: no visible global function definition for ‘ode’
Undefined global functions or variables:
  boundaryCondition compartment id initialConcentration kineticLaw math
  model modifiers notes ode products reactants reversible saveXML size
  value variable xmlEventParse xmlName xmlOutputDOM xmlTextNode
  xmlTreeParse xmlValue
* checking Rd files ... OK
* checking Rd metadata ... OK
* checking Rd cross-references ... OK
* checking for missing documentation entries ... OK
* checking for code/documentation mismatches ... OK
* checking Rd \usage sections ... OK
* checking Rd contents ... OK
* checking for unstated dependencies in examples ... OK
* checking files in ‘vignettes’ ... OK
* checking examples ... OK
* checking for unstated dependencies in vignettes ... OK
* checking package vignettes in ‘inst/doc’ ... OK
* checking running R code from vignettes ... SKIPPED
* checking re-building of vignette outputs ... SKIPPED
* checking PDF version of manual ... OK
* DONE

Status: 3 NOTEs
See
  ‘/home/biocbuild/bbs-3.12-bioc/meat/SBMLR.Rcheck/00check.log’
for details.



Installation output

SBMLR.Rcheck/00install.out

##############################################################################
##############################################################################
###
### Running command:
###
###   /home/biocbuild/bbs-3.12-bioc/R/bin/R CMD INSTALL SBMLR
###
##############################################################################
##############################################################################


* installing to library ‘/home/biocbuild/bbs-3.12-bioc/R/library’
* installing *source* package ‘SBMLR’ ...
** using staged installation
** R
** inst
** byte-compile and prepare package for lazy loading
** help
*** installing help indices
** building package indices
** installing vignettes
** testing if installed package can be loaded from temporary location
** testing if installed package can be loaded from final location
** testing if installed package keeps a record of temporary installation path
* DONE (SBMLR)

Tests output


Example timings

SBMLR.Rcheck/SBMLR-Ex.timings

nameusersystemelapsed
Ops.SBMLR0.4510.0240.476
S4toS30.8390.0680.908
readSBML0.3250.0000.324
readSBMLR0.3450.0040.349
saveSBML0.4290.0320.461
saveSBMLR0.5720.0120.584
sim3.4590.0883.551
summary.SBMLR0.2760.0080.284