Back to Multiple platform build/check report for BioC 3.12
ABCDEFGHIJKLMNOPQR[S]TUVWXYZ

BUILD BIN report for SBMLR on merida1

This page was generated on 2021-04-22 12:36:55 -0400 (Thu, 22 Apr 2021).

To the developers/maintainers of the SBMLR package:
Please make sure to use the following settings in order to reproduce any error or warning you see on this page.
Package 1622/1974HostnameOS / ArchINSTALLBUILDCHECKBUILD BIN
SBMLR 1.86.0  (landing page)
Tomas Radivoyevitch
Snapshot Date: 2021-04-21 14:50:06 -0400 (Wed, 21 Apr 2021)
URL: https://git.bioconductor.org/packages/SBMLR
Branch: RELEASE_3_12
Last Commit: 1b53a3b
Last Changed Date: 2020-10-27 10:25:02 -0400 (Tue, 27 Oct 2020)
malbec1Linux (Ubuntu 18.04.5 LTS) / x86_64  OK    OK    OK  UNNEEDED, same version exists in internal repository
tokay1Windows Server 2012 R2 Standard / x64  OK    OK    OK    OK  UNNEEDED, same version exists in internal repository
merida1macOS 10.14.6 Mojave / x86_64  OK    OK    ERROR    OK  

Summary

Package: SBMLR
Version: 1.86.0
Command: rm -rf SBMLR.buildbin-libdir && mkdir SBMLR.buildbin-libdir && /Users/biocbuild/BBS/utils/build-universal.sh SBMLR_1.86.0.tar.gz /Library/Frameworks/R.framework/Versions/Current/Resources/bin/R SBMLR.buildbin-libdir
StartedAt: 2021-04-22 09:37:58 -0400 (Thu, 22 Apr 2021)
EndedAt: 2021-04-22 09:38:58 -0400 (Thu, 22 Apr 2021)
EllapsedTime: 59.8 seconds
RetCode: 0
Status:   OK  
PackageFile: SBMLR_1.86.0.tgz
PackageFileSize: 284 KiB

Command output

##############################################################################
##############################################################################
###
### Running command:
###
###   rm -rf SBMLR.buildbin-libdir && mkdir SBMLR.buildbin-libdir && /Users/biocbuild/BBS/utils/build-universal.sh SBMLR_1.86.0.tar.gz /Library/Frameworks/R.framework/Versions/Current/Resources/bin/R SBMLR.buildbin-libdir
###
##############################################################################
##############################################################################


>>>>>>> 
>>>>>>> INSTALLATION WITH 'R CMD INSTALL --preclean --no-multiarch --library=SBMLR.buildbin-libdir SBMLR_1.86.0.tar.gz'
>>>>>>> 

* installing *source* package ‘SBMLR’ ...
** using staged installation
** R
** inst
** byte-compile and prepare package for lazy loading
** help
*** installing help indices
** building package indices
** installing vignettes
** testing if installed package can be loaded from temporary location
** testing if installed package can be loaded from final location
** testing if installed package keeps a record of temporary installation path
* DONE (SBMLR)