Index of /checkResults/release/bioc-LATEST/RiboCrypt/raw-results
Name
Last modified
Size
Description
Parent Directory
-
info.dcf
04-Jun-2023 03:38
280
merida1/
04-Jun-2023 03:38
-
nebbiolo1/
04-Jun-2023 03:36
-
palomino3/
04-Jun-2023 03:37
-