![]() | Name | Last modified | Size | Description |
---|---|---|---|---|
![]() | Parent Directory | - | ||
![]() | buildbin-out.txt | 04-Oct-2023 00:36 | 1.1K | |
![]() | buildbin-summary.dcf | 04-Oct-2023 00:36 | 524 | |
![]() | buildsrc-out.txt | 04-Oct-2023 00:36 | 885 | |
![]() | buildsrc-summary.dcf | 04-Oct-2023 00:36 | 458 | |
![]() | checksrc-out.txt | 04-Oct-2023 00:36 | 12K | |
![]() | checksrc-summary.dcf | 04-Oct-2023 00:36 | 453 | |
![]() | install-out.txt | 04-Oct-2023 00:36 | 968 | |
![]() | install-summary.dcf | 04-Oct-2023 00:36 | 271 | |