Index of /checkResults/release/bioc-LATEST/RiboCrypt/raw-results

[ICO]NameLast modifiedSizeDescription

[DIR]Parent Directory  -  
[DIR]kunpeng2/03-Nov-2023 00:41 -  
[   ]info.dcf28-Feb-2024 01:35 280  
[DIR]nebbiolo2/28-Feb-2024 01:36 -  
[DIR]palomino4/28-Feb-2024 01:37 -  
[DIR]lconway/28-Feb-2024 01:37 -