Index of /checkResults/release/bioc-LATEST/RiboCrypt/raw-results/nebbiolo1

[ICO]NameLast modifiedSizeDescription

[DIR]Parent Directory  -  
[TXT]buildsrc-out.txt30-Sep-2023 00:35 853  
[   ]buildsrc-summary.dcf30-Sep-2023 00:35 421  
[TXT]checksrc-out.txt30-Sep-2023 00:35 12K 
[   ]checksrc-summary.dcf30-Sep-2023 00:35 420  
[TXT]install-out.txt30-Sep-2023 00:35 958  
[   ]install-summary.dcf30-Sep-2023 00:35 262