Back to Multiple platform build/check report for BioC 3.15
ABCDEFGHIJKLMNOPQ[R]STUVWXYZ

This page was generated on 2022-06-24 12:06:38 -0400 (Fri, 24 Jun 2022).

HostnameOSArch (*)R versionInstalled pkgs
nebbiolo1Linux (Ubuntu 20.04.4 LTS)x86_644.2.0 (2022-04-22) -- "Vigorous Calisthenics" 4380
palomino3Windows Server 2022 Datacenterx644.2.0 (2022-04-22 ucrt) -- "Vigorous Calisthenics" 4156
merida1macOS 10.14.6 Mojavex86_644.2.0 (2022-04-22) -- "Vigorous Calisthenics" 4221
Click on any hostname to see more info about the system (e.g. compilers)      (*) as reported by 'uname -p', except on Windows and Mac OS X

BUILD results for REMP on palomino3


To the developers/maintainers of the REMP package:
- Please allow up to 24 hours (and sometimes 48 hours) for your latest push to git@git.bioconductor.org:packages/REMP.git to
reflect on this report. See How and When does the builder pull? When will my changes propagate? for more information.
- Make sure to use the following settings in order to reproduce any error or warning you see on this page.

raw results

Package 1621/2140HostnameOS / ArchINSTALLBUILDCHECKBUILD BIN
REMP 1.20.1  (landing page)
Yinan Zheng
Snapshot Date: 2022-06-23 13:55:15 -0400 (Thu, 23 Jun 2022)
git_url: https://git.bioconductor.org/packages/REMP
git_branch: RELEASE_3_15
git_last_commit: 58547b6
git_last_commit_date: 2022-05-13 05:55:06 -0400 (Fri, 13 May 2022)
nebbiolo1Linux (Ubuntu 20.04.4 LTS) / x86_64  OK    OK    OK  UNNEEDED, same version is already published
palomino3Windows Server 2022 Datacenter / x64  OK    OK    OK    OK  UNNEEDED, same version is already published
merida1macOS 10.14.6 Mojave / x86_64  OK    OK    OK    NA  

Summary

Package: REMP
Version: 1.20.1
Command: chmod a+r REMP -R && F:\biocbuild\bbs-3.15-bioc\R\bin\R.exe CMD build --keep-empty-dirs --no-resave-data REMP
StartedAt: 2022-06-23 20:38:19 -0400 (Thu, 23 Jun 2022)
EndedAt: 2022-06-23 20:40:37 -0400 (Thu, 23 Jun 2022)
EllapsedTime: 138.0 seconds
RetCode: 0
Status:   OK  
PackageFile: REMP_1.20.1.tar.gz
PackageFileSize: 191.8 KiB

Command output

##############################################################################
##############################################################################
###
### Running command:
###
###   chmod a+r REMP -R && F:\biocbuild\bbs-3.15-bioc\R\bin\R.exe CMD build --keep-empty-dirs --no-resave-data REMP
###
##############################################################################
##############################################################################


* checking for file 'REMP/DESCRIPTION' ... OK
* preparing 'REMP':
* checking DESCRIPTION meta-information ... OK
* installing the package to build vignettes
* creating vignettes ... OK
* checking for LF line-endings in source and make files and shell scripts
* checking for empty or unneeded directories
* building 'REMP_1.20.1.tar.gz'