Back to Multiple platform build/check report for BioC 3.12
ABCDEFGHIJKLMNO[P]QRSTUVWXYZ

BUILD BIN report for PREDA on merida1

This page was generated on 2021-04-17 12:11:19 -0400 (Sat, 17 Apr 2021).

To the developers/maintainers of the PREDA package:
Please make sure to use the following settings in order to reproduce any error or warning you see on this page.
Package 1380/1974HostnameOS / ArchINSTALLBUILDCHECKBUILD BIN
PREDA 1.36.0  (landing page)
Francesco Ferrari
Snapshot Date: 2021-04-16 14:50:12 -0400 (Fri, 16 Apr 2021)
URL: https://git.bioconductor.org/packages/PREDA
Branch: RELEASE_3_12
Last Commit: bf51167
Last Changed Date: 2020-10-27 10:42:27 -0400 (Tue, 27 Oct 2020)
malbec1Linux (Ubuntu 18.04.5 LTS) / x86_64  OK    OK    WARNINGS  UNNEEDED, same version exists in internal repository
tokay1Windows Server 2012 R2 Standard / x64  OK    OK    WARNINGS    OK  UNNEEDED, same version exists in internal repository
merida1macOS 10.14.6 Mojave / x86_64  OK    OK    WARNINGS    OK  UNNEEDED, same version exists in internal repository

Summary

Package: PREDA
Version: 1.36.0
Command: rm -rf PREDA.buildbin-libdir && mkdir PREDA.buildbin-libdir && /Users/biocbuild/BBS/utils/build-universal.sh PREDA_1.36.0.tar.gz /Library/Frameworks/R.framework/Versions/Current/Resources/bin/R PREDA.buildbin-libdir
StartedAt: 2021-04-17 07:37:20 -0400 (Sat, 17 Apr 2021)
EndedAt: 2021-04-17 07:38:15 -0400 (Sat, 17 Apr 2021)
EllapsedTime: 54.7 seconds
RetCode: 0
Status:   OK  
PackageFile: PREDA_1.36.0.tgz
PackageFileSize: 1.816 MiB

Command output

##############################################################################
##############################################################################
###
### Running command:
###
###   rm -rf PREDA.buildbin-libdir && mkdir PREDA.buildbin-libdir && /Users/biocbuild/BBS/utils/build-universal.sh PREDA_1.36.0.tar.gz /Library/Frameworks/R.framework/Versions/Current/Resources/bin/R PREDA.buildbin-libdir
###
##############################################################################
##############################################################################


>>>>>>> 
>>>>>>> INSTALLATION WITH 'R CMD INSTALL --preclean --no-multiarch --library=PREDA.buildbin-libdir PREDA_1.36.0.tar.gz'
>>>>>>> 

* installing *source* package ‘PREDA’ ...
** using staged installation
** R
** inst
** byte-compile and prepare package for lazy loading
** help
*** installing help indices
** building package indices
** installing vignettes
** testing if installed package can be loaded from temporary location
** testing if installed package can be loaded from final location
** testing if installed package keeps a record of temporary installation path
* DONE (PREDA)