Back to Multiple platform build/check report for BioC 3.12
ABCDEFGHIJKLMNO[P]QRSTUVWXYZ

BUILD report for PREDA on merida1

This page was generated on 2021-04-17 12:11:19 -0400 (Sat, 17 Apr 2021).

To the developers/maintainers of the PREDA package:
Please make sure to use the following settings in order to reproduce any error or warning you see on this page.
Package 1380/1974HostnameOS / ArchINSTALLBUILDCHECKBUILD BIN
PREDA 1.36.0  (landing page)
Francesco Ferrari
Snapshot Date: 2021-04-16 14:50:12 -0400 (Fri, 16 Apr 2021)
URL: https://git.bioconductor.org/packages/PREDA
Branch: RELEASE_3_12
Last Commit: bf51167
Last Changed Date: 2020-10-27 10:42:27 -0400 (Tue, 27 Oct 2020)
malbec1Linux (Ubuntu 18.04.5 LTS) / x86_64  OK    OK    WARNINGS  UNNEEDED, same version exists in internal repository
tokay1Windows Server 2012 R2 Standard / x64  OK    OK    WARNINGS    OK  UNNEEDED, same version exists in internal repository
merida1macOS 10.14.6 Mojave / x86_64  OK    OK    WARNINGS    OK  UNNEEDED, same version exists in internal repository

Summary

Package: PREDA
Version: 1.36.0
Command: /Library/Frameworks/R.framework/Versions/Current/Resources/bin/R CMD build --keep-empty-dirs --no-resave-data PREDA
StartedAt: 2021-04-16 21:04:08 -0400 (Fri, 16 Apr 2021)
EndedAt: 2021-04-16 21:07:11 -0400 (Fri, 16 Apr 2021)
EllapsedTime: 183.4 seconds
RetCode: 0
Status:   OK  
PackageFile: PREDA_1.36.0.tar.gz
PackageFileSize: 1.847 MiB

Command output

##############################################################################
##############################################################################
###
### Running command:
###
###   /Library/Frameworks/R.framework/Versions/Current/Resources/bin/R CMD build --keep-empty-dirs --no-resave-data PREDA
###
##############################################################################
##############################################################################


* checking for file ‘PREDA/DESCRIPTION’ ... OK
* preparing ‘PREDA’:
* checking DESCRIPTION meta-information ... OK
* installing the package to build vignettes
* creating vignettes ... OK
Warning: ‘inst/doc’ files
    ‘PREDAclasses.pdf’, ‘PREDAtutorial.pdf’
  ignored as vignettes have been rebuilt.
  Run R CMD build with --no-build-vignettes to prevent rebuilding.
* checking for LF line-endings in source and make files and shell scripts
* checking for empty or unneeded directories
* building ‘PREDA_1.36.0.tar.gz’