Back to Multiple platform build/check report for BioC 3.19:   simplified   long
ABCDEFGHIJKLMNO[P]QRSTUVWXYZ

This page was generated on 2024-06-21 17:39 -0400 (Fri, 21 Jun 2024).

HostnameOSArch (*)R versionInstalled pkgs
nebbiolo1Linux (Ubuntu 22.04.3 LTS)x86_644.4.0 (2024-04-24) -- "Puppy Cup" 4758
palomino3Windows Server 2022 Datacenterx644.4.0 (2024-04-24 ucrt) -- "Puppy Cup" 4492
merida1macOS 12.7.4 Montereyx86_644.4.0 (2024-04-24) -- "Puppy Cup" 4506
kjohnson1macOS 13.6.6 Venturaarm644.4.0 (2024-04-24) -- "Puppy Cup" 4464
Click on any hostname to see more info about the system (e.g. compilers)      (*) as reported by 'uname -p', except on Windows and Mac OS X

Package 1533/2300HostnameOS / ArchINSTALLBUILDCHECKBUILD BIN
PDATK 1.12.0  (landing page)
Benjamin Haibe-Kains
Snapshot Date: 2024-06-19 14:00 -0400 (Wed, 19 Jun 2024)
git_url: https://git.bioconductor.org/packages/PDATK
git_branch: RELEASE_3_19
git_last_commit: 857690d
git_last_commit_date: 2024-04-30 11:31:36 -0400 (Tue, 30 Apr 2024)
nebbiolo1Linux (Ubuntu 22.04.3 LTS) / x86_64  OK    OK    WARNINGS  UNNEEDED, same version is already published
palomino3Windows Server 2022 Datacenter / x64  OK    OK    WARNINGS    OK  UNNEEDED, same version is already published
merida1macOS 12.7.4 Monterey / x86_64  ERROR    ERROR  skippedskipped
kjohnson1macOS 13.6.6 Ventura / arm64  OK    OK    WARNINGS    OK  UNNEEDED, same version is already published


BUILD results for PDATK on palomino3

To the developers/maintainers of the PDATK package:
- Allow up to 24 hours (and sometimes 48 hours) for your latest push to git@git.bioconductor.org:packages/PDATK.git to reflect on this report. See Troubleshooting Build Report for more information.
- Use the following Renviron settings to reproduce errors and warnings.
- If 'R CMD check' started to fail recently on the Linux builder(s) over a missing dependency, add the missing dependency to 'Suggests:' in your DESCRIPTION file. See Renviron.bioc for more information.

raw results


Summary

Package: PDATK
Version: 1.12.0
Command: chmod a+r PDATK -R && F:\biocbuild\bbs-3.19-bioc\R\bin\R.exe CMD build --keep-empty-dirs --no-resave-data PDATK
StartedAt: 2024-06-19 21:42:04 -0400 (Wed, 19 Jun 2024)
EndedAt: 2024-06-19 22:02:08 -0400 (Wed, 19 Jun 2024)
EllapsedTime: 1203.4 seconds
RetCode: 0
Status:   OK  
PackageFile: PDATK_1.12.0.tar.gz
PackageFileSize: 1.677 MiB

Command output

##############################################################################
##############################################################################
###
### Running command:
###
###   chmod a+r PDATK -R && F:\biocbuild\bbs-3.19-bioc\R\bin\R.exe CMD build --keep-empty-dirs --no-resave-data PDATK
###
##############################################################################
##############################################################################


* checking for file 'PDATK/DESCRIPTION' ... OK
* preparing 'PDATK':
* checking DESCRIPTION meta-information ... OK
* installing the package to build vignettes
* creating vignettes ... OK
* checking for LF line-endings in source and make files and shell scripts
* checking for empty or unneeded directories
* looking to see if a 'data/datalist' file should be added
* building 'PDATK_1.12.0.tar.gz'