Back to Multiple platform build/check report for BioC 3.18:   simplified   long
ABCDEFGHIJKL[M]NOPQRSTUVWXYZ

This page was generated on 2024-03-01 11:37:56 -0500 (Fri, 01 Mar 2024).

HostnameOSArch (*)R versionInstalled pkgs
nebbiolo2Linux (Ubuntu 22.04.3 LTS)x86_644.3.2 Patched (2023-11-13 r85521) -- "Eye Holes" 4692
palomino4Windows Server 2022 Datacenterx644.3.2 (2023-10-31 ucrt) -- "Eye Holes" 4445
lconwaymacOS 12.7.1 Montereyx86_644.3.2 Patched (2023-11-01 r85457) -- "Eye Holes" 4466
Click on any hostname to see more info about the system (e.g. compilers)      (*) as reported by 'uname -p', except on Windows and Mac OS X

Package 1263/2266HostnameOS / ArchINSTALLBUILDCHECKBUILD BIN
MinimumDistance 1.46.0  (landing page)
Robert Scharpf
Snapshot Date: 2024-02-29 14:05:06 -0500 (Thu, 29 Feb 2024)
git_url: https://git.bioconductor.org/packages/MinimumDistance
git_branch: RELEASE_3_18
git_last_commit: b1328d8
git_last_commit_date: 2023-10-24 09:50:03 -0500 (Tue, 24 Oct 2023)
nebbiolo2Linux (Ubuntu 22.04.3 LTS) / x86_64  OK    OK    WARNINGS  UNNEEDED, same version is already published
palomino4Windows Server 2022 Datacenter / x64  OK    OK    WARNINGS    OK  UNNEEDED, same version is already published
lconwaymacOS 12.7.1 Monterey / x86_64  OK    OK    WARNINGS    OK  UNNEEDED, same version is already published
kjohnson1macOS 13.6.1 Ventura / arm64see weekly results here

BUILD BIN results for MinimumDistance on lconway


To the developers/maintainers of the MinimumDistance package:
- Allow up to 24 hours (and sometimes 48 hours) for your latest push to git@git.bioconductor.org:packages/MinimumDistance.git to reflect on this report. See Troubleshooting Build Report for more information.
- Use the following Renviron settings to reproduce errors and warnings.
- If 'R CMD check' started to fail recently on the Linux builder(s) over a missing dependency, add the missing dependency to 'Suggests:' in your DESCRIPTION file. See Renviron.bioc for more information.

raw results


Summary

Package: MinimumDistance
Version: 1.46.0
Command: rm -rf MinimumDistance.buildbin-libdir && mkdir MinimumDistance.buildbin-libdir && /Users/biocbuild/BBS/utils/build-universal.sh MinimumDistance_1.46.0.tar.gz /Library/Frameworks/R.framework/Resources/bin/R MinimumDistance.buildbin-libdir
StartedAt: 2024-03-01 00:41:22 -0500 (Fri, 01 Mar 2024)
EndedAt: 2024-03-01 00:42:34 -0500 (Fri, 01 Mar 2024)
EllapsedTime: 72.4 seconds
RetCode: 0
Status:   OK  
PackageFile: MinimumDistance_1.46.0.tgz
PackageFileSize: 3.656 MiB

Command output

##############################################################################
##############################################################################
###
### Running command:
###
###   rm -rf MinimumDistance.buildbin-libdir && mkdir MinimumDistance.buildbin-libdir && /Users/biocbuild/BBS/utils/build-universal.sh MinimumDistance_1.46.0.tar.gz /Library/Frameworks/R.framework/Resources/bin/R MinimumDistance.buildbin-libdir
###
##############################################################################
##############################################################################


>>>>>>> 
>>>>>>> INSTALLATION WITH 'R CMD INSTALL --preclean --no-multiarch --library=MinimumDistance.buildbin-libdir MinimumDistance_1.46.0.tar.gz'
>>>>>>> 

* installing *source* package ‘MinimumDistance’ ...
** using staged installation
** R
** data
** inst
** byte-compile and prepare package for lazy loading
No methods found in package ‘oligoClasses’ for request: ‘mean’ when loading ‘crlmm’
Warning: replacing previous import ‘ff::pattern’ by ‘grid::pattern’ when loading ‘MinimumDistance’
Creating a new generic function for ‘allNames’ in package ‘MinimumDistance’
in method for ‘coerce’ with signature ‘"RangedDataCNV","GRanges"’: no definition for class “RangedDataCNV”
in method for ‘todf’ with signature ‘object="TrioSet",rangeData="RangedData"’: no definition for class “RangedData”
in method for ‘prune’ with signature ‘object="TrioSet",ranges="RangedDataCNV"’: no definition for class “RangedDataCNV”
in method for ‘prune’ with signature ‘object="TrioSetList",ranges="RangedDataCNV"’: no definition for class “RangedDataCNV”
** help
*** installing help indices
** building package indices
** installing vignettes
** testing if installed package can be loaded from temporary location
No methods found in package ‘oligoClasses’ for request: ‘mean’ when loading ‘crlmm’
Warning: replacing previous import ‘ff::pattern’ by ‘grid::pattern’ when loading ‘MinimumDistance’
** testing if installed package can be loaded from final location
No methods found in package ‘oligoClasses’ for request: ‘mean’ when loading ‘crlmm’
Warning: replacing previous import ‘ff::pattern’ by ‘grid::pattern’ when loading ‘MinimumDistance’
** testing if installed package keeps a record of temporary installation path
* DONE (MinimumDistance)