Index of /checkResults/release/bioc-LATEST/MinimumDistance/raw-results

[ICO]NameLast modifiedSizeDescription

[DIR]Parent Directory  -  
[   ]info.dcf25-Mar-2023 00:06 285  
[DIR]kjohnson/12-Jul-2022 00:06 -  
[DIR]lconway/25-Mar-2023 00:06 -  
[DIR]nebbiolo2/25-Mar-2023 00:05 -  
[DIR]palomino4/25-Mar-2023 00:06 -