Index of /checkResults/release/bioc-LATEST/MSstats/raw-results

[ICO]NameLast modifiedSizeDescription

[DIR]Parent Directory  -  
[DIR]nebbiolo1/28-May-2023 00:05 -  
[DIR]palomino3/28-May-2023 00:06 -  
[   ]info.dcf28-May-2023 00:06 266  
[DIR]merida1/28-May-2023 00:06 -