![]() | Name | Last modified | Size | Description |
---|---|---|---|---|
![]() | Parent Directory | - | ||
![]() | buildbin-out.txt | 01-Oct-2023 00:36 | 3.4K | |
![]() | buildbin-summary.dcf | 01-Oct-2023 00:36 | 512 | |
![]() | buildsrc-out.txt | 01-Oct-2023 00:36 | 870 | |
![]() | buildsrc-summary.dcf | 01-Oct-2023 00:36 | 450 | |
![]() | checksrc-out.txt | 01-Oct-2023 00:36 | 5.4K | |
![]() | checksrc-summary.dcf | 01-Oct-2023 00:36 | 445 | |
![]() | install-out.txt | 01-Oct-2023 00:36 | 3.2K | |
![]() | install-summary.dcf | 01-Oct-2023 00:36 | 267 | |