![]() | Name | Last modified | Size | Description |
---|---|---|---|---|
![]() | Parent Directory | - | ||
![]() | buildsrc-out.txt | 03-Oct-2023 00:35 | 835 | |
![]() | buildsrc-summary.dcf | 03-Oct-2023 00:35 | 415 | |
![]() | checksrc-out.txt | 03-Oct-2023 00:35 | 4.9K | |
![]() | checksrc-summary.dcf | 03-Oct-2023 00:35 | 412 | |
![]() | install-out.txt | 03-Oct-2023 00:35 | 3.0K | |
![]() | install-summary.dcf | 03-Oct-2023 00:35 | 258 | |