![]() | Name | Last modified | Size | Description |
---|---|---|---|---|
![]() | Parent Directory | - | ||
![]() | buildbin-out.txt | 23-Sep-2023 00:37 | 7.4K | |
![]() | buildbin-summary.dcf | 23-Sep-2023 00:37 | 528 | |
![]() | buildsrc-out.txt | 23-Sep-2023 00:37 | 845 | |
![]() | buildsrc-summary.dcf | 23-Sep-2023 00:37 | 426 | |
![]() | checksrc-out.txt | 23-Sep-2023 00:37 | 5.0K | |
![]() | checksrc-summary.dcf | 23-Sep-2023 00:37 | 442 | |
![]() | install-out.txt | 23-Sep-2023 00:37 | 3.8K | |
![]() | install-summary.dcf | 23-Sep-2023 00:37 | 269 | |