Back to Multiple platform build/check report for BioC 3.19:   simplified   long
ABCDEFGH[I]JKLMNOPQRSTUVWXYZ

This page was generated on 2024-06-14 14:38 -0400 (Fri, 14 Jun 2024).

HostnameOSArch (*)R versionInstalled pkgs
nebbiolo1Linux (Ubuntu 22.04.3 LTS)x86_644.4.0 (2024-04-24) -- "Puppy Cup" 4757
palomino3Windows Server 2022 Datacenterx644.4.0 (2024-04-24 ucrt) -- "Puppy Cup" 4491
Click on any hostname to see more info about the system (e.g. compilers)      (*) as reported by 'uname -p', except on Windows and Mac OS X

Package 1076/2300HostnameOS / ArchINSTALLBUILDCHECKBUILD BIN
IsoformSwitchAnalyzeR 2.4.0  (landing page)
Kristoffer Vitting-Seerup
Snapshot Date: 2024-06-12 14:00 -0400 (Wed, 12 Jun 2024)
git_url: https://git.bioconductor.org/packages/IsoformSwitchAnalyzeR
git_branch: RELEASE_3_19
git_last_commit: 7835f1d
git_last_commit_date: 2024-04-30 10:58:30 -0400 (Tue, 30 Apr 2024)
nebbiolo1Linux (Ubuntu 22.04.3 LTS) / x86_64  OK    OK    OK  UNNEEDED, same version is already published
palomino3Windows Server 2022 Datacenter / x64  OK    OK    OK    OK  UNNEEDED, same version is already published


BUILD results for IsoformSwitchAnalyzeR on palomino3

To the developers/maintainers of the IsoformSwitchAnalyzeR package:
- Allow up to 24 hours (and sometimes 48 hours) for your latest push to git@git.bioconductor.org:packages/IsoformSwitchAnalyzeR.git to reflect on this report. See Troubleshooting Build Report for more information.
- Use the following Renviron settings to reproduce errors and warnings.
- If 'R CMD check' started to fail recently on the Linux builder(s) over a missing dependency, add the missing dependency to 'Suggests:' in your DESCRIPTION file. See Renviron.bioc for more information.

raw results


Summary

Package: IsoformSwitchAnalyzeR
Version: 2.4.0
Command: chmod a+r IsoformSwitchAnalyzeR -R && F:\biocbuild\bbs-3.19-bioc\R\bin\R.exe CMD build --keep-empty-dirs --no-resave-data IsoformSwitchAnalyzeR
StartedAt: 2024-06-12 20:09:31 -0400 (Wed, 12 Jun 2024)
EndedAt: 2024-06-12 20:14:22 -0400 (Wed, 12 Jun 2024)
EllapsedTime: 291.5 seconds
RetCode: 0
Status:   OK  
PackageFile: IsoformSwitchAnalyzeR_2.4.0.tar.gz
PackageFileSize: 4.487 MiB

Command output

##############################################################################
##############################################################################
###
### Running command:
###
###   chmod a+r IsoformSwitchAnalyzeR -R && F:\biocbuild\bbs-3.19-bioc\R\bin\R.exe CMD build --keep-empty-dirs --no-resave-data IsoformSwitchAnalyzeR
###
##############################################################################
##############################################################################


* checking for file 'IsoformSwitchAnalyzeR/DESCRIPTION' ... OK
* preparing 'IsoformSwitchAnalyzeR':
* checking DESCRIPTION meta-information ... OK
* cleaning src
* installing the package to build vignettes
* creating vignettes ... OK
* cleaning src
* checking for LF line-endings in source and make files and shell scripts
* checking for empty or unneeded directories
* looking to see if a 'data/datalist' file should be added
* building 'IsoformSwitchAnalyzeR_2.4.0.tar.gz'