Back to Multiple platform build/check report for BioC 3.18:   simplified   long
ABCDEFGH[I]JKLMNOPQRSTUVWXYZ

This page was generated on 2024-02-22 11:37:51 -0500 (Thu, 22 Feb 2024).

HostnameOSArch (*)R versionInstalled pkgs
nebbiolo2Linux (Ubuntu 22.04.3 LTS)x86_644.3.2 Patched (2023-11-13 r85521) -- "Eye Holes" 4691
palomino4Windows Server 2022 Datacenterx644.3.2 (2023-10-31 ucrt) -- "Eye Holes" 4444
lconwaymacOS 12.7.1 Montereyx86_644.3.2 Patched (2023-11-01 r85457) -- "Eye Holes" 4465
Click on any hostname to see more info about the system (e.g. compilers)      (*) as reported by 'uname -p', except on Windows and Mac OS X

Package 1061/2266HostnameOS / ArchINSTALLBUILDCHECKBUILD BIN
IsoformSwitchAnalyzeR 2.2.0  (landing page)
Kristoffer Vitting-Seerup
Snapshot Date: 2024-02-21 14:05:05 -0500 (Wed, 21 Feb 2024)
git_url: https://git.bioconductor.org/packages/IsoformSwitchAnalyzeR
git_branch: RELEASE_3_18
git_last_commit: 172bcd1
git_last_commit_date: 2023-10-24 10:57:42 -0500 (Tue, 24 Oct 2023)
nebbiolo2Linux (Ubuntu 22.04.3 LTS) / x86_64  OK    OK    OK  UNNEEDED, same version is already published
palomino4Windows Server 2022 Datacenter / x64  OK    OK    OK    OK  UNNEEDED, same version is already published
lconwaymacOS 12.7.1 Monterey / x86_64  OK    OK    OK    OK  UNNEEDED, same version is already published
kjohnson1macOS 13.6.1 Ventura / arm64see weekly results here

CHECK results for IsoformSwitchAnalyzeR on lconway


To the developers/maintainers of the IsoformSwitchAnalyzeR package:
- Allow up to 24 hours (and sometimes 48 hours) for your latest push to git@git.bioconductor.org:packages/IsoformSwitchAnalyzeR.git to reflect on this report. See Troubleshooting Build Report for more information.
- Use the following Renviron settings to reproduce errors and warnings.
- If 'R CMD check' started to fail recently on the Linux builder(s) over a missing dependency, add the missing dependency to 'Suggests:' in your DESCRIPTION file. See Renviron.bioc for more information.

raw results


Summary

Package: IsoformSwitchAnalyzeR
Version: 2.2.0
Command: /Library/Frameworks/R.framework/Resources/bin/R CMD check --install=check:IsoformSwitchAnalyzeR.install-out.txt --library=/Library/Frameworks/R.framework/Resources/library --no-vignettes --timings IsoformSwitchAnalyzeR_2.2.0.tar.gz
StartedAt: 2024-02-21 21:04:27 -0500 (Wed, 21 Feb 2024)
EndedAt: 2024-02-21 21:16:27 -0500 (Wed, 21 Feb 2024)
EllapsedTime: 720.0 seconds
RetCode: 0
Status:   OK  
CheckDir: IsoformSwitchAnalyzeR.Rcheck
Warnings: 0

Command output

##############################################################################
##############################################################################
###
### Running command:
###
###   /Library/Frameworks/R.framework/Resources/bin/R CMD check --install=check:IsoformSwitchAnalyzeR.install-out.txt --library=/Library/Frameworks/R.framework/Resources/library --no-vignettes --timings IsoformSwitchAnalyzeR_2.2.0.tar.gz
###
##############################################################################
##############################################################################


* using log directory ‘/Users/biocbuild/bbs-3.18-bioc/meat/IsoformSwitchAnalyzeR.Rcheck’
* using R version 4.3.2 Patched (2023-11-01 r85457)
* using platform: x86_64-apple-darwin20 (64-bit)
* R was compiled by
    Apple clang version 14.0.3 (clang-1403.0.22.14.1)
    GNU Fortran (GCC) 12.2.0
* running under: macOS Monterey 12.7.1
* using session charset: UTF-8
* using option ‘--no-vignettes’
* checking for file ‘IsoformSwitchAnalyzeR/DESCRIPTION’ ... OK
* checking extension type ... Package
* this is package ‘IsoformSwitchAnalyzeR’ version ‘2.2.0’
* checking package namespace information ... OK
* checking package dependencies ... NOTE
Depends: includes the non-default packages:
  'limma', 'DEXSeq', 'satuRn', 'sva', 'ggplot2', 'pfamAnalyzeR'
Adding so many packages to the search path is excessive and importing
selectively is preferable.
* checking if this is a source package ... OK
* checking if there is a namespace ... OK
* checking for hidden files and directories ... OK
* checking for portable file names ... OK
* checking for sufficient/correct file permissions ... OK
* checking whether package ‘IsoformSwitchAnalyzeR’ can be installed ... OK
* used C compiler: ‘Apple clang version 14.0.0 (clang-1400.0.29.202)’
* used SDK: ‘MacOSX11.3.sdk’
* checking installed package size ... NOTE
  installed size is  6.8Mb
  sub-directories of 1Mb or more:
    R         1.0Mb
    data      1.1Mb
    extdata   4.3Mb
* checking package directory ... OK
* checking ‘build’ directory ... OK
* checking DESCRIPTION meta-information ... OK
* checking top-level files ... OK
* checking for left-over files ... OK
* checking index information ... OK
* checking package subdirectories ... OK
* checking R files for non-ASCII characters ... OK
* checking R files for syntax errors ... OK
* checking whether the package can be loaded ... OK
* checking whether the package can be loaded with stated dependencies ... OK
* checking whether the package can be unloaded cleanly ... OK
* checking whether the namespace can be loaded with stated dependencies ... OK
* checking whether the namespace can be unloaded cleanly ... OK
* checking dependencies in R code ... OK
* checking S3 generic/method consistency ... OK
* checking replacement functions ... OK
* checking foreign function calls ... OK
* checking R code for possible problems ... NOTE
analyzeIUPred2A: no visible global function definition for 'queryHits'
analyzeIUPred2A: no visible global function definition for
  'subjectHits'
analyzeNovelIsoformORF: no visible binding for global variable
  'orf_origin'
analyzeNovelIsoformORF: no visible binding for global variable
  'orfStartGenomic'
analyzeNovelIsoformORF: no visible binding for global variable
  'isoform_id'
analyzeNovelIsoformORF: no visible binding for global variable
  'orfEndGenomic'
compareAnnotationOfTwoIsoforms: no visible global function definition
  for 'queryHits'
compareAnnotationOfTwoIsoforms: no visible global function definition
  for 'subjectHits'
expressionAnalysisPlot: no visible binding for global variable
  'Condition'
expressionAnalysisPlot: no visible binding for global variable
  'gene_expression'
expressionAnalysisPlot: no visible binding for global variable 'CI_up'
expressionAnalysisPlot: no visible binding for global variable
  'CI_down'
expressionAnalysisPlot: no visible binding for global variable
  'sigLevelPos'
expressionAnalysisPlot: no visible binding for global variable
  'sigLevel'
expressionAnalysisPlot: no visible binding for global variable 'CI_hi'
expressionAnalysisPlot: no visible binding for global variable 'CI_low'
expressionAnalysisPlot: no visible binding for global variable 'ymax'
expressionAnalysisPlot: no visible binding for global variable
  'sigEval'
expressionAnalysisPlot: no visible binding for global variable 'idNr'
expressionAnalysisPlot: no visible binding for global variable 'IF'
extractConsequenceEnrichment: no visible binding for global variable
  'feature2'
extractConsequenceEnrichment: no visible binding for global variable
  'propOfRelevantEvents'
extractConsequenceEnrichment: no visible binding for global variable
  'Significant'
extractConsequenceEnrichment: no visible binding for global variable
  'propCiLo'
extractConsequenceEnrichment: no visible binding for global variable
  'propCiHi'
extractConsequenceEnrichment: no visible binding for global variable
  'nTot'
extractConsequenceEnrichmentComparison: no visible binding for global
  variable 'Comparison'
extractConsequenceEnrichmentComparison: no visible binding for global
  variable 'propOfRelevantEvents'
extractConsequenceEnrichmentComparison: no visible binding for global
  variable 'Significant'
extractConsequenceEnrichmentComparison: no visible binding for global
  variable 'nTot'
extractConsequenceEnrichmentComparison: no visible binding for global
  variable 'propCiHi'
extractConsequenceEnrichmentComparison: no visible binding for global
  variable 'propCiLo'
extractConsequenceGenomeWide: no visible binding for global variable
  'isoform_feature'
extractConsequenceGenomeWide: no visible binding for global variable
  'value'
extractConsequenceGenomeWide: no visible binding for global variable
  'variable'
extractConsequenceGenomeWide: no visible binding for global variable
  'ymax'
extractConsequenceGenomeWide: no visible binding for global variable
  'significance'
extractConsequenceGenomeWide: no visible binding for global variable
  'idNr'
extractConsequenceSummary: no visible binding for global variable
  'switchConsequence'
extractConsequenceSummary: no visible binding for global variable
  'geneFraction'
extractConsequenceSummary: no visible binding for global variable
  'nrGenesWithConsequences'
extractConsequenceSummary: no visible binding for global variable
  'isoFraction'
extractConsequenceSummary: no visible binding for global variable
  'nrIsoWithConsequences'
extractSplicingEnrichment: no visible binding for global variable
  'AStype'
extractSplicingEnrichment: no visible binding for global variable
  'propUp'
extractSplicingEnrichment: no visible binding for global variable
  'Significant'
extractSplicingEnrichment: no visible binding for global variable
  'nTot'
extractSplicingEnrichment: no visible binding for global variable
  'propUpCiHi'
extractSplicingEnrichment: no visible binding for global variable
  'propUpCiLo'
extractSplicingEnrichmentComparison: no visible binding for global
  variable 'Comparison'
extractSplicingEnrichmentComparison: no visible binding for global
  variable 'propUp'
extractSplicingEnrichmentComparison: no visible binding for global
  variable 'Significant'
extractSplicingEnrichmentComparison: no visible binding for global
  variable 'nTot'
extractSplicingEnrichmentComparison: no visible binding for global
  variable 'propUpCiHi'
extractSplicingEnrichmentComparison: no visible binding for global
  variable 'propUpCiLo'
extractSplicingGenomeWide: no visible binding for global variable
  'isoform_feature'
extractSplicingGenomeWide: no visible binding for global variable
  'value'
extractSplicingGenomeWide: no visible binding for global variable
  'variable'
extractSplicingGenomeWide: no visible binding for global variable
  'ymax'
extractSplicingGenomeWide: no visible binding for global variable
  'significance'
extractSplicingGenomeWide: no visible binding for global variable
  'idNr'
extractSplicingSummary: no visible binding for global variable
  'splicingResult'
extractSplicingSummary: no visible binding for global variable
  'geneFraction'
extractSplicingSummary: no visible binding for global variable
  'nrGenesWithConsequences'
extractSplicingSummary: no visible binding for global variable
  'isoFraction'
extractSplicingSummary: no visible binding for global variable
  'nrIsoWithConsequences'
extractSubCellShifts: no visible binding for global variable 'gene_ref'
extractSubCellShifts: no visible binding for global variable 'gene_id'
extractSubCellShifts: no visible binding for global variable
  'condition_1'
extractSubCellShifts: no visible binding for global variable
  'condition_2'
extractSubCellShifts: no visible binding for global variable
  'isoformUpregulated'
extractSubCellShifts: no visible binding for global variable
  'isoformDownregulated'
extractSubCellShifts: no visible binding for global variable
  'featureCompared'
extractSubCellShifts: no visible binding for global variable
  'isoformsDifferent'
extractSubCellShifts: no visible binding for global variable
  'isoform_id'
extractSubCellShifts: no visible binding for global variable
  'Localizations'
extractSubCellShifts: no visible binding for global variable
  'location_gain'
extractSubCellShifts: no visible binding for global variable
  'location_loss'
extractSubCellShifts: no visible binding for global variable 'n_genes'
extractSubCellShifts: no visible binding for global variable 'n_switch'
extractSubCellShifts: no visible binding for global variable 'Genes'
extractSubCellShifts: no visible binding for global variable 'Switch'
grangesFracOverlap: no visible global function definition for
  'queryHits'
grangesFracOverlap: no visible global function definition for
  'subjectHits'
importGTF: no visible binding for global variable 'gene_id'
importGTF: no visible binding for global variable 'gene_name'
importRdata: no visible binding for global variable 'isoform_id'
importRdata: no visible binding for global variable 'gene_id'
importRdata: no visible binding for global variable 'ref_gene_id'
importRdata: no visible binding for global variable 'n_ref_gene_ids'
importRdata: no visible binding for global variable 'n_iso_na'
importRdata: no visible global function definition for 'queryHits'
importRdata: no visible global function definition for 'subjectHits'
importRdata: no visible binding for global variable 'novel_iso'
importRdata: no visible binding for global variable 'known_ref_gene_id'
importRdata: no visible binding for global variable 'nt_overlap'
importRdata: no visible binding for global variable 'frac_overlap'
importRdata: no visible binding for global variable
  'log2_overlap_ratio'
importRdata: no visible binding for global variable 'has_ref_gene_id'
importRdata: no visible binding for global variable 'has_novel_iso'
importRdata: no visible binding for global variable 'gene_name'
importRdata: no visible binding for global variable 'n_ref'
importSalmonData: no visible global function definition for 'metadata'
importSalmonData: no visible global function definition for 'assay'
isoformSwitchTestSatuRn: no visible global function definition for
  'rowData'
isoformToGeneExp: no visible binding for global variable 'gene_id'
isoformToGeneExp: no visible binding for global variable 'gene_name'
preFilter: no visible global function definition for 'setdff'
switchPlotTranscript: no visible global function definition for
  'queryHits'
switchPlotTranscript: no visible binding for global variable 'topology'
switchPlotTranscript: no visible binding for global variable 'idNr'
switchPlotTranscript: no visible binding for global variable 'Topology'
switchPlotTranscript: no visible binding for global variable 'topGroup'
switchPlotTranscript: no visible binding for global variable 'y'
switchPlotTranscript: no visible binding for global variable 'yend'
switchPlotTranscript: no visible binding for global variable 'x'
switchPlotTranscript: no visible binding for global variable 'ymin'
switchPlotTranscript: no visible binding for global variable 'xmin'
switchPlotTranscript: no visible binding for global variable 'ymax'
switchPlotTranscript: no visible binding for global variable 'xmax'
switchPlotTranscript: no visible binding for global variable 'Domain'
switchPlotTranscript: no visible binding for global variable 'value'
Undefined global functions or variables:
  AStype CI_down CI_hi CI_low CI_up Comparison Condition Domain Genes
  IF Localizations Significant Switch Topology assay condition_1
  condition_2 feature2 featureCompared frac_overlap geneFraction
  gene_expression gene_id gene_name gene_ref has_novel_iso
  has_ref_gene_id idNr isoFraction isoformDownregulated
  isoformUpregulated isoform_feature isoform_id isoformsDifferent
  known_ref_gene_id location_gain location_loss log2_overlap_ratio
  metadata nTot n_genes n_iso_na n_ref n_ref_gene_ids n_switch
  novel_iso nrGenesWithConsequences nrIsoWithConsequences nt_overlap
  orfEndGenomic orfStartGenomic orf_origin propCiHi propCiLo
  propOfRelevantEvents propUp propUpCiHi propUpCiLo queryHits
  ref_gene_id rowData setdff sigEval sigLevel sigLevelPos significance
  splicingResult subjectHits switchConsequence topGroup topology value
  variable x xmax xmin y yend ymax ymin
* checking Rd files ... OK
* checking Rd metadata ... OK
* checking Rd cross-references ... OK
* checking for missing documentation entries ... OK
* checking for code/documentation mismatches ... OK
* checking Rd \usage sections ... OK
* checking Rd contents ... OK
* checking for unstated dependencies in examples ... OK
* checking contents of ‘data’ directory ... OK
* checking data for non-ASCII characters ... OK
* checking data for ASCII and uncompressed saves ... OK
* checking line endings in C/C++/Fortran sources/headers ... OK
* checking compiled code ... NOTE
Note: information on .o files is not available
* checking files in ‘vignettes’ ... OK
* checking examples ... OK
Examples with CPU (user + system) or elapsed time > 5s
                                user system elapsed
IsoformSwitchTestDEXSeq       78.434  1.035  79.865
isoformSwitchAnalysisCombined 47.714  6.280  54.396
importSalmonData              36.625  1.620  55.561
prepareSalmonFilesDataFrame   15.542  0.521  20.693
analyzeORF                    11.193  0.098  11.352
extractSequence               10.553  0.076  10.672
extractTopSwitches            10.028  0.070  10.146
isoformSwitchAnalysisPart1     8.846  0.145   9.049
extractSwitchSummary           8.925  0.056   9.018
analyzeAlternativSplicing      6.901  0.070   7.004
* checking for unstated dependencies in vignettes ... OK
* checking package vignettes in ‘inst/doc’ ... OK
* checking running R code from vignettes ... SKIPPED
* checking re-building of vignette outputs ... SKIPPED
* checking PDF version of manual ... OK
* DONE

Status: 4 NOTEs
See
  ‘/Users/biocbuild/bbs-3.18-bioc/meat/IsoformSwitchAnalyzeR.Rcheck/00check.log’
for details.



Installation output

IsoformSwitchAnalyzeR.Rcheck/00install.out

##############################################################################
##############################################################################
###
### Running command:
###
###   /Library/Frameworks/R.framework/Resources/bin/R CMD INSTALL IsoformSwitchAnalyzeR
###
##############################################################################
##############################################################################


* installing to library ‘/Library/Frameworks/R.framework/Versions/4.3-x86_64/Resources/library’
* installing *source* package ‘IsoformSwitchAnalyzeR’ ...
** using staged installation
** libs
using C compiler: ‘Apple clang version 14.0.0 (clang-1400.0.29.202)’
using SDK: ‘MacOSX11.3.sdk’
clang -arch x86_64 -I"/Library/Frameworks/R.framework/Resources/include" -DNDEBUG   -I/opt/R/x86_64/include    -fPIC  -falign-functions=64 -Wall -g -O2  -c utils.c -o utils.o
clang -arch x86_64 -dynamiclib -Wl,-headerpad_max_install_names -undefined dynamic_lookup -L/Library/Frameworks/R.framework/Resources/lib -L/opt/R/x86_64/lib -o IsoformSwitchAnalyzeR.so utils.o -F/Library/Frameworks/R.framework/.. -framework R -Wl,-framework -Wl,CoreFoundation
installing to /Library/Frameworks/R.framework/Versions/4.3-x86_64/Resources/library/00LOCK-IsoformSwitchAnalyzeR/00new/IsoformSwitchAnalyzeR/libs
** R
** data
** inst
** byte-compile and prepare package for lazy loading
** help
*** installing help indices
** building package indices
** installing vignettes
** testing if installed package can be loaded from temporary location
** checking absolute paths in shared objects and dynamic libraries
** testing if installed package can be loaded from final location
** testing if installed package keeps a record of temporary installation path
* DONE (IsoformSwitchAnalyzeR)

Tests output


Example timings

IsoformSwitchAnalyzeR.Rcheck/IsoformSwitchAnalyzeR-Ex.timings

nameusersystemelapsed
IsoformSwitchTestDEXSeq78.434 1.03579.865
IsoformSwitchTestSatuRn3.1180.1343.229
addORFfromGTF0.9950.0201.024
analyzeAlternativSplicing6.9010.0707.004
analyzeCPAT0.0620.0050.068
analyzeCPC20.0550.0040.059
analyzeDeepLoc20.2660.0450.289
analyzeDeepTMHMM0.5840.0090.596
analyzeIUPred2A2.7810.0392.835
analyzeNovelIsoformORF0.8290.0120.847
analyzeORF11.193 0.09811.352
analyzePFAM0.5280.0090.540
analyzeSignalP0.0930.0050.100
analyzeSwitchConsequences1.0800.0231.109
expressionAnalysisPlots1.2130.0191.243
extractConsequenceEnrichment0.5400.0110.556
extractConsequenceEnrichmentComparison0.8100.0140.832
extractConsequenceSummary0.7610.0080.772
extractGeneExpression0.0480.0030.052
extractGenomeWideAnalysis3.5010.0863.614
extractGenomeWideSplicingAnalysis3.9020.0964.018
extractSequence10.553 0.07610.672
extractSplicingEnrichment1.2750.0231.305
extractSplicingEnrichmentComparison1.3930.0121.410
extractSplicingSummary1.0290.0141.047
extractSwitchOverlap0.4030.0140.419
extractSwitchSummary8.9250.0569.018
extractTopSwitches10.028 0.07010.146
importCufflinksGalaxyData0.0010.0020.002
importGTF0.8090.0120.825
importIsoformExpression0.6540.1360.719
importRdata2.5950.1132.682
importSalmonData36.625 1.62055.561
isoformSwitchAnalysisCombined47.714 6.28054.396
isoformSwitchAnalysisPart18.8460.1459.049
isoformSwitchAnalysisPart23.8130.3784.205
isoformToGeneExp3.1530.2033.322
isoformToIsoformFraction0.2990.0880.342
preFilter0.0290.0040.034
prepareSalmonFilesDataFrame15.542 0.52120.693
subsetSwitchAnalyzeRlist0.0260.0030.031
switchAnalyzeRlist2.8680.1112.963
switchPlot3.3190.0523.391
switchPlotTranscript2.0510.0212.084
testData0.0100.0020.013