Back to Multiple platform build/check report for BioC 3.19:   simplified   long
ABCDEFGH[I]JKLMNOPQRSTUVWXYZ

This page was generated on 2024-06-11 14:41 -0400 (Tue, 11 Jun 2024).

HostnameOSArch (*)R versionInstalled pkgs
nebbiolo1Linux (Ubuntu 22.04.3 LTS)x86_644.4.0 (2024-04-24) -- "Puppy Cup" 4757
palomino3Windows Server 2022 Datacenterx644.4.0 (2024-04-24 ucrt) -- "Puppy Cup" 4491
lconwaymacOS 12.7.1 Montereyx86_644.4.0 (2024-04-24) -- "Puppy Cup" 4522
kjohnson3macOS 13.6.5 Venturaarm644.4.0 (2024-04-24) -- "Puppy Cup" 4468
Click on any hostname to see more info about the system (e.g. compilers)      (*) as reported by 'uname -p', except on Windows and Mac OS X

Package 1053/2300HostnameOS / ArchINSTALLBUILDCHECKBUILD BIN
IntramiRExploreR 1.26.0  (landing page)
Surajit Bhattacharya
Snapshot Date: 2024-06-09 14:00 -0400 (Sun, 09 Jun 2024)
git_url: https://git.bioconductor.org/packages/IntramiRExploreR
git_branch: RELEASE_3_19
git_last_commit: 79abd70
git_last_commit_date: 2024-04-30 11:37:24 -0400 (Tue, 30 Apr 2024)
nebbiolo1Linux (Ubuntu 22.04.3 LTS) / x86_64  OK    OK    WARNINGS  UNNEEDED, same version is already published
palomino3Windows Server 2022 Datacenter / x64  OK    OK    WARNINGS    OK  UNNEEDED, same version is already published
lconwaymacOS 12.7.1 Monterey / x86_64  OK    OK    WARNINGS    OK  UNNEEDED, same version is already published
kjohnson3macOS 13.6.5 Ventura / arm64  OK    OK    WARNINGS    OK  UNNEEDED, same version is already published


BUILD results for IntramiRExploreR on palomino3

To the developers/maintainers of the IntramiRExploreR package:
- Allow up to 24 hours (and sometimes 48 hours) for your latest push to git@git.bioconductor.org:packages/IntramiRExploreR.git to reflect on this report. See Troubleshooting Build Report for more information.
- Use the following Renviron settings to reproduce errors and warnings.
- If 'R CMD check' started to fail recently on the Linux builder(s) over a missing dependency, add the missing dependency to 'Suggests:' in your DESCRIPTION file. See Renviron.bioc for more information.

raw results


Summary

Package: IntramiRExploreR
Version: 1.26.0
Command: chmod a+r IntramiRExploreR -R && F:\biocbuild\bbs-3.19-bioc\R\bin\R.exe CMD build --keep-empty-dirs --no-resave-data IntramiRExploreR
StartedAt: 2024-06-09 20:09:48 -0400 (Sun, 09 Jun 2024)
EndedAt: 2024-06-09 20:10:31 -0400 (Sun, 09 Jun 2024)
EllapsedTime: 42.5 seconds
RetCode: 0
Status:   OK  
PackageFile: IntramiRExploreR_1.26.0.tar.gz
PackageFileSize: 8.901 MiB

Command output

##############################################################################
##############################################################################
###
### Running command:
###
###   chmod a+r IntramiRExploreR -R && F:\biocbuild\bbs-3.19-bioc\R\bin\R.exe CMD build --keep-empty-dirs --no-resave-data IntramiRExploreR
###
##############################################################################
##############################################################################


* checking for file 'IntramiRExploreR/DESCRIPTION' ... OK
* preparing 'IntramiRExploreR':
* checking DESCRIPTION meta-information ... OK
* installing the package to build vignettes
* creating vignettes ... OK
* checking for LF line-endings in source and make files and shell scripts
* checking for empty or unneeded directories
* building 'IntramiRExploreR_1.26.0.tar.gz'