Index of /checkResults/release/bioc-LATEST/GeneSelectMMD/raw-results
Name
Last modified
Size
Description
Parent Directory
-
info.dcf
29-Nov-2023 01:37
285
kunpeng2/
03-Nov-2023 00:40
-
lconway/
29-Nov-2023 01:37
-
nebbiolo2/
29-Nov-2023 01:35
-
palomino4/
29-Nov-2023 01:36
-