Index of /checkResults/release/bioc-LATEST/GeneSelectMMD/raw-results/nebbiolo2

[ICO]NameLast modifiedSizeDescription

[DIR]Parent Directory  -  
[TXT]buildsrc-out.txt23-Feb-2024 01:35 967  
[   ]buildsrc-summary.dcf23-Feb-2024 01:35 435  
[TXT]checksrc-out.txt23-Feb-2024 01:35 4.1K 
[   ]checksrc-summary.dcf23-Feb-2024 01:35 443  
[TXT]install-out.txt23-Feb-2024 01:35 3.6K 
[   ]install-summary.dcf23-Feb-2024 01:35 271