Index of /checkResults/release/bioc-LATEST/GeneSelectMMD/raw-results/lconway

[ICO]NameLast modifiedSizeDescription

[DIR]Parent Directory  -  
[TXT]buildbin-out.txt02-Mar-2024 01:37 7.7K 
[   ]buildbin-summary.dcf02-Mar-2024 01:37 566  
[TXT]buildsrc-out.txt02-Mar-2024 01:37 1.0K 
[   ]buildsrc-summary.dcf02-Mar-2024 01:37 443  
[TXT]checksrc-out.txt02-Mar-2024 01:37 4.2K 
[   ]checksrc-summary.dcf02-Mar-2024 01:37 473  
[TXT]install-out.txt02-Mar-2024 01:37 4.6K 
[   ]install-summary.dcf02-Mar-2024 01:37 281