Index of /checkResults/release/bioc-LATEST/GeneSelectMMD/raw-results/palomino4

[ICO]NameLast modifiedSizeDescription

[DIR]Parent Directory  -  
[TXT]buildbin-out.txt03-Mar-2024 01:36 3.1K 
[   ]buildbin-summary.dcf03-Mar-2024 01:36 549  
[TXT]buildsrc-out.txt03-Mar-2024 01:36 1.0K 
[   ]buildsrc-summary.dcf03-Mar-2024 01:36 476  
[TXT]checksrc-out.txt03-Mar-2024 01:36 4.1K 
[   ]checksrc-summary.dcf03-Mar-2024 01:36 470  
[TXT]install-out.txt03-Mar-2024 01:36 2.9K 
[   ]install-summary.dcf03-Mar-2024 01:36 280