Back to Multiple platform build/check report for BioC 3.17:   simplified   long
ABCD[E]FGHIJKLMNOPQRSTUVWXYZ

This page was generated on 2023-09-22 11:35:36 -0400 (Fri, 22 Sep 2023).

HostnameOSArch (*)R versionInstalled pkgs
nebbiolo1Linux (Ubuntu 22.04.2 LTS)x86_644.3.1 (2023-06-16) -- "Beagle Scouts" 4625
palomino3Windows Server 2022 Datacenterx644.3.1 (2023-06-16 ucrt) -- "Beagle Scouts" 4378
merida1macOS 12.6.4 Montereyx86_644.3.1 (2023-06-16) -- "Beagle Scouts" 4394
Click on any hostname to see more info about the system (e.g. compilers)      (*) as reported by 'uname -p', except on Windows and Mac OS X

Package 631/2230HostnameOS / ArchINSTALLBUILDCHECKBUILD BIN
EnrichmentBrowser 2.30.2  (landing page)
Ludwig Geistlinger
Snapshot Date: 2023-09-21 14:00:15 -0400 (Thu, 21 Sep 2023)
git_url: https://git.bioconductor.org/packages/EnrichmentBrowser
git_branch: RELEASE_3_17
git_last_commit: ec62d66
git_last_commit_date: 2023-07-29 23:17:28 -0400 (Sat, 29 Jul 2023)
nebbiolo1Linux (Ubuntu 22.04.2 LTS) / x86_64  OK    OK    OK  UNNEEDED, same version is already published
palomino3Windows Server 2022 Datacenter / x64  OK    OK    OK    OK  UNNEEDED, same version is already published
merida1macOS 12.6.4 Monterey / x86_64  OK    OK    OK    OK  UNNEEDED, same version is already published

CHECK results for EnrichmentBrowser on nebbiolo1


To the developers/maintainers of the EnrichmentBrowser package:
- Allow up to 24 hours (and sometimes 48 hours) for your latest push to git@git.bioconductor.org:packages/EnrichmentBrowser.git to reflect on this report. See Troubleshooting Build Report for more information.
- Use the following Renviron settings to reproduce errors and warnings.
- If 'R CMD check' started to fail recently on the Linux builder(s) over a missing dependency, add the missing dependency to 'Suggests:' in your DESCRIPTION file. See Renviron.bioc for more information.

raw results


Summary

Package: EnrichmentBrowser
Version: 2.30.2
Command: /home/biocbuild/bbs-3.17-bioc/R/bin/R CMD check --install=check:EnrichmentBrowser.install-out.txt --library=/home/biocbuild/bbs-3.17-bioc/R/site-library --timings EnrichmentBrowser_2.30.2.tar.gz
StartedAt: 2023-09-21 21:02:34 -0400 (Thu, 21 Sep 2023)
EndedAt: 2023-09-21 21:15:34 -0400 (Thu, 21 Sep 2023)
EllapsedTime: 779.9 seconds
RetCode: 0
Status:   OK  
CheckDir: EnrichmentBrowser.Rcheck
Warnings: 0

Command output

##############################################################################
##############################################################################
###
### Running command:
###
###   /home/biocbuild/bbs-3.17-bioc/R/bin/R CMD check --install=check:EnrichmentBrowser.install-out.txt --library=/home/biocbuild/bbs-3.17-bioc/R/site-library --timings EnrichmentBrowser_2.30.2.tar.gz
###
##############################################################################
##############################################################################


* using log directory ‘/home/biocbuild/bbs-3.17-bioc/meat/EnrichmentBrowser.Rcheck’
* using R version 4.3.1 (2023-06-16)
* using platform: x86_64-pc-linux-gnu (64-bit)
* R was compiled by
    gcc (Ubuntu 11.3.0-1ubuntu1~22.04.1) 11.3.0
    GNU Fortran (Ubuntu 11.3.0-1ubuntu1~22.04.1) 11.3.0
* running under: Ubuntu 22.04.3 LTS
* using session charset: UTF-8
* checking for file ‘EnrichmentBrowser/DESCRIPTION’ ... OK
* this is package ‘EnrichmentBrowser’ version ‘2.30.2’
* package encoding: UTF-8
* checking package namespace information ... OK
* checking package dependencies ... OK
* checking if this is a source package ... OK
* checking if there is a namespace ... OK
* checking for hidden files and directories ... OK
* checking for portable file names ... OK
* checking for sufficient/correct file permissions ... OK
* checking whether package ‘EnrichmentBrowser’ can be installed ... OK
* checking installed package size ... OK
* checking package directory ... OK
* checking ‘build’ directory ... OK
* checking DESCRIPTION meta-information ... OK
* checking top-level files ... OK
* checking for left-over files ... OK
* checking index information ... OK
* checking package subdirectories ... OK
* checking R files for non-ASCII characters ... OK
* checking R files for syntax errors ... OK
* checking whether the package can be loaded ... OK
* checking whether the package can be loaded with stated dependencies ... OK
* checking whether the package can be unloaded cleanly ... OK
* checking whether the namespace can be loaded with stated dependencies ... OK
* checking whether the namespace can be unloaded cleanly ... OK
* checking loading without being on the library search path ... OK
* checking startup messages can be suppressed ... OK
* checking dependencies in R code ... NOTE
Unexported object imported by a ':::' call: 'pathview:::parseKGML2Graph2'
  See the note in ?`:::` about the use of this operator.
* checking S3 generic/method consistency ... OK
* checking replacement functions ... OK
* checking foreign function calls ... OK
* checking R code for possible problems ... NOTE
.getGOFromBiomart: no visible binding for global variable
  ‘go_linkage_type’
Undefined global functions or variables:
  go_linkage_type
* checking Rd files ... OK
* checking Rd metadata ... OK
* checking Rd cross-references ... OK
* checking for missing documentation entries ... OK
* checking for code/documentation mismatches ... OK
* checking Rd \usage sections ... OK
* checking Rd contents ... OK
* checking for unstated dependencies in examples ... OK
* checking files in ‘vignettes’ ... OK
* checking examples ... OK
Examples with CPU (user + system) or elapsed time > 5s
               user system elapsed
ebrowser    413.304 25.582 443.383
getGenesets  12.849  1.275  19.201
eaBrowse      8.053  0.598   8.655
* checking for unstated dependencies in vignettes ... OK
* checking package vignettes in ‘inst/doc’ ... OK
* checking running R code from vignettes ...
  ‘EnrichmentBrowser.Rnw’ using ‘UTF-8’... OK
 NONE
* checking re-building of vignette outputs ... OK
* checking PDF version of manual ... OK
* DONE

Status: 2 NOTEs
See
  ‘/home/biocbuild/bbs-3.17-bioc/meat/EnrichmentBrowser.Rcheck/00check.log’
for details.



Installation output

EnrichmentBrowser.Rcheck/00install.out

##############################################################################
##############################################################################
###
### Running command:
###
###   /home/biocbuild/bbs-3.17-bioc/R/bin/R CMD INSTALL EnrichmentBrowser
###
##############################################################################
##############################################################################


* installing to library ‘/home/biocbuild/bbs-3.17-bioc/R/site-library’
* installing *source* package ‘EnrichmentBrowser’ ...
** using staged installation
** R
** inst
** byte-compile and prepare package for lazy loading
** help
*** installing help indices
** building package indices
** installing vignettes
** testing if installed package can be loaded from temporary location
** testing if installed package can be loaded from final location
** testing if installed package keeps a record of temporary installation path
* DONE (EnrichmentBrowser)

Tests output


Example timings

EnrichmentBrowser.Rcheck/EnrichmentBrowser-Ex.timings

nameusersystemelapsed
combResults0.4340.0240.459
compileGRN4.0270.2844.311
configEBrowser000
deAna3.0500.0723.122
downloadPathways000
eaBrowse8.0530.5988.655
ebrowser413.304 25.582443.383
getGenesets12.849 1.27519.201
ggeaGraph1.8380.1361.974
idMap1.0380.0401.078
import3.6460.1923.838
isAvailable0.0010.0000.000
makeExampleData0.0260.0000.027
nbea0.3660.0200.386
normalize0.3940.0040.399
plots1.4280.0321.460
probe2gene0.0630.0000.063
readSE0.0340.0000.034
sbea0.1720.0000.172