Back to Multiple platform build/check report for BioC 3.16
ABCD[E]FGHIJKLMNOPQRSTUVWXYZ

This page was generated on 2022-12-08 11:04:40 -0500 (Thu, 08 Dec 2022).

HostnameOSArch (*)R versionInstalled pkgs
nebbiolo2Linux (Ubuntu 20.04.5 LTS)x86_644.2.2 (2022-10-31) -- "Innocent and Trusting" 4506
palomino4Windows Server 2022 Datacenterx644.2.2 (2022-10-31 ucrt) -- "Innocent and Trusting" 4283
lconwaymacOS 12.5.1 Montereyx86_644.2.2 (2022-10-31) -- "Innocent and Trusting" 4312
Click on any hostname to see more info about the system (e.g. compilers)      (*) as reported by 'uname -p', except on Windows and Mac OS X

All results for package EnrichmentBrowser


To the developers/maintainers of the EnrichmentBrowser package:
- Please allow up to 24 hours (and sometimes 48 hours) for your latest push to git@git.bioconductor.org:packages/EnrichmentBrowser.git to
reflect on this report. See How and When does the builder pull? When will my changes propagate? for more information.
- Make sure to use the following settings in order to reproduce any error or warning you see on this page.

raw results

Package 610/2183HostnameOS / ArchINSTALLBUILDCHECKBUILD BIN
EnrichmentBrowser 2.28.0  (landing page)
Ludwig Geistlinger
Snapshot Date: 2022-12-07 14:00:05 -0500 (Wed, 07 Dec 2022)
git_url: https://git.bioconductor.org/packages/EnrichmentBrowser
git_branch: RELEASE_3_16
git_last_commit: 0a03af4
git_last_commit_date: 2022-11-01 11:10:18 -0500 (Tue, 01 Nov 2022)
nebbiolo2Linux (Ubuntu 20.04.5 LTS) / x86_64  OK    OK    OK  UNNEEDED, same version is already published
palomino4Windows Server 2022 Datacenter / x64  OK    OK    OK    OK  UNNEEDED, same version is already published
lconwaymacOS 12.5.1 Monterey / x86_64  OK    OK    OK    OK  UNNEEDED, same version is already published

Results for Bioconductor software packages that depend directly on package EnrichmentBrowser

QUICK STATSOS / ArchINSTALLBUILDCHECKBUILD BIN
nebbiolo2Linux (Ubuntu 20.04.5 LTS) / x86_64
002
002
0011
palomino4Windows Server 2022 Datacenter / x64
002
002
0011
002
lconwaymacOS 12.5.1 Monterey / x86_64
002
002
0011
002
Package 1/2HostnameOS / ArchINSTALLBUILDCHECKBUILD BIN
GSEABenchmarkeR 1.18.0  (landing page)
Ludwig Geistlinger
git_last_commit: 144181f
git_last_commit_date: 2022-11-01 11:17:24 -0500
nebbiolo2Linux (Ubuntu 20.04.5 LTS) / x86_64  OK    OK    OK  UNNEEDED, same version is already published
palomino4Windows Server 2022 Datacenter / x64  OK    OK    OK    OK  UNNEEDED, same version is already published
lconwaymacOS 12.5.1 Monterey / x86_64  OK    OK    OK    OK  UNNEEDED, same version is already published
Package 2/2HostnameOS / ArchINSTALLBUILDCHECKBUILD BIN
zenith 1.0.0  (landing page)
Gabriel Hoffman
git_last_commit: 17c233c
git_last_commit_date: 2022-11-01 11:27:23 -0500
nebbiolo2Linux (Ubuntu 20.04.5 LTS) / x86_64  OK    OK    WARNINGS  UNNEEDED, same version is already published
palomino4Windows Server 2022 Datacenter / x64  OK    OK    WARNINGS    OK  UNNEEDED, same version is already published
lconwaymacOS 12.5.1 Monterey / x86_64  OK    OK    WARNINGS    OK  UNNEEDED, same version is already published