Back to Multiple platform build/check report for BioC 3.16:   simplified   long
ABC[D]EFGHIJKLMNOPQRSTUVWXYZ

This page was generated on 2023-02-04 11:05:12 -0500 (Sat, 04 Feb 2023).

HostnameOSArch (*)R versionInstalled pkgs
nebbiolo2Linux (Ubuntu 20.04.5 LTS)x86_644.2.2 (2022-10-31) -- "Innocent and Trusting" 4511
palomino4Windows Server 2022 Datacenterx644.2.2 (2022-10-31 ucrt) -- "Innocent and Trusting" 4289
lconwaymacOS 12.5.1 Montereyx86_644.2.2 (2022-10-31) -- "Innocent and Trusting" 4318
Click on any hostname to see more info about the system (e.g. compilers)      (*) as reported by 'uname -p', except on Windows and Mac OS X

BUILD results for DifferentialRegulation on palomino4


To the developers/maintainers of the DifferentialRegulation package:
- Please allow up to 24 hours (and sometimes 48 hours) for your latest push to git@git.bioconductor.org:packages/DifferentialRegulation.git to
reflect on this report. See How and When does the builder pull? When will my changes propagate? for more information.
- Make sure to use the following settings in order to reproduce any error or warning you see on this page.

raw results

Package 534/2183HostnameOS / ArchINSTALLBUILDCHECKBUILD BIN
DifferentialRegulation 1.2.2  (landing page)
Simone Tiberi
Snapshot Date: 2023-02-03 14:00:04 -0500 (Fri, 03 Feb 2023)
git_url: https://git.bioconductor.org/packages/DifferentialRegulation
git_branch: RELEASE_3_16
git_last_commit: 0ae1b53
git_last_commit_date: 2023-01-19 11:16:11 -0500 (Thu, 19 Jan 2023)
nebbiolo2Linux (Ubuntu 20.04.5 LTS) / x86_64  OK    OK    OK  UNNEEDED, same version is already published
palomino4Windows Server 2022 Datacenter / x64  OK    OK    OK    OK  UNNEEDED, same version is already published
lconwaymacOS 12.5.1 Monterey / x86_64  OK    OK    OK    OK  UNNEEDED, same version is already published

Summary

Package: DifferentialRegulation
Version: 1.2.2
Command: chmod a+r DifferentialRegulation -R && F:\biocbuild\bbs-3.16-bioc\R\bin\R.exe CMD build --keep-empty-dirs --no-resave-data DifferentialRegulation
StartedAt: 2023-02-03 18:11:18 -0500 (Fri, 03 Feb 2023)
EndedAt: 2023-02-03 18:13:19 -0500 (Fri, 03 Feb 2023)
EllapsedTime: 120.5 seconds
RetCode: 0
Status:   OK  
PackageFile: DifferentialRegulation_1.2.2.tar.gz
PackageFileSize: 734.8 KiB

Command output

##############################################################################
##############################################################################
###
### Running command:
###
###   chmod a+r DifferentialRegulation -R && F:\biocbuild\bbs-3.16-bioc\R\bin\R.exe CMD build --keep-empty-dirs --no-resave-data DifferentialRegulation
###
##############################################################################
##############################################################################


* checking for file 'DifferentialRegulation/DESCRIPTION' ... OK
* preparing 'DifferentialRegulation':
* checking DESCRIPTION meta-information ... OK
* cleaning src
* installing the package to process help pages
* saving partial Rd database
* creating vignettes ... OK
* cleaning src
* checking for LF line-endings in source and make files and shell scripts
* checking for empty or unneeded directories
* building 'DifferentialRegulation_1.2.2.tar.gz'