Back to Multiple platform build/check report for BioC 3.16:   simplified   long
ABC[D]EFGHIJKLMNOPQRSTUVWXYZ

This page was generated on 2023-02-06 11:04:56 -0500 (Mon, 06 Feb 2023).

HostnameOSArch (*)R versionInstalled pkgs
nebbiolo2Linux (Ubuntu 20.04.5 LTS)x86_644.2.2 (2022-10-31) -- "Innocent and Trusting" 4511
palomino4Windows Server 2022 Datacenterx644.2.2 (2022-10-31 ucrt) -- "Innocent and Trusting" 4289
lconwaymacOS 12.5.1 Montereyx86_644.2.2 (2022-10-31) -- "Innocent and Trusting" 4318
Click on any hostname to see more info about the system (e.g. compilers)      (*) as reported by 'uname -p', except on Windows and Mac OS X

INSTALL results for DifferentialRegulation on nebbiolo2


To the developers/maintainers of the DifferentialRegulation package:
- Please allow up to 24 hours (and sometimes 48 hours) for your latest push to git@git.bioconductor.org:packages/DifferentialRegulation.git to
reflect on this report. See How and When does the builder pull? When will my changes propagate? for more information.
- Make sure to use the following settings in order to reproduce any error or warning you see on this page.

raw results

Package 534/2183HostnameOS / ArchINSTALLBUILDCHECKBUILD BIN
DifferentialRegulation 1.2.2  (landing page)
Simone Tiberi
Snapshot Date: 2023-02-05 14:00:05 -0500 (Sun, 05 Feb 2023)
git_url: https://git.bioconductor.org/packages/DifferentialRegulation
git_branch: RELEASE_3_16
git_last_commit: 0ae1b53
git_last_commit_date: 2023-01-19 11:16:11 -0500 (Thu, 19 Jan 2023)
nebbiolo2Linux (Ubuntu 20.04.5 LTS) / x86_64  OK    OK    OK  UNNEEDED, same version is already published
palomino4Windows Server 2022 Datacenter / x64  OK    OK    OK    OK  UNNEEDED, same version is already published
lconwaymacOS 12.5.1 Monterey / x86_64  OK    OK    OK    OK  UNNEEDED, same version is already published

Summary

Package: DifferentialRegulation
Version: 1.2.2
Command: /home/biocbuild/bbs-3.16-bioc/R/bin/R CMD INSTALL DifferentialRegulation
StartedAt: 2023-02-05 15:43:12 -0500 (Sun, 05 Feb 2023)
EndedAt: 2023-02-05 15:44:16 -0500 (Sun, 05 Feb 2023)
EllapsedTime: 63.7 seconds
RetCode: 0
Status:   OK  

Command output

##############################################################################
##############################################################################
###
### Running command:
###
###   /home/biocbuild/bbs-3.16-bioc/R/bin/R CMD INSTALL DifferentialRegulation
###
##############################################################################
##############################################################################


* installing to library ‘/home/biocbuild/bbs-3.16-bioc/R/library’
* installing *source* package ‘DifferentialRegulation’ ...
** using staged installation
** libs
g++ -std=gnu++11 -I"/home/biocbuild/bbs-3.16-bioc/R/include" -DNDEBUG  -I'/home/biocbuild/bbs-3.16-bioc/R/library/Rcpp/include' -I'/home/biocbuild/bbs-3.16-bioc/R/library/RcppArmadillo/include' -I/usr/local/include   -fpic  -g -O2  -Wall -c RcppExports.cpp -o RcppExports.o
g++ -std=gnu++11 -I"/home/biocbuild/bbs-3.16-bioc/R/include" -DNDEBUG  -I'/home/biocbuild/bbs-3.16-bioc/R/library/Rcpp/include' -I'/home/biocbuild/bbs-3.16-bioc/R/library/RcppArmadillo/include' -I/usr/local/include   -fpic  -g -O2  -Wall -c Rcpp_MCMC.cpp -o Rcpp_MCMC.o
Rcpp_MCMC.cpp: In function ‘Rcpp::NumericVector Rcpp_MCMC(const unsigned int&, const unsigned int&, const unsigned int&, const unsigned int&, const IntegerVector&, const IntegerVector&, const Rcpp::ListOf<Rcpp::Vector<13> >&, const IntegerVector&, const unsigned int&, const unsigned int&, Rcpp::NumericMatrix&, Rcpp::ListOf<Rcpp::Matrix<14> >&, const Rcpp::ListOf<Rcpp::Matrix<14> >&, const Rcpp::ListOf<Rcpp::ListOf<Rcpp::Vector<13> > >&, const Rcpp::ListOf<Rcpp::ListOf<Rcpp::Vector<14, Rcpp::PreserveStorage> > >&, const Rcpp::ListOf<Rcpp::Vector<13> >&, Rcpp::ListOf<Rcpp::Matrix<14> >&, Rcpp::ListOf<Rcpp::Matrix<14> >&, Rcpp::ListOf<Rcpp::Matrix<14> >&, Rcpp::ListOf<Rcpp::ListOf<Rcpp::Matrix<14> > >&, Rcpp::ListOf<Rcpp::Matrix<14> >&, const bool&, const double&, const double&, const double&)’:
Rcpp_MCMC.cpp:279:32: warning: comparison of integer expressions of different signedness: ‘unsigned int’ and ‘const type’ {aka ‘const int’} [-Wsign-compare]
  279 |         for(sample = 0; sample < n_samples_per_group[ gr ]; sample ++){
Rcpp_MCMC.cpp:144:10: warning: unused variable ‘tmp_1’ [-Wunused-variable]
  144 |   double tmp_1, tmp_2, tmp_3;
      |          ^~~~~
Rcpp_MCMC.cpp:144:17: warning: unused variable ‘tmp_2’ [-Wunused-variable]
  144 |   double tmp_1, tmp_2, tmp_3;
      |                 ^~~~~
Rcpp_MCMC.cpp:144:24: warning: unused variable ‘tmp_3’ [-Wunused-variable]
  144 |   double tmp_1, tmp_2, tmp_3;
      |                        ^~~~~
Rcpp_MCMC.cpp:365:10: warning: ‘ll_original’ may be used uninitialized in this function [-Wmaybe-uninitialized]
  365 |       ll += ll_original;
      |       ~~~^~~~~~~~~~~~~~
g++ -std=gnu++11 -I"/home/biocbuild/bbs-3.16-bioc/R/include" -DNDEBUG  -I'/home/biocbuild/bbs-3.16-bioc/R/library/Rcpp/include' -I'/home/biocbuild/bbs-3.16-bioc/R/library/RcppArmadillo/include' -I/usr/local/include   -fpic  -g -O2  -Wall -c Rcpp_MCMC_sce.cpp -o Rcpp_MCMC_sce.o
Rcpp_MCMC_sce.cpp: In function ‘Rcpp::NumericVector Rcpp_MCMC_sce(const unsigned int&, const unsigned int&, const unsigned int&, const IntegerVector&, const Rcpp::ListOf<Rcpp::Vector<13> >&, const IntegerVector&, const unsigned int&, const unsigned int&, Rcpp::ListOf<Rcpp::Matrix<14> >&, const Rcpp::ListOf<Rcpp::Matrix<14> >&, Rcpp::ListOf<Rcpp::Matrix<14> >&, Rcpp::ListOf<Rcpp::Matrix<14> >&, Rcpp::ListOf<Rcpp::Matrix<14> >&, Rcpp::ListOf<Rcpp::ListOf<Rcpp::Matrix<14> > >&, Rcpp::ListOf<Rcpp::Matrix<14> >&, const bool&, const double&, const double&, const double&)’:
Rcpp_MCMC_sce.cpp:234:32: warning: comparison of integer expressions of different signedness: ‘unsigned int’ and ‘const type’ {aka ‘const int’} [-Wsign-compare]
  234 |         for(sample = 0; sample < n_samples_per_group[ gr ]; sample ++){
Rcpp_MCMC_sce.cpp:145:10: warning: unused variable ‘tmp_1’ [-Wunused-variable]
  145 |   double tmp_1, tmp_2, tmp_3;
      |          ^~~~~
Rcpp_MCMC_sce.cpp:145:17: warning: unused variable ‘tmp_2’ [-Wunused-variable]
  145 |   double tmp_1, tmp_2, tmp_3;
      |                 ^~~~~
Rcpp_MCMC_sce.cpp:145:24: warning: unused variable ‘tmp_3’ [-Wunused-variable]
  145 |   double tmp_1, tmp_2, tmp_3;
      |                        ^~~~~
Rcpp_MCMC_sce.cpp:320:10: warning: ‘ll_original’ may be used uninitialized in this function [-Wmaybe-uninitialized]
  320 |       ll += ll_original;
      |       ~~~^~~~~~~~~~~~~~
g++ -std=gnu++11 -shared -L/home/biocbuild/bbs-3.16-bioc/R/lib -L/usr/local/lib -o DifferentialRegulation.so RcppExports.o Rcpp_MCMC.o Rcpp_MCMC_sce.o -L/home/biocbuild/bbs-3.16-bioc/R/lib -lRlapack -L/home/biocbuild/bbs-3.16-bioc/R/lib -lRblas -lgfortran -lm -lquadmath -L/home/biocbuild/bbs-3.16-bioc/R/lib -lR
installing to /home/biocbuild/bbs-3.16-bioc/R/library/00LOCK-DifferentialRegulation/00new/DifferentialRegulation/libs
** R
** inst
** byte-compile and prepare package for lazy loading
** help
*** installing help indices
** building package indices
** installing vignettes
** testing if installed package can be loaded from temporary location
** checking absolute paths in shared objects and dynamic libraries
** testing if installed package can be loaded from final location
** testing if installed package keeps a record of temporary installation path
* DONE (DifferentialRegulation)