Back to Multiple platform build/check report for BioC 3.18:   simplified   long
ABC[D]EFGHIJKLMNOPQRSTUVWXYZ

This page was generated on 2024-03-02 11:36:27 -0500 (Sat, 02 Mar 2024).

HostnameOSArch (*)R versionInstalled pkgs
nebbiolo2Linux (Ubuntu 22.04.3 LTS)x86_644.3.2 Patched (2023-11-13 r85521) -- "Eye Holes" 4692
palomino4Windows Server 2022 Datacenterx644.3.2 (2023-10-31 ucrt) -- "Eye Holes" 4445
lconwaymacOS 12.7.1 Montereyx86_644.3.2 Patched (2023-11-01 r85457) -- "Eye Holes" 4466
Click on any hostname to see more info about the system (e.g. compilers)      (*) as reported by 'uname -p', except on Windows and Mac OS X

Package 561/2266HostnameOS / ArchINSTALLBUILDCHECKBUILD BIN
DifferentialRegulation 2.0.3  (landing page)
Simone Tiberi
Snapshot Date: 2024-03-01 14:05:09 -0500 (Fri, 01 Mar 2024)
git_url: https://git.bioconductor.org/packages/DifferentialRegulation
git_branch: RELEASE_3_18
git_last_commit: 5880e44
git_last_commit_date: 2024-01-22 10:47:17 -0500 (Mon, 22 Jan 2024)
nebbiolo2Linux (Ubuntu 22.04.3 LTS) / x86_64  OK    OK    OK  UNNEEDED, same version is already published
palomino4Windows Server 2022 Datacenter / x64  OK    OK    OK    OK  UNNEEDED, same version is already published
lconwaymacOS 12.7.1 Monterey / x86_64  OK    OK    OK    OK  UNNEEDED, same version is already published
kjohnson1macOS 13.6.1 Ventura / arm64see weekly results here

BUILD BIN results for DifferentialRegulation on palomino4


To the developers/maintainers of the DifferentialRegulation package:
- Allow up to 24 hours (and sometimes 48 hours) for your latest push to git@git.bioconductor.org:packages/DifferentialRegulation.git to reflect on this report. See Troubleshooting Build Report for more information.
- Use the following Renviron settings to reproduce errors and warnings.
- If 'R CMD check' started to fail recently on the Linux builder(s) over a missing dependency, add the missing dependency to 'Suggests:' in your DESCRIPTION file. See Renviron.bioc for more information.

raw results


Summary

Package: DifferentialRegulation
Version: 2.0.3
Command: rm -rf DifferentialRegulation.buildbin-libdir && mkdir DifferentialRegulation.buildbin-libdir && F:\biocbuild\bbs-3.18-bioc\R\bin\R.exe CMD INSTALL --build --library=DifferentialRegulation.buildbin-libdir DifferentialRegulation_2.0.3.tar.gz
StartedAt: 2024-03-02 08:24:27 -0500 (Sat, 02 Mar 2024)
EndedAt: 2024-03-02 08:25:38 -0500 (Sat, 02 Mar 2024)
EllapsedTime: 71.5 seconds
RetCode: 0
Status:   OK  
PackageFile: DifferentialRegulation_2.0.3.zip
PackageFileSize: 2.851 MiB

Command output

##############################################################################
##############################################################################
###
### Running command:
###
###   rm -rf DifferentialRegulation.buildbin-libdir && mkdir DifferentialRegulation.buildbin-libdir && F:\biocbuild\bbs-3.18-bioc\R\bin\R.exe CMD INSTALL --build --library=DifferentialRegulation.buildbin-libdir DifferentialRegulation_2.0.3.tar.gz
###
##############################################################################
##############################################################################


* installing *source* package 'DifferentialRegulation' ...
** using staged installation
** libs
using C++ compiler: 'G__~1.EXE (GCC) 12.3.0'
using C++17
g++  -std=gnu++17 -I"F:/biocbuild/bbs-3.18-bioc/R/include" -DNDEBUG  -I'F:/biocbuild/bbs-3.18-bioc/R/library/Rcpp/include' -I'F:/biocbuild/bbs-3.18-bioc/R/library/RcppArmadillo/include'   -I"C:/rtools43/x86_64-w64-mingw32.static.posix/include"     -O2 -Wall  -mfpmath=sse -msse2 -mstackrealign  -c RcppExports.cpp -o RcppExports.o
g++  -std=gnu++17 -I"F:/biocbuild/bbs-3.18-bioc/R/include" -DNDEBUG  -I'F:/biocbuild/bbs-3.18-bioc/R/library/Rcpp/include' -I'F:/biocbuild/bbs-3.18-bioc/R/library/RcppArmadillo/include'   -I"C:/rtools43/x86_64-w64-mingw32.static.posix/include"     -O2 -Wall  -mfpmath=sse -msse2 -mstackrealign  -c Rcpp_MCMC.cpp -o Rcpp_MCMC.o
Rcpp_MCMC.cpp: In function 'Rcpp::NumericVector Rcpp_MCMC(const unsigned int&, const unsigned int&, const unsigned int&, const unsigned int&, const Rcpp::IntegerVector&, const Rcpp::IntegerVector&, const Rcpp::ListOf<Rcpp::Vector<13> >&, const Rcpp::IntegerVector&, const unsigned int&, const unsigned int&, Rcpp::NumericMatrix&, Rcpp::ListOf<Rcpp::Matrix<14> >&, const Rcpp::NumericMatrix&, const Rcpp::ListOf<Rcpp::ListOf<Rcpp::Vector<13> > >&, const Rcpp::ListOf<Rcpp::Vector<13> >&, Rcpp::ListOf<Rcpp::Matrix<14> >&, Rcpp::ListOf<Rcpp::Matrix<14> >&, Rcpp::ListOf<Rcpp::Matrix<14> >&, Rcpp::ListOf<Rcpp::Matrix<14> >&, const Rcpp::NumericVector&, const Rcpp::NumericVector&, const Rcpp::IntegerVector&, Rcpp::ListOf<Rcpp::Matrix<14> >&, const Rcpp::IntegerVector&, const double&)':
Rcpp_MCMC.cpp:305:32: warning: comparison of integer expressions of different signedness: 'unsigned int' and 'const Rcpp::traits::storage_type<13>::type' {aka 'const int'} [-Wsign-compare]
  305 |         for(sample = 0; sample < n_samples_per_group[ gr ]; sample ++){
Rcpp_MCMC.cpp:135:10: warning: unused variable 'tmp_1' [-Wunused-variable]
  135 |   double tmp_1, tmp_2, tmp_3;
      |          ^~~~~
Rcpp_MCMC.cpp:135:17: warning: unused variable 'tmp_2' [-Wunused-variable]
  135 |   double tmp_1, tmp_2, tmp_3;
      |                 ^~~~~
Rcpp_MCMC.cpp:135:24: warning: unused variable 'tmp_3' [-Wunused-variable]
  135 |   double tmp_1, tmp_2, tmp_3;
      |                        ^~~~~
Rcpp_MCMC.cpp:394:10: warning: 'll_original' may be used uninitialized [-Wmaybe-uninitialized]
  394 |       ll += ll_original;
      |       ~~~^~~~~~~~~~~~~~
Rcpp_MCMC.cpp:296:21: note: 'll_original' was declared here
  296 |     double ll_prop, ll_original, ll = 0;
      |                     ^~~~~~~~~~~
g++  -std=gnu++17 -I"F:/biocbuild/bbs-3.18-bioc/R/include" -DNDEBUG  -I'F:/biocbuild/bbs-3.18-bioc/R/library/Rcpp/include' -I'F:/biocbuild/bbs-3.18-bioc/R/library/RcppArmadillo/include'   -I"C:/rtools43/x86_64-w64-mingw32.static.posix/include"     -O2 -Wall  -mfpmath=sse -msse2 -mstackrealign  -c Rcpp_MCMC_EC_US.cpp -o Rcpp_MCMC_EC_US.o
Rcpp_MCMC_EC_US.cpp: In function 'Rcpp::NumericVector Rcpp_MCMC_EC_US(const unsigned int&, const unsigned int&, const unsigned int&, const unsigned int&, const Rcpp::IntegerVector&, const Rcpp::IntegerVector&, const Rcpp::ListOf<Rcpp::Vector<13> >&, const Rcpp::IntegerVector&, const unsigned int&, const unsigned int&, Rcpp::NumericMatrix&, Rcpp::ListOf<Rcpp::Matrix<14> >&, const Rcpp::NumericMatrix&, const Rcpp::ListOf<Rcpp::ListOf<Rcpp::Vector<13> > >&, const Rcpp::ListOf<Rcpp::Vector<13> >&, Rcpp::ListOf<Rcpp::Matrix<14> >&, Rcpp::ListOf<Rcpp::Matrix<14> >&, Rcpp::ListOf<Rcpp::Matrix<14> >&, const Rcpp::NumericVector&, const Rcpp::NumericVector&, const Rcpp::IntegerVector&, const Rcpp::IntegerVector&, const Rcpp::NumericVector&, const Rcpp::NumericVector&, const double&)':
Rcpp_MCMC_EC_US.cpp:310:32: warning: comparison of integer expressions of different signedness: 'unsigned int' and 'const Rcpp::traits::storage_type<13>::type' {aka 'const int'} [-Wsign-compare]
  310 |         for(sample = 0; sample < n_samples_per_group[ gr ]; sample ++){
Rcpp_MCMC_EC_US.cpp:130:10: warning: unused variable 'tmp_1' [-Wunused-variable]
  130 |   double tmp_1, tmp_2, tmp;
      |          ^~~~~
Rcpp_MCMC_EC_US.cpp:130:17: warning: unused variable 'tmp_2' [-Wunused-variable]
  130 |   double tmp_1, tmp_2, tmp;
      |                 ^~~~~
Rcpp_MCMC_EC_US.cpp:399:12: warning: 'll_original' may be used uninitialized [-Wmaybe-uninitialized]
  399 |         ll += ll_original;
      |         ~~~^~~~~~~~~~~~~~
Rcpp_MCMC_EC_US.cpp:290:21: note: 'll_original' was declared here
  290 |     double ll_prop, ll_original, ll = 0;
      |                     ^~~~~~~~~~~
g++ -shared -s -static-libgcc -o DifferentialRegulation.dll tmp.def RcppExports.o Rcpp_MCMC.o Rcpp_MCMC_EC_US.o -LF:/biocbuild/bbs-3.18-bioc/R/bin/x64 -lRlapack -LF:/biocbuild/bbs-3.18-bioc/R/bin/x64 -lRblas -lgfortran -lm -lquadmath -LC:/rtools43/x86_64-w64-mingw32.static.posix/lib/x64 -LC:/rtools43/x86_64-w64-mingw32.static.posix/lib -LF:/biocbuild/bbs-3.18-bioc/R/bin/x64 -lR
installing to F:/biocbuild/bbs-3.18-bioc/meat/DifferentialRegulation.buildbin-libdir/00LOCK-DifferentialRegulation/00new/DifferentialRegulation/libs/x64
** R
** inst
** byte-compile and prepare package for lazy loading
** help
*** installing help indices
** building package indices
** installing vignettes
** testing if installed package can be loaded from temporary location
** testing if installed package can be loaded from final location
** testing if installed package keeps a record of temporary installation path
* MD5 sums
packaged installation of 'DifferentialRegulation' as DifferentialRegulation_2.0.3.zip
* DONE (DifferentialRegulation)