Back to Multiple platform build/check report for BioC 3.17:   simplified   long
AB[C]DEFGHIJKLMNOPQRSTUVWXYZ

This page was generated on 2023-06-02 11:04:24 -0400 (Fri, 02 Jun 2023).

HostnameOSArch (*)R versionInstalled pkgs
nebbiolo1Linux (Ubuntu 22.04.2 LTS)x86_644.3.0 RC (2023-04-13 r84269) -- "Already Tomorrow" 4618
palomino3Windows Server 2022 Datacenterx644.3.0 RC (2023-04-13 r84269 ucrt) -- "Already Tomorrow" 4369
merida1macOS 12.6.4 Montereyx86_644.3.0 RC (2023-04-13 r84257) -- "Already Tomorrow" 4327
Click on any hostname to see more info about the system (e.g. compilers)      (*) as reported by 'uname -p', except on Windows and Mac OS X

All results for package Category


To the developers/maintainers of the Category package:
- Allow up to 24 hours (and sometimes 48 hours) for your latest push to git@git.bioconductor.org:packages/Category.git to reflect on this report. See Troubleshooting Build Report for more information.

- Use the following Renviron settings to reproduce errors and warnings.

Note: If "R CMD check" recently failed on the Linux builder over a missing dependency, add the missing dependency to "Suggests" in your DESCRIPTION file. See the Renviron.bioc for details.

raw results

Package 271/2229HostnameOS / ArchINSTALLBUILDCHECKBUILD BIN
Category 2.66.0  (landing page)
Bioconductor Package Maintainer
Snapshot Date: 2023-06-01 14:00:08 -0400 (Thu, 01 Jun 2023)
git_url: https://git.bioconductor.org/packages/Category
git_branch: RELEASE_3_17
git_last_commit: 404c5e4
git_last_commit_date: 2023-04-25 09:42:05 -0400 (Tue, 25 Apr 2023)
nebbiolo1Linux (Ubuntu 22.04.2 LTS) / x86_64  OK    OK    OK  UNNEEDED, same version is already published
palomino3Windows Server 2022 Datacenter / x64  OK    OK    OK    OK  UNNEEDED, same version is already published
merida1macOS 12.6.4 Monterey / x86_64  OK    OK    OK    OK  UNNEEDED, same version is already published

Results for Bioconductor software packages that depend directly on package Category

QUICK STATSOS / ArchINSTALLBUILDCHECKBUILD BIN
nebbiolo1Linux (Ubuntu 22.04.2 LTS) / x86_64
0010
019
0054
palomino3Windows Server 2022 Datacenter / x64
0010
019
0045
009
merida1macOS 12.6.4 Monterey / x86_64
0010
019
1035
009
Package 1/10HostnameOS / ArchINSTALLBUILDCHECKBUILD BIN
categoryCompare 1.44.0  (landing page)
Robert M. Flight
git_last_commit: 9d848ab
git_last_commit_date: 2023-04-25 10:22:59 -0400
nebbiolo1Linux (Ubuntu 22.04.2 LTS) / x86_64  OK    OK    OK  UNNEEDED, same version is already published
palomino3Windows Server 2022 Datacenter / x64  OK    OK    OK    OK  UNNEEDED, same version is already published
merida1macOS 12.6.4 Monterey / x86_64  OK    OK    OK    OK  UNNEEDED, same version is already published
Package 2/10HostnameOS / ArchINSTALLBUILDCHECKBUILD BIN
cellHTS2 2.64.0  (landing page)
Joseph Barry
git_last_commit: bdbd47f
git_last_commit_date: 2023-04-25 09:45:32 -0400
nebbiolo1Linux (Ubuntu 22.04.2 LTS) / x86_64  OK    OK    WARNINGS  UNNEEDED, same version is already published
palomino3Windows Server 2022 Datacenter / x64  OK    OK    OK    OK  UNNEEDED, same version is already published
merida1macOS 12.6.4 Monterey / x86_64  OK    OK    OK    OK  UNNEEDED, same version is already published
Package 3/10HostnameOS / ArchINSTALLBUILDCHECKBUILD BIN
GmicR 1.14.0  (landing page)
Richard Virgen-Slane
git_last_commit: 09743f5
git_last_commit_date: 2023-04-25 11:12:49 -0400
nebbiolo1Linux (Ubuntu 22.04.2 LTS) / x86_64  OK    OK    WARNINGS  UNNEEDED, same version is already published
palomino3Windows Server 2022 Datacenter / x64  OK    OK    WARNINGS    OK  UNNEEDED, same version is already published
merida1macOS 12.6.4 Monterey / x86_64  OK    OK    TIMEOUT    OK  
Package 4/10HostnameOS / ArchINSTALLBUILDCHECKBUILD BIN
GOstats 2.66.0  (landing page)
Bioconductor Package Maintainer
git_last_commit: dbfc8a7
git_last_commit_date: 2023-04-25 09:40:28 -0400
nebbiolo1Linux (Ubuntu 22.04.2 LTS) / x86_64  OK    OK    OK  UNNEEDED, same version is already published
palomino3Windows Server 2022 Datacenter / x64  OK    OK    OK    OK  UNNEEDED, same version is already published
merida1macOS 12.6.4 Monterey / x86_64  OK    OK    OK    OK  UNNEEDED, same version is already published
Package 5/10HostnameOS / ArchINSTALLBUILDCHECKBUILD BIN
interactiveDisplay 1.38.0  (landing page)
Bioconductor Package Maintainer
git_last_commit: c7e9524
git_last_commit_date: 2023-04-25 10:29:27 -0400
nebbiolo1Linux (Ubuntu 22.04.2 LTS) / x86_64  OK    OK    OK  UNNEEDED, same version is already published
palomino3Windows Server 2022 Datacenter / x64  OK    OK    OK    OK  UNNEEDED, same version is already published
merida1macOS 12.6.4 Monterey / x86_64  OK    OK    OK    OK  UNNEEDED, same version is already published
Package 6/10HostnameOS / ArchINSTALLBUILDCHECKBUILD BIN
meshr 2.6.0  (landing page)
Koki Tsuyuzaki
git_last_commit: dc09a19
git_last_commit_date: 2023-04-25 10:31:56 -0400
nebbiolo1Linux (Ubuntu 22.04.2 LTS) / x86_64  OK    OK    OK  UNNEEDED, same version is already published
palomino3Windows Server 2022 Datacenter / x64  OK    OK    OK    OK  UNNEEDED, same version is already published
merida1macOS 12.6.4 Monterey / x86_64  OK    OK    OK    OK  UNNEEDED, same version is already published
Package 7/10HostnameOS / ArchINSTALLBUILDCHECKBUILD BIN
miRLAB 1.30.0  (landing page)
Thuc Duy Le
git_last_commit: 64b3130
git_last_commit_date: 2023-04-25 10:40:34 -0400
nebbiolo1Linux (Ubuntu 22.04.2 LTS) / x86_64  OK    OK    WARNINGS  UNNEEDED, same version is already published
palomino3Windows Server 2022 Datacenter / x64  OK    OK    WARNINGS    OK  UNNEEDED, same version is already published
merida1macOS 12.6.4 Monterey / x86_64  OK    OK    WARNINGS    OK  UNNEEDED, same version is already published
Package 8/10HostnameOS / ArchINSTALLBUILDCHECKBUILD BIN
phenoTest 1.48.0  (landing page)
Evarist Planet
git_last_commit: 19df6ab
git_last_commit_date: 2023-04-25 10:18:42 -0400
nebbiolo1Linux (Ubuntu 22.04.2 LTS) / x86_64  OK    OK    WARNINGS  UNNEEDED, same version is already published
palomino3Windows Server 2022 Datacenter / x64  OK    OK    WARNINGS    OK  UNNEEDED, same version is already published
merida1macOS 12.6.4 Monterey / x86_64  OK    OK    WARNINGS    OK  UNNEEDED, same version is already published
Package 9/10HostnameOS / ArchINSTALLBUILDCHECKBUILD BIN
ReportingTools 2.40.0  (landing page)
Jason A. Hackney , Gabriel Becker
git_last_commit: 808af36
git_last_commit_date: 2023-04-25 10:24:14 -0400
nebbiolo1Linux (Ubuntu 22.04.2 LTS) / x86_64  OK    ERROR  skipped
palomino3Windows Server 2022 Datacenter / x64  OK    ERROR  skippedskipped
merida1macOS 12.6.4 Monterey / x86_64  OK    ERROR  skippedskipped
Package 10/10HostnameOS / ArchINSTALLBUILDCHECKBUILD BIN
scTensor 2.10.0  (landing page)
Koki Tsuyuzaki
git_last_commit: 32e2912
git_last_commit_date: 2023-04-25 11:06:25 -0400
nebbiolo1Linux (Ubuntu 22.04.2 LTS) / x86_64  OK    OK    WARNINGS  UNNEEDED, same version is already published
palomino3Windows Server 2022 Datacenter / x64  OK    OK    WARNINGS    OK  UNNEEDED, same version is already published
merida1macOS 12.6.4 Monterey / x86_64  OK    OK    WARNINGS    OK  UNNEEDED, same version is already published