Back to Multiple platform build/check report for BioC 3.17:   simplified   long
ABCDEFGHIJKL[M]NOPQRSTUVWXYZ

This page was generated on 2023-09-26 11:35:43 -0400 (Tue, 26 Sep 2023).

HostnameOSArch (*)R versionInstalled pkgs
nebbiolo1Linux (Ubuntu 22.04.2 LTS)x86_644.3.1 (2023-06-16) -- "Beagle Scouts" 4625
palomino3Windows Server 2022 Datacenterx644.3.1 (2023-06-16 ucrt) -- "Beagle Scouts" 4378
merida1macOS 12.6.4 Montereyx86_644.3.1 (2023-06-16) -- "Beagle Scouts" 4394
Click on any hostname to see more info about the system (e.g. compilers)      (*) as reported by 'uname -p', except on Windows and Mac OS X

Package 1244/2230HostnameOS / ArchINSTALLBUILDCHECKBUILD BIN
miRLAB 1.30.0  (landing page)
Thuc Duy Le
Snapshot Date: 2023-09-25 14:00:11 -0400 (Mon, 25 Sep 2023)
git_url: https://git.bioconductor.org/packages/miRLAB
git_branch: RELEASE_3_17
git_last_commit: 64b3130
git_last_commit_date: 2023-04-25 10:40:34 -0400 (Tue, 25 Apr 2023)
nebbiolo1Linux (Ubuntu 22.04.2 LTS) / x86_64  OK    OK    WARNINGS  UNNEEDED, same version is already published
palomino3Windows Server 2022 Datacenter / x64  OK    OK    WARNINGS    OK  UNNEEDED, same version is already published
merida1macOS 12.6.4 Monterey / x86_64  OK    OK    WARNINGS    OK  UNNEEDED, same version is already published

BUILD results for miRLAB on nebbiolo1


To the developers/maintainers of the miRLAB package:
- Allow up to 24 hours (and sometimes 48 hours) for your latest push to git@git.bioconductor.org:packages/miRLAB.git to reflect on this report. See Troubleshooting Build Report for more information.
- Use the following Renviron settings to reproduce errors and warnings.
- If 'R CMD check' started to fail recently on the Linux builder(s) over a missing dependency, add the missing dependency to 'Suggests:' in your DESCRIPTION file. See Renviron.bioc for more information.

raw results


Summary

Package: miRLAB
Version: 1.30.0
Command: /home/biocbuild/bbs-3.17-bioc/R/bin/R CMD build --keep-empty-dirs --no-resave-data miRLAB
StartedAt: 2023-09-25 17:28:33 -0400 (Mon, 25 Sep 2023)
EndedAt: 2023-09-25 17:29:07 -0400 (Mon, 25 Sep 2023)
EllapsedTime: 34.0 seconds
RetCode: 0
Status:   OK  
PackageFile: miRLAB_1.30.0.tar.gz
PackageFileSize: 192.2 KiB

Command output

##############################################################################
##############################################################################
###
### Running command:
###
###   /home/biocbuild/bbs-3.17-bioc/R/bin/R CMD build --keep-empty-dirs --no-resave-data miRLAB
###
##############################################################################
##############################################################################


* checking for file ‘miRLAB/DESCRIPTION’ ... OK
* preparing ‘miRLAB’:
* checking DESCRIPTION meta-information ... OK
* installing the package to build vignettes
* creating vignettes ... OK
* checking for LF line-endings in source and make files and shell scripts
* checking for empty or unneeded directories
* building ‘miRLAB_1.30.0.tar.gz’