Back to Multiple platform build/check report for BioC 3.19:   simplified   long
A[B]CDEFGHIJKLMNOPQRSTUVWXYZ

This page was generated on 2024-06-11 14:40 -0400 (Tue, 11 Jun 2024).

HostnameOSArch (*)R versionInstalled pkgs
nebbiolo1Linux (Ubuntu 22.04.3 LTS)x86_644.4.0 (2024-04-24) -- "Puppy Cup" 4757
palomino3Windows Server 2022 Datacenterx644.4.0 (2024-04-24 ucrt) -- "Puppy Cup" 4491
lconwaymacOS 12.7.1 Montereyx86_644.4.0 (2024-04-24) -- "Puppy Cup" 4522
kjohnson3macOS 13.6.5 Venturaarm644.4.0 (2024-04-24) -- "Puppy Cup" 4468
Click on any hostname to see more info about the system (e.g. compilers)      (*) as reported by 'uname -p', except on Windows and Mac OS X

Package 215/2300HostnameOS / ArchINSTALLBUILDCHECKBUILD BIN
BioNet 1.64.0  (landing page)
Marcus Dittrich
Snapshot Date: 2024-06-09 14:00 -0400 (Sun, 09 Jun 2024)
git_url: https://git.bioconductor.org/packages/BioNet
git_branch: RELEASE_3_19
git_last_commit: 5ff8be5
git_last_commit_date: 2024-04-30 10:22:23 -0400 (Tue, 30 Apr 2024)
nebbiolo1Linux (Ubuntu 22.04.3 LTS) / x86_64  OK    OK    OK  UNNEEDED, same version is already published
palomino3Windows Server 2022 Datacenter / x64  OK    OK    OK    OK  UNNEEDED, same version is already published
lconwaymacOS 12.7.1 Monterey / x86_64  OK    OK    OK    OK  UNNEEDED, same version is already published
kjohnson3macOS 13.6.5 Ventura / arm64  OK    OK    OK    OK  UNNEEDED, same version is already published


CHECK results for BioNet on palomino3

To the developers/maintainers of the BioNet package:
- Allow up to 24 hours (and sometimes 48 hours) for your latest push to git@git.bioconductor.org:packages/BioNet.git to reflect on this report. See Troubleshooting Build Report for more information.
- Use the following Renviron settings to reproduce errors and warnings.
- If 'R CMD check' started to fail recently on the Linux builder(s) over a missing dependency, add the missing dependency to 'Suggests:' in your DESCRIPTION file. See Renviron.bioc for more information.

raw results


Summary

Package: BioNet
Version: 1.64.0
Command: F:\biocbuild\bbs-3.19-bioc\R\bin\R.exe CMD check --no-multiarch --install=check:BioNet.install-out.txt --library=F:\biocbuild\bbs-3.19-bioc\R\library --no-vignettes --timings BioNet_1.64.0.tar.gz
StartedAt: 2024-06-10 01:11:18 -0400 (Mon, 10 Jun 2024)
EndedAt: 2024-06-10 01:14:44 -0400 (Mon, 10 Jun 2024)
EllapsedTime: 206.2 seconds
RetCode: 0
Status:   OK  
CheckDir: BioNet.Rcheck
Warnings: 0

Command output

##############################################################################
##############################################################################
###
### Running command:
###
###   F:\biocbuild\bbs-3.19-bioc\R\bin\R.exe CMD check --no-multiarch --install=check:BioNet.install-out.txt --library=F:\biocbuild\bbs-3.19-bioc\R\library --no-vignettes --timings BioNet_1.64.0.tar.gz
###
##############################################################################
##############################################################################


* using log directory 'F:/biocbuild/bbs-3.19-bioc/meat/BioNet.Rcheck'
* using R version 4.4.0 (2024-04-24 ucrt)
* using platform: x86_64-w64-mingw32
* R was compiled by
    gcc.exe (GCC) 13.2.0
    GNU Fortran (GCC) 13.2.0
* running under: Windows Server 2022 x64 (build 20348)
* using session charset: UTF-8
* using option '--no-vignettes'
* checking for file 'BioNet/DESCRIPTION' ... OK
* checking extension type ... Package
* this is package 'BioNet' version '1.64.0'
* checking package namespace information ... OK
* checking package dependencies ... OK
* checking if this is a source package ... OK
* checking if there is a namespace ... OK
* checking for hidden files and directories ... OK
* checking for portable file names ... OK
* checking whether package 'BioNet' can be installed ... OK
* checking installed package size ... OK
* checking package directory ... OK
* checking 'build' directory ... OK
* checking DESCRIPTION meta-information ... OK
* checking top-level files ... OK
* checking for left-over files ... OK
* checking index information ... OK
* checking package subdirectories ... OK
* checking code files for non-ASCII characters ... OK
* checking R files for syntax errors ... OK
* checking whether the package can be loaded ... OK
* checking whether the package can be loaded with stated dependencies ... OK
* checking whether the package can be unloaded cleanly ... OK
* checking whether the namespace can be loaded with stated dependencies ... OK
* checking whether the namespace can be unloaded cleanly ... OK
* checking dependencies in R code ... NOTE
Packages in Depends field not imported from:
  'RBGL' 'graph'
  These packages need to be imported from (in the NAMESPACE file)
  for when this namespace is loaded but not attached.
* checking S3 generic/method consistency ... OK
* checking replacement functions ... OK
* checking foreign function calls ... OK
* checking R code for possible problems ... NOTE
.XGMML.edges: no visible global function definition for 'is'
.XGMML.nodes: no visible global function definition for 'is'
.add.edge.attrs: no visible global function definition for 'read.table'
.add.node.attrs: no visible global function definition for 'read.table'
.affyID2ppiID: no visible global function definition for 'is'
.affyID2ppiID: no visible global function definition for 'nodeData'
.graph.eda: no visible global function definition for 'is'
.graph.eda: no visible global function definition for 'write.table'
.graph.noa: no visible global function definition for 'is'
.graph.noa: no visible global function definition for 'write.table'
.graph.sif: no visible global function definition for 'write.table'
.graph.table: no visible global function definition for 'write.table'
.node.color: no visible global function definition for
  'colorRampPalette'
.saveGraph.net: no visible global function definition for 'nodes'
.saveGraph.net: no visible global function definition for 'write.table'
.saveGraph.net: no visible global function definition for 'isDirected'
.saveGraph.net: no visible global function definition for 'eWV'
.saveGraph.net: no visible global function definition for 'edgeMatrix'
.saveGraph.tab: no visible global function definition for 'edgeNames'
.saveGraph.tgf: no visible global function definition for 'write.table'
.saveGraph.tgf: no visible global function definition for 'nodes'
.saveGraph.tgf: no visible global function definition for 'eWV'
.saveGraph.tgf: no visible global function definition for 'edgeMatrix'
.subNetwork0: no visible global function definition for 'is'
.subNetwork0: no visible global function definition for 'na.omit'
.subNetwork0: no visible global function definition for 'subGraph'
.subNetwork0: no visible global function definition for 'nodes'
.subNetwork1: no visible global function definition for 'is'
.subNetwork1: no visible global function definition for 'na.omit'
.subNetwork1: no visible global function definition for 'adj'
.subNetwork1: no visible global function definition for 'subGraph'
.subNetwork1: no visible global function definition for 'nodes'
aggrPvals: no visible global function definition for 'pbeta'
aggrPvals: no visible global function definition for 'hist'
aggrPvals: no visible global function definition for 'par'
bumOptim: no visible global function definition for 'runif'
bumOptim: no visible global function definition for 'optim'
compareNetworks: no visible global function definition for 'is'
compareNetworks: no visible global function definition for 'hist'
compareNetworks: no visible global function definition for 'points'
compareNetworks: no visible global function definition for 'legend'
consensusScores: no visible global function definition for 'is'
consensusScores : <anonymous>: no visible global function definition
  for 'nodes'
consensusScores: no visible global function definition for 'numNodes'
consensusScores: no visible global function definition for 'nodes'
consensusScores: no visible global function definition for 'numEdges'
fitBumModel: no visible global function definition for 'par'
fitBumModel: no visible global function definition for 'hist'
getCompScores: no visible global function definition for 'is'
getCompScores: no visible global function definition for 'connComp'
getEdgeList: no visible global function definition for 'is'
getEdgeList: no visible global function definition for 'edgeMatrix'
getEdgeList: no visible global function definition for 'nodes'
hist.bum: no visible global function definition for 'hist'
hist.bum: no visible global function definition for 'lines'
hist.bum: no visible global function definition for 'abline'
hist.bum: no visible global function definition for 'axis'
largestComp: no visible global function definition for 'is'
largestComp: no visible global function definition for 'connectedComp'
largestComp: no visible global function definition for 'subGraph'
largestScoreComp: no visible global function definition for 'is'
largestScoreComp: no visible global function definition for 'na.omit'
largestScoreComp: no visible global function definition for 'nodes'
largestScoreComp: no visible global function definition for 'subGraph'
loadNetwork.sif: no visible global function definition for 'read.table'
loadNetwork.tab: no visible global function definition for 'new'
loadNetwork.tab: no visible global function definition for 'addEdge'
makeNetwork: no visible global function definition for 'new'
makeNetwork: no visible global function definition for 'addEdge'
permutateNodes: no visible global function definition for 'is'
permutateNodes: no visible global function definition for 'nodes<-'
permutateNodes: no visible global function definition for 'nodes'
plot.bum: no visible binding for global variable 'uniroot'
plot.bum: no visible global function definition for 'lines'
plot3dModule: no visible global function definition for 'is'
plot3dModule: no visible global function definition for 'rgl.open'
plot3dModule: no visible global function definition for 'par3d'
plot3dModule: no visible global function definition for 'rgl.texts'
plot3dModule: no visible global function definition for 'rgl.bg'
plotLLSurface: no visible binding for global variable 'heat.colors'
plotLLSurface: no visible global function definition for
  'filled.contour'
plotLLSurface: no visible global function definition for 'axis'
plotLLSurface: no visible global function definition for 'abline'
plotLLSurface: no visible global function definition for 'strheight'
plotLLSurface: no visible global function definition for 'points'
plotLLSurface: no visible global function definition for 'text'
plotModule: no visible global function definition for 'is'
readHeinzGraph: no visible global function definition for 'is'
readHeinzGraph: no visible global function definition for 'read.table'
readHeinzTree: no visible global function definition for 'read.table'
readHeinzTree: no visible global function definition for 'is'
readHeinzTree: no visible global function definition for 'edgeNames'
readHeinzTree: no visible global function definition for 'removeEdge'
resamplingPvalues: no visible global function definition for
  'rowttests'
resamplingPvalues: no visible binding for global variable 'var'
resamplingPvalues: no visible global function definition for 'pt'
rmSelfLoops: no visible global function definition for 'is'
rmSelfLoops: no visible global function definition for 'edgeNames'
rmSelfLoops: no visible global function definition for 'numEdges'
rmSelfLoops: no visible global function definition for 'removeEdge'
runFastHeinz: no visible global function definition for 'is'
save3dModule: no visible global function definition for 'rgl.bg'
save3dModule: no visible global function definition for
  'rgl.postscript'
saveNetwork: no visible global function definition for 'is'
scoreNodes: no visible global function definition for 'is'
scoreNodes: no visible global function definition for 'nodes'
sortedEdgeList: no visible global function definition for 'is'
sortedEdgeList: no visible global function definition for 'isDirected'
writeHeinz: no visible global function definition for 'is'
writeHeinzEdges: no visible global function definition for 'is'
writeHeinzEdges: no visible global function definition for
  'write.table'
writeHeinzNodes: no visible global function definition for 'is'
writeHeinzNodes: no visible global function definition for
  'write.table'
Undefined global functions or variables:
  abline addEdge adj axis colorRampPalette connComp connectedComp eWV
  edgeMatrix edgeNames filled.contour heat.colors hist is isDirected
  legend lines na.omit new nodeData nodes nodes<- numEdges numNodes
  optim par par3d pbeta points pt read.table removeEdge rgl.bg rgl.open
  rgl.postscript rgl.texts rowttests runif strheight subGraph text
  uniroot var write.table
Consider adding
  importFrom("grDevices", "colorRampPalette", "heat.colors")
  importFrom("graphics", "abline", "axis", "filled.contour", "hist",
             "legend", "lines", "par", "points", "strheight", "text")
  importFrom("methods", "is", "new")
  importFrom("stats", "na.omit", "optim", "pbeta", "pt", "runif",
             "uniroot", "var")
  importFrom("utils", "read.table", "write.table")
to your NAMESPACE file (and ensure that your DESCRIPTION Imports field
contains 'methods').
* checking Rd files ... NOTE
checkRd: (-1) writeHeinz.Rd:29: Escaped LaTeX specials: \$
checkRd: (-1) writeHeinzEdges.Rd:23: Escaped LaTeX specials: \$
* checking Rd metadata ... OK
* checking Rd cross-references ... OK
* checking for missing documentation entries ... OK
* checking for code/documentation mismatches ... OK
* checking Rd \usage sections ... OK
* checking Rd contents ... OK
* checking for unstated dependencies in examples ... OK
* checking contents of 'data' directory ... OK
* checking data for non-ASCII characters ... OK
* checking data for ASCII and uncompressed saves ... OK
* checking sizes of PDF files under 'inst/doc' ... OK
* checking files in 'vignettes' ... OK
* checking examples ... OK
Examples with CPU (user + system) or elapsed time > 5s
              user system elapsed
runFastHeinz 21.02   0.61   21.67
* checking for unstated dependencies in vignettes ... OK
* checking package vignettes ... OK
* checking running R code from vignettes ... SKIPPED
* checking re-building of vignette outputs ... SKIPPED
* checking PDF version of manual ... OK
* DONE

Status: 3 NOTEs
See
  'F:/biocbuild/bbs-3.19-bioc/meat/BioNet.Rcheck/00check.log'
for details.


Installation output

BioNet.Rcheck/00install.out

##############################################################################
##############################################################################
###
### Running command:
###
###   F:\biocbuild\bbs-3.19-bioc\R\bin\R.exe CMD INSTALL BioNet
###
##############################################################################
##############################################################################


* installing to library 'F:/biocbuild/bbs-3.19-bioc/R/library'
* installing *source* package 'BioNet' ...
** using staged installation
** R
** data
** inst
** byte-compile and prepare package for lazy loading
** help
*** installing help indices
** building package indices
** installing vignettes
** testing if installed package can be loaded from temporary location
** testing if installed package can be loaded from final location
** testing if installed package keeps a record of temporary installation path
* DONE (BioNet)

Tests output


Example timings

BioNet.Rcheck/BioNet-Ex.timings

nameusersystemelapsed
aggrPvals0.470.080.54
bumOptim0.710.020.74
compareNetworks1.000.071.28
consensusScores0.250.050.30
fbum000
fbumLL0.690.020.70
fdrThreshold0.760.030.80
fitBumModel1.100.061.16
getCompScores1.370.051.57
getEdgeList0.50.00.5
hist.bum1.180.031.22
largestComp0.970.051.01
largestScoreComp3.660.454.14
loadNetwork.sif000
makeNetwork0.020.000.02
mapByVar000
permutateNodes4.530.154.69
piUpper0.760.020.78
plot.bum1.130.001.12
plot3dModule2.120.092.22
plotLLSurface0.580.040.61
plotModule1.550.031.60
print.bum0.780.030.81
pvaluesExample0.010.000.01
readHeinzGraph0.290.000.30
readHeinzTree0.300.030.32
resamplingPvalues3.110.203.39
rmSelfLoops0.050.000.05
runFastHeinz21.02 0.6121.67
save3dModule1.260.191.45
saveNetwork0.970.061.03
scanFDR0.690.030.72
scoreFunction0.750.070.81
scoreNodes1.670.201.88
scoreOffset0.720.010.73
sortedEdgeList2.060.072.14
subNetwork0.160.000.16
summary.bum0.730.010.75
writeHeinz1.520.081.61
writeHeinzEdges2.180.162.34
writeHeinzNodes1.720.121.84