Back to Multiple platform build/check report for BioC 3.19:   simplified   long
A[B]CDEFGHIJKLMNOPQRSTUVWXYZ

This page was generated on 2024-06-18 17:58 -0400 (Tue, 18 Jun 2024).

HostnameOSArch (*)R versionInstalled pkgs
nebbiolo1Linux (Ubuntu 22.04.3 LTS)x86_644.4.0 (2024-04-24) -- "Puppy Cup" 4758
palomino3Windows Server 2022 Datacenterx644.4.0 (2024-04-24 ucrt) -- "Puppy Cup" 4492
merida1macOS 12.7.4 Montereyx86_644.4.0 (2024-04-24) -- "Puppy Cup" 4464
kjohnson1macOS 13.6.6 Venturaarm644.4.0 (2024-04-24) -- "Puppy Cup" 4464
Click on any hostname to see more info about the system (e.g. compilers)      (*) as reported by 'uname -p', except on Windows and Mac OS X

Package 151/2300HostnameOS / ArchINSTALLBUILDCHECKBUILD BIN
BEARscc 1.24.0  (landing page)
Benjamin Schuster-Boeckler
Snapshot Date: 2024-06-16 14:00 -0400 (Sun, 16 Jun 2024)
git_url: https://git.bioconductor.org/packages/BEARscc
git_branch: RELEASE_3_19
git_last_commit: 44d2522
git_last_commit_date: 2024-04-30 11:03:44 -0400 (Tue, 30 Apr 2024)
nebbiolo1Linux (Ubuntu 22.04.3 LTS) / x86_64  OK    OK    OK  UNNEEDED, same version is already published
palomino3Windows Server 2022 Datacenter / x64  OK    OK    OK    OK  UNNEEDED, same version is already published
merida1macOS 12.7.4 Monterey / x86_64  OK    OK    OK    OK  UNNEEDED, same version is already published
kjohnson1macOS 13.6.6 Ventura / arm64  OK    OK    OK    OK  UNNEEDED, same version is already published


CHECK results for BEARscc on palomino3

To the developers/maintainers of the BEARscc package:
- Allow up to 24 hours (and sometimes 48 hours) for your latest push to git@git.bioconductor.org:packages/BEARscc.git to reflect on this report. See Troubleshooting Build Report for more information.
- Use the following Renviron settings to reproduce errors and warnings.
- If 'R CMD check' started to fail recently on the Linux builder(s) over a missing dependency, add the missing dependency to 'Suggests:' in your DESCRIPTION file. See Renviron.bioc for more information.

raw results


Summary

Package: BEARscc
Version: 1.24.0
Command: F:\biocbuild\bbs-3.19-bioc\R\bin\R.exe CMD check --no-multiarch --install=check:BEARscc.install-out.txt --library=F:\biocbuild\bbs-3.19-bioc\R\library --no-vignettes --timings BEARscc_1.24.0.tar.gz
StartedAt: 2024-06-17 00:44:04 -0400 (Mon, 17 Jun 2024)
EndedAt: 2024-06-17 00:51:18 -0400 (Mon, 17 Jun 2024)
EllapsedTime: 433.6 seconds
RetCode: 0
Status:   OK  
CheckDir: BEARscc.Rcheck
Warnings: 0

Command output

##############################################################################
##############################################################################
###
### Running command:
###
###   F:\biocbuild\bbs-3.19-bioc\R\bin\R.exe CMD check --no-multiarch --install=check:BEARscc.install-out.txt --library=F:\biocbuild\bbs-3.19-bioc\R\library --no-vignettes --timings BEARscc_1.24.0.tar.gz
###
##############################################################################
##############################################################################


* using log directory 'F:/biocbuild/bbs-3.19-bioc/meat/BEARscc.Rcheck'
* using R version 4.4.0 (2024-04-24 ucrt)
* using platform: x86_64-w64-mingw32
* R was compiled by
    gcc.exe (GCC) 13.2.0
    GNU Fortran (GCC) 13.2.0
* running under: Windows Server 2022 x64 (build 20348)
* using session charset: UTF-8
* using option '--no-vignettes'
* checking for file 'BEARscc/DESCRIPTION' ... OK
* checking extension type ... Package
* this is package 'BEARscc' version '1.24.0'
* checking package namespace information ... OK
* checking package dependencies ... OK
* checking if this is a source package ... OK
* checking if there is a namespace ... OK
* checking for hidden files and directories ... OK
* checking for portable file names ... OK
* checking whether package 'BEARscc' can be installed ... OK
* checking installed package size ... OK
* checking package directory ... OK
* checking 'build' directory ... OK
* checking DESCRIPTION meta-information ... OK
* checking top-level files ... OK
* checking for left-over files ... OK
* checking index information ... OK
* checking package subdirectories ... OK
* checking code files for non-ASCII characters ... OK
* checking R files for syntax errors ... OK
* checking whether the package can be loaded ... OK
* checking whether the package can be loaded with stated dependencies ... OK
* checking whether the package can be unloaded cleanly ... OK
* checking whether the namespace can be loaded with stated dependencies ... OK
* checking whether the namespace can be unloaded cleanly ... OK
* checking dependencies in R code ... OK
* checking S3 generic/method consistency ... OK
* checking replacement functions ... OK
* checking foreign function calls ... OK
* checking R code for possible problems ... OK
* checking Rd files ... OK
* checking Rd metadata ... OK
* checking Rd cross-references ... OK
* checking for missing documentation entries ... OK
* checking for code/documentation mismatches ... OK
* checking Rd \usage sections ... OK
* checking Rd contents ... OK
* checking for unstated dependencies in examples ... OK
* checking contents of 'data' directory ... OK
* checking data for non-ASCII characters ... OK
* checking data for ASCII and uncompressed saves ... OK
* checking sizes of PDF files under 'inst/doc' ... OK
* checking files in 'vignettes' ... OK
* checking examples ... OK
Examples with CPU (user + system) or elapsed time > 5s
                         user system elapsed
estimate_noiseparameters 8.99   1.80   10.99
simulate_replicates      6.73   1.61    8.54
* checking for unstated dependencies in 'tests' ... OK
* checking tests ...
  Running 'testthat.R'
 OK
* checking for unstated dependencies in vignettes ... OK
* checking package vignettes ... OK
* checking running R code from vignettes ... SKIPPED
* checking re-building of vignette outputs ... SKIPPED
* checking PDF version of manual ... OK
* DONE

Status: OK


Installation output

BEARscc.Rcheck/00install.out

##############################################################################
##############################################################################
###
### Running command:
###
###   F:\biocbuild\bbs-3.19-bioc\R\bin\R.exe CMD INSTALL BEARscc
###
##############################################################################
##############################################################################


* installing to library 'F:/biocbuild/bbs-3.19-bioc/R/library'
* installing *source* package 'BEARscc' ...
** using staged installation
** R
** data
** inst
** byte-compile and prepare package for lazy loading
** help
*** installing help indices
** building package indices
** installing vignettes
** testing if installed package can be loaded from temporary location
** testing if installed package can be loaded from final location
** testing if installed package keeps a record of temporary installation path
* DONE (BEARscc)

Tests output

BEARscc.Rcheck/tests/testthat.Rout


R version 4.4.0 (2024-04-24 ucrt) -- "Puppy Cup"
Copyright (C) 2024 The R Foundation for Statistical Computing
Platform: x86_64-w64-mingw32/x64

R is free software and comes with ABSOLUTELY NO WARRANTY.
You are welcome to redistribute it under certain conditions.
Type 'license()' or 'licence()' for distribution details.

R is a collaborative project with many contributors.
Type 'contributors()' for more information and
'citation()' on how to cite R or R packages in publications.

Type 'demo()' for some demos, 'help()' for on-line help, or
'help.start()' for an HTML browser interface to help.
Type 'q()' to quit R.

> library(testthat)
> library(BEARscc)
> 
> test_check("BEARscc")

[1] "Running BEARscc on example data to test for correct installation."

[1] "Fitting parameter alpha to establish spike-in derived noise model."
[1] "Estimating error for spike-ins with alpha = 0"
[1] "Estimating error for spike-ins with alpha = 0.25"
[1] "Estimating error for spike-ins with alpha = 0.5"
[1] "Estimating error for spike-ins with alpha = 0.75"
[1] "Estimating error for spike-ins with alpha = 1"
[1] "There are adequate spike-in drop-outs to build the drop-out model. Estimating the drop-out model now."

[1] "Injecting noise for testing..."
[1] "Creating a simulated replicated counts matrix: 1."
[1] "Creating a simulated replicated counts matrix: 2."
[1] "Creating a simulated replicated counts matrix: 3."

[1] "Creating consensus matrix for testing..."

[1] "Computing cluster and cell metrics for testing..."
[ FAIL 0 | WARN 13 | SKIP 0 | PASS 25 ]

[ FAIL 0 | WARN 13 | SKIP 0 | PASS 25 ]
> 
> proc.time()
   user  system elapsed 
  21.17    8.84   30.17 

Example timings

BEARscc.Rcheck/BEARscc-Ex.timings

nameusersystemelapsed
BEARscc_examples0.010.030.04
analysis_examples0.050.020.06
cluster_consensus0.040.020.07
compute_consensus0.110.040.15
estimate_noiseparameters 8.99 1.8010.99
report_cell_metrics0.450.250.70
report_cluster_metrics0.940.111.38
simulate_replicates6.731.618.54