Back to Multiple platform build/check report for BioC 3.16:   simplified   long
[A]BCDEFGHIJKLMNOPQRSTUVWXYZ

This page was generated on 2023-02-07 11:05:28 -0500 (Tue, 07 Feb 2023).

HostnameOSArch (*)R versionInstalled pkgs
nebbiolo2Linux (Ubuntu 20.04.5 LTS)x86_644.2.2 (2022-10-31) -- "Innocent and Trusting" 4511
palomino4Windows Server 2022 Datacenterx644.2.2 (2022-10-31 ucrt) -- "Innocent and Trusting" 4289
lconwaymacOS 12.5.1 Montereyx86_644.2.2 (2022-10-31) -- "Innocent and Trusting" 4318
Click on any hostname to see more info about the system (e.g. compilers)      (*) as reported by 'uname -p', except on Windows and Mac OS X

BUILD results for ALDEx2 on nebbiolo2


To the developers/maintainers of the ALDEx2 package:
- Please allow up to 24 hours (and sometimes 48 hours) for your latest push to git@git.bioconductor.org:packages/ALDEx2.git to
reflect on this report. See How and When does the builder pull? When will my changes propagate? for more information.
- Make sure to use the following settings in order to reproduce any error or warning you see on this page.

raw results

Package 38/2183HostnameOS / ArchINSTALLBUILDCHECKBUILD BIN
ALDEx2 1.30.0  (landing page)
Greg Gloor
Snapshot Date: 2023-02-06 14:00:04 -0500 (Mon, 06 Feb 2023)
git_url: https://git.bioconductor.org/packages/ALDEx2
git_branch: RELEASE_3_16
git_last_commit: cb66705
git_last_commit_date: 2022-11-01 11:10:23 -0500 (Tue, 01 Nov 2022)
nebbiolo2Linux (Ubuntu 20.04.5 LTS) / x86_64  OK    OK    OK  UNNEEDED, same version is already published
palomino4Windows Server 2022 Datacenter / x64  OK    OK    OK    OK  UNNEEDED, same version is already published
lconwaymacOS 12.5.1 Monterey / x86_64  OK    OK    OK    OK  UNNEEDED, same version is already published

Summary

Package: ALDEx2
Version: 1.30.0
Command: /home/biocbuild/bbs-3.16-bioc/R/bin/R CMD build --keep-empty-dirs --no-resave-data ALDEx2
StartedAt: 2023-02-06 15:49:45 -0500 (Mon, 06 Feb 2023)
EndedAt: 2023-02-06 15:50:37 -0500 (Mon, 06 Feb 2023)
EllapsedTime: 52.8 seconds
RetCode: 0
Status:   OK  
PackageFile: ALDEx2_1.30.0.tar.gz
PackageFileSize: 1017 KiB

Command output

##############################################################################
##############################################################################
###
### Running command:
###
###   /home/biocbuild/bbs-3.16-bioc/R/bin/R CMD build --keep-empty-dirs --no-resave-data ALDEx2
###
##############################################################################
##############################################################################


* checking for file ‘ALDEx2/DESCRIPTION’ ... OK
* preparing ‘ALDEx2’:
* checking DESCRIPTION meta-information ... OK
* installing the package to build vignettes
* creating vignettes ... OK
* checking for LF line-endings in source and make files and shell scripts
* checking for empty or unneeded directories
* looking to see if a ‘data/datalist’ file should be added
* building ‘ALDEx2_1.30.0.tar.gz’