Back to Multiple platform build/check report for BioC 3.16
[A]BCDEFGHIJKLMNOPQRSTUVWXYZ

This page was generated on 2022-11-30 11:05:22 -0500 (Wed, 30 Nov 2022).

HostnameOSArch (*)R versionInstalled pkgs
nebbiolo2Linux (Ubuntu 20.04.5 LTS)x86_644.2.2 (2022-10-31) -- "Innocent and Trusting" 4503
palomino4Windows Server 2022 Datacenterx644.2.2 (2022-10-31 ucrt) -- "Innocent and Trusting" 4278
lconwaymacOS 12.5.1 Montereyx86_644.2.2 (2022-10-31) -- "Innocent and Trusting" 4309
Click on any hostname to see more info about the system (e.g. compilers)      (*) as reported by 'uname -p', except on Windows and Mac OS X

CHECK results for ALDEx2 on nebbiolo2


To the developers/maintainers of the ALDEx2 package:
- Please allow up to 24 hours (and sometimes 48 hours) for your latest push to git@git.bioconductor.org:packages/ALDEx2.git to
reflect on this report. See How and When does the builder pull? When will my changes propagate? for more information.
- Make sure to use the following settings in order to reproduce any error or warning you see on this page.

raw results

Package 38/2183HostnameOS / ArchINSTALLBUILDCHECKBUILD BIN
ALDEx2 1.30.0  (landing page)
Greg Gloor
Snapshot Date: 2022-11-29 14:00:04 -0500 (Tue, 29 Nov 2022)
git_url: https://git.bioconductor.org/packages/ALDEx2
git_branch: RELEASE_3_16
git_last_commit: cb66705
git_last_commit_date: 2022-11-01 11:10:23 -0500 (Tue, 01 Nov 2022)
nebbiolo2Linux (Ubuntu 20.04.5 LTS) / x86_64  OK    OK    OK  UNNEEDED, same version is already published
palomino4Windows Server 2022 Datacenter / x64  OK    OK    OK    OK  UNNEEDED, same version is already published
lconwaymacOS 12.5.1 Monterey / x86_64  OK    OK    OK    OK  UNNEEDED, same version is already published

Summary

Package: ALDEx2
Version: 1.30.0
Command: /home/biocbuild/bbs-3.16-bioc/R/bin/R CMD check --install=check:ALDEx2.install-out.txt --library=/home/biocbuild/bbs-3.16-bioc/R/library --timings ALDEx2_1.30.0.tar.gz
StartedAt: 2022-11-29 18:47:33 -0500 (Tue, 29 Nov 2022)
EndedAt: 2022-11-29 18:51:14 -0500 (Tue, 29 Nov 2022)
EllapsedTime: 220.6 seconds
RetCode: 0
Status:   OK  
CheckDir: ALDEx2.Rcheck
Warnings: 0

Command output

##############################################################################
##############################################################################
###
### Running command:
###
###   /home/biocbuild/bbs-3.16-bioc/R/bin/R CMD check --install=check:ALDEx2.install-out.txt --library=/home/biocbuild/bbs-3.16-bioc/R/library --timings ALDEx2_1.30.0.tar.gz
###
##############################################################################
##############################################################################


* using log directory ‘/home/biocbuild/bbs-3.16-bioc/meat/ALDEx2.Rcheck’
* using R version 4.2.2 (2022-10-31)
* using platform: x86_64-pc-linux-gnu (64-bit)
* using session charset: UTF-8
* checking for file ‘ALDEx2/DESCRIPTION’ ... OK
* checking extension type ... Package
* this is package ‘ALDEx2’ version ‘1.30.0’
* checking package namespace information ... OK
* checking package dependencies ... OK
* checking if this is a source package ... OK
* checking if there is a namespace ... OK
* checking for hidden files and directories ... OK
* checking for portable file names ... OK
* checking for sufficient/correct file permissions ... OK
* checking whether package ‘ALDEx2’ can be installed ... OK
* checking installed package size ... OK
* checking package directory ... OK
* checking ‘build’ directory ... OK
* checking DESCRIPTION meta-information ... OK
* checking top-level files ... OK
* checking for left-over files ... OK
* checking index information ... OK
* checking package subdirectories ... OK
* checking R files for non-ASCII characters ... OK
* checking R files for syntax errors ... OK
* checking whether the package can be loaded ... OK
* checking whether the package can be loaded with stated dependencies ... OK
* checking whether the package can be unloaded cleanly ... OK
* checking whether the namespace can be loaded with stated dependencies ... OK
* checking whether the namespace can be unloaded cleanly ... OK
* checking dependencies in R code ... OK
* checking S3 generic/method consistency ... OK
* checking replacement functions ... OK
* checking foreign function calls ... OK
* checking R code for possible problems ... OK
* checking Rd files ... OK
* checking Rd metadata ... OK
* checking Rd cross-references ... OK
* checking for missing documentation entries ... OK
* checking for code/documentation mismatches ... OK
* checking Rd \usage sections ... OK
* checking Rd contents ... OK
* checking for unstated dependencies in examples ... OK
* checking contents of ‘data’ directory ... OK
* checking data for non-ASCII characters ... OK
* checking data for ASCII and uncompressed saves ... OK
* checking files in ‘vignettes’ ... OK
* checking examples ... OK
Examples with CPU (user + system) or elapsed time > 5s
             user system elapsed
aldex.corr 14.722  0.288  15.012
* checking for unstated dependencies in ‘tests’ ... OK
* checking tests ...
  Running ‘testthat.R’
 OK
* checking for unstated dependencies in vignettes ... OK
* checking package vignettes in ‘inst/doc’ ... OK
* checking running R code from vignettes ...
  ‘ALDEx2_vignette.Rmd’ using ‘UTF-8’... OK
 NONE
* checking re-building of vignette outputs ... OK
* checking PDF version of manual ... OK
* DONE

Status: OK


Installation output

ALDEx2.Rcheck/00install.out

##############################################################################
##############################################################################
###
### Running command:
###
###   /home/biocbuild/bbs-3.16-bioc/R/bin/R CMD INSTALL ALDEx2
###
##############################################################################
##############################################################################


* installing to library ‘/home/biocbuild/bbs-3.16-bioc/R/library’
* installing *source* package ‘ALDEx2’ ...
** using staged installation
** R
** data
** inst
** byte-compile and prepare package for lazy loading
** help
*** installing help indices
** building package indices
** installing vignettes
** testing if installed package can be loaded from temporary location
** testing if installed package can be loaded from final location
** testing if installed package keeps a record of temporary installation path
* DONE (ALDEx2)

Tests output

ALDEx2.Rcheck/tests/testthat.Rout


R version 4.2.2 (2022-10-31) -- "Innocent and Trusting"
Copyright (C) 2022 The R Foundation for Statistical Computing
Platform: x86_64-pc-linux-gnu (64-bit)

R is free software and comes with ABSOLUTELY NO WARRANTY.
You are welcome to redistribute it under certain conditions.
Type 'license()' or 'licence()' for distribution details.

R is a collaborative project with many contributors.
Type 'contributors()' for more information and
'citation()' on how to cite R or R packages in publications.

Type 'demo()' for some demos, 'help()' for on-line help, or
'help.start()' for an HTML browser interface to help.
Type 'q()' to quit R.

> library(testthat)
> library(ALDEx2)
Loading required package: zCompositions
Loading required package: MASS
Loading required package: NADA
Loading required package: survival

Attaching package: 'NADA'

The following object is masked from 'package:stats':

    cor

Loading required package: truncnorm
> 
> test_check("ALDEx2")
[ FAIL 0 | WARN 4 | SKIP 0 | PASS 22 ]

[ FAIL 0 | WARN 4 | SKIP 0 | PASS 22 ]
> 
> proc.time()
   user  system elapsed 
 30.251   1.051  31.292 

Example timings

ALDEx2.Rcheck/ALDEx2-Ex.timings

nameusersystemelapsed
ALDEx2m-package000
aldex1.3320.1041.437
aldex.clr-class0.0520.0000.052
aldex.clr.function-methods0.0490.0040.053
aldex.corr14.722 0.28815.012
aldex.effect0.1780.0000.178
aldex.glm3.0080.0203.029
aldex.glm.effect0.3820.0120.394
aldex.kw1.6260.0081.634
aldex.plotFeature0.0940.0000.094
aldex.set.mode0.050.000.05
aldex.ttest0.1440.0000.143
expectedDistance0.3390.0160.354
getDenom-method0.0920.0000.092
getDirichletInstances-method0.0490.0000.049
getDirichletReplicate-method0.0590.0000.059
getDirichletSample-method0.0520.0000.053
getFeatureNames-method0.0510.0000.052
getFeatures-method0.0520.0000.053
getMonteCarloInstances-method0.0520.0000.053
getMonteCarloReplicate-method0.0810.0000.081
getMonteCarloSample-method0.0550.0000.056
getReads-method0.0510.0000.050
getSampleIDs-method0.050.000.05
numConditions-method0.0460.0040.050
numFeatures-method0.0500.0000.049
numMCInstances-method0.0470.0000.047
plot.aldex000